{"text_format":"1","workbook":"xlsx","n_sheets":6,"sheets":["Inputs","price data","Returns & Stand Dev","Corr. Matrix","Var-Cov Matrix","Graph"],"not_rendered":{"charts":1,"images":1,"macros":1,"external_links":0,"defined_names":1543,"comments":0,"pivot_tables":0},"unopened":[],"bounds":{"document_bytes":16777216,"sheet_cells":100000,"rows_first":2000,"rows_last":500,"rows_between":2000,"halvings":0,"cell_chars":16384,"cell_head_chars":4096},"cells_cut":0,"cells_raw":0,"read":"row_number_cap","date_system":"1900"}

{"sheet":"Inputs","index":0,"n_rows":1048576,"n_cols":9,"rows_kept":4500,"cut":true,"hidden":false,"merged":[],"bounds":{"rows_first":2000,"rows_last":500,"rows_between":2000,"halvings":0},"read":"row_number_cap"}
["Am I Diversified? An Exercise for Finance Students"]
["Developed by Bill Reese and Russ Robins"]
[]
["Today's date",{"$f":"TODAY()","v":"2025-01-30"},"Place the ticker symbols for the 30 stocks you select in the cells C15-C44 and click the \"Download\" cell. This spreadsheet will do the rest."]
["Start date  ",{"$f":"DATE(YEAR(B4)-5,MONTH(B4)-1,1)","v":"2019-12-01"},"The adjusted closing prices for those 30 stocks and for the S&P 500 will be downloaded from Yahoo! Finance for the most recent 61 months."]
["End date  ",{"$f":"DATE(YEAR(B4), MONTH(B4)-1,28)","v":"2024-12-28"},"The program will calculate the standard deviations of the monthly returns, build a correlation matrix, and a variance/covariance matrix."]
[null,null,"The standard deviations for 30 different equally-weighted portfolios will be calculated and graphed against the number of stocks in each portfolio."]
[null,null,"The solid black line on the graph is the standard deviation of the S&P 500."]
[]
[]
[]
[]
[]
[null,null,"Ticker Symbol"]
[null,1,"rcl"]
[null,2,"tsla"]
[null,3,"ual"]
[null,4,"ba"]
[null,5,"nvda"]
[null,6,"hog"]
[null,7,"f"]
[null,8,"meta"]
[null,9,"pzza"]
[null,10,"xom"]
[null,11,"cmg"]
[null,12,"pru"]
[null,13,"cat"]
[null,14,"lly"]
[null,15,"aapl"]
[null,16,"jpm"]
[null,17,"mmm"]
[null,18,"ma"]
[null,19,"googl"]
[null,20,"pfe"]
[null,21,"yum"]
[null,22,"grmn"]
[null,23,"hd"]
[null,24,"ibm"]
[null,25,"kr"]
[null,26,"t"]
[null,27,"msft"]
[null,28,"mcd"]
[null,29,"wmt"]
[null,30,"ko"]
[]
[]
[]
[]
[]
[]
[]
[]
[]
[]
[]
[]
[]
[]
[]
[]
[]
[]
[]
[]
[]
[]
[]
[]
[]
[]
[]
[]
[]
[]
[]
[]
[]
[]
[]
[]
[]
[]
[]
[]
[]
[]
[]
[]
[]
[]
[]
[]
[]
[]
[]
[]
[]
[]
[]
[]
[]
[]
[]
[]
[]
[]
[]
[]
[]
[]
[]
[]
[]
[]
[]
[]
[]
[]
[]
[]
[]
[]
[]
[]
[]
[]
[]
[]
[]
[]
[]
[]
[]
[]
[]
[]
[]
[]
[]
[]
[]
[]
[]
[]
[]
[]
[]
[]
[]
[]
[]
[]
[]
[]
[]
[]
[]
[]
[]
[]
[]
[]
[]
[]
[]
[]
[]
[]
[]
[]
[]
[]
[]
[]
[]
[]
[]
[]
[]
[]
[]
[]
[]
[]
[]
[]
[]
[]
[]
[]
[]
[]
[]
[]
[]
[]
[]
[]
[]
[]
[]
[]
[]
[]
[]
[]
[]
[]
[]
[]
[]
[]
[]
[]
[]
[]
[]
[]
[]
[]
[]
[]
[]
[]
[]
[]
[]
[]
[]
[]
[]
[]
[]
[]
[]
[]
[]
[]
[]
[]
[]
[]
[]
[]
[]
[]
[]
[]
[]
[]
[]
[]
[]
[]
[]
[]
[]
[]
[]
[]
[]
[]
[]
[]
[]
[]
[]
[]
[]
[]
[]
[]
[]
[]
[]
[]
[]
[]
[]
[]
[]
[]
[]
[]
[]
[]
[]
[]
[]
[]
[]
[]
[]
[]
[]
[]
[]
[]
[]
[]
[]
[]
[]
[]
[]
[]
[]
[]
[]
[]
[]
[]
[]
[]
[]
[]
[]
[]
[]
[]
[]
[]
[]
[]
[]
[]
[]
[]
[]
[]
[]
[]
[]
[]
[]
[]
[]
[]
[]
[]
[]
[]
[]
[]
[]
[]
[]
[]
[]
[]
[]
[]
[]
[]
[]
[]
[]
[]
[]
[]
[]
[]
[]
[]
[]
[]
[]
[]
[]
[]
[]
[]
[]
[]
[]
[]
[]
[]
[]
[]
[]
[]
[]
[]
[]
[]
[]
[]
[]
[]
[]
[]
[]
[]
[]
[]
[]
[]
[]
[]
[]
[]
[]
[]
[]
[]
[]
[]
[]
[]
[]
[]
[]
[]
[]
[]
[]
[]
[]
[]
[]
[]
[]
[]
[]
[]
[]
[]
[]
[]
[]
[]
[]
[]
[]
[]
[]
[]
[]
[]
[]
[]
[]
[]
[]
[]
[]
[]
[]
[]
[]
[]
[]
[]
[]
[]
[]
[]
[]
[]
[]
[]
[]
[]
[]
[]
[]
[]
[]
[]
[]
[]
[]
[]
[]
[]
[]
[]
[]
[]
[]
[]
[]
[]
[]
[]
[]
[]
[]
[]
[]
[]
[]
[]
[]
[]
[]
[]
[]
[]
[]
[]
[]
[]
[]
[]
[]
[]
[]
[]
[]
[]
[]
[]
[]
[]
[]
[]
[]
[]
[]
[]
[]
[]
[]
[]
[]
[]
[]
[]
[]
[]
[]
[]
[]
[]
[]
[]
[]
[]
[]
[]
[]
[]
[]
[]
[]
[]
[]
[]
[]
[]
[]
[]
[]
[]
[]
[]
[]
[]
[]
[]
[]
[]
[]
[]
[]
[]
[]
[]
[]
[]
[]
[]
[]
[]
[]
[]
[]
[]
[]
[]
[]
[]
[]
[]
[]
[]
[]
[]
[]
[]
[]
[]
[]
[]
[]
[]
[]
[]
[]
[]
[]
[]
[]
[]
[]
[]
[]
[]
[]
[]
[]
[]
[]
[]
[]
[]
[]
[]
[]
[]
[]
[]
[]
[]
[]
[]
[]
[]
[]
[]
[]
[]
[]
[]
[]
[]
[]
[]
[]
[]
[]
[]
[]
[]
[]
[]
[]
[]
[]
[]
[]
[]
[]
[]
[]
[]
[]
[]
[]
[]
[]
[]
[]
[]
[]
[]
[]
[]
[]
[]
[]
[]
[]
[]
[]
[]
[]
[]
[]
[]
[]
[]
[]
[]
[]
[]
[]
[]
[]
[]
[]
[]
[]
[]
[]
[]
[]
[]
[]
[]
[]
[]
[]
[]
[]
[]
[]
[]
[]
[]
[]
[]
[]
[]
[]
[]
[]
[]
[]
[]
[]
[]
[]
[]
[]
[]
[]
[]
[]
[]
[]
[]
[]
[]
[]
[]
[]
[]
[]
[]
[]
[]
[]
[]
[]
[]
[]
[]
[]
[]
[]
[]
[]
[]
[]
[]
[]
[]
[]
[]
[]
[]
[]
[]
[]
[]
[]
[]
[]
[]
[]
[]
[]
[]
[]
[]
[]
[]
[]
[]
[]
[]
[]
[]
[]
[]
[]
[]
[]
[]
[]
[]
[]
[]
[]
[]
[]
[]
[]
[]
[]
[]
[]
[]
[]
[]
[]
[]
[]
[]
[]
[]
[]
[]
[]
[]
[]
[]
[]
[]
[]
[]
[]
[]
[]
[]
[]
[]
[]
[]
[]
[]
[]
[]
[]
[]
[]
[]
[]
[]
[]
[]
[]
[]
[]
[]
[]
[]
[]
[]
[]
[]
[]
[]
[]
[]
[]
[]
[]
[]
[]
[]
[]
[]
[]
[]
[]
[]
[]
[]
[]
[]
[]
[]
[]
[]
[]
[]
[]
[]
[]
[]
[]
[]
[]
[]
[]
[]
[]
[]
[]
[]
[]
[]
[]
[]
[]
[]
[]
[]
[]
[]
[]
[]
[]
[]
[]
[]
[]
[]
[]
[]
[]
[]
[]
[]
[]
[]
[]
[]
[]
[]
[]
[]
[]
[]
[]
[]
[]
[]
[]
[]
[]
[]
[]
[]
[]
[]
[]
[]
[]
[]
[]
[]
[]
[]
[]
[]
[]
[]
[]
[]
[]
[]
[]
[]
[]
[]
[]
[]
[]
[]
[]
[]
[]
[]
[]
[]
[]
[]
[]
[]
[]
[]
[]
[]
[]
[]
[]
[]
[]
[]
[]
[]
[]
[]
[]
[]
[]
[]
[]
[]
[]
[]
[]
[]
[]
[]
[]
[]
[]
[]
[]
[]
[]
[]
[]
[]
[]
[]
[]
[]
[]
[]
[]
[]
[]
[]
[]
[]
[]
[]
[]
[]
[]
[]
[]
[]
[]
[]
[]
[]
[]
[]
[]
[]
[]
[]
[]
[]
[]
[]
[]
[]
[]
[]
[]
[]
[]
[]
[]
[]
[]
[]
[]
[]
[]
[]
[]
[]
[]
[]
[]
[]
[]
[]
[]
[]
[]
[]
[]
[]
[]
[]
[]
[]
[]
[]
[]
[]
[]
[]
[]
[]
[]
[]
[]
[]
[]
[]
[]
[]
[]
[]
[]
[]
[]
[]
[]
[]
[]
[]
[]
[]
[]
[]
[]
[]
[]
[]
[]
[]
[]
[]
[]
[]
[]
[]
[]
[]
[]
[]
[]
[]
[]
[]
[]
[]
[]
[]
[]
[]
[]
[]
[]
[]
[]
[]
[]
[]
[]
[]
[]
[]
[]
[]
[]
[]
[]
[]
[]
[]
[]
[]
[]
[]
[]
[]
[]
[]
[]
[]
[]
[]
[]
[]
[]
[]
[]
[]
[]
[]
[]
[]
[]
[]
[]
[]
[]
[]
[]
[]
[]
[]
[]
[]
[]
[]
[]
[]
[]
[]
[]
[]
[]
[]
[]
[]
[]
[]
[]
[]
[]
[]
[]
[]
[]
[]
[]
[]
[]
[]
[]
[]
[]
[]
[]
[]
[]
[]
[]
[]
[]
[]
[]
[]
[]
[]
[]
[]
[]
[]
[]
[]
[]
[]
[]
[]
[]
[]
[]
[]
[]
[]
[]
[]
[]
[]
[]
[]
[]
[]
[]
[]
[]
[]
[]
[]
[]
[]
[]
[]
[]
[]
[]
[]
[]
[]
[]
[]
[]
[]
[]
[]
[]
[]
[]
[]
[]
[]
[]
[]
[]
[]
[]
[]
[]
[]
[]
[]
[]
[]
[]
[]
[]
[]
[]
[]
[]
[]
[]
[]
[]
[]
[]
[]
[]
[]
[]
[]
[]
[]
[]
[]
[]
[]
[]
[]
[]
[]
[]
[]
[]
[]
[]
[]
[]
[]
[]
[]
[]
[]
[]
[]
[]
[]
[]
[]
[]
[]
[]
[]
[]
[]
[]
[]
[]
[]
[]
[]
[]
[]
[]
[]
[]
[]
[]
[]
[]
[]
[]
[]
[]
[]
[]
[]
[]
[]
[]
[]
[]
[]
[]
[]
[]
[]
[]
[]
[]
[]
[]
[]
[]
[]
[]
[]
[]
[]
[]
[]
[]
[]
[]
[]
[]
[]
[]
[]
[]
[]
[]
[]
[]
[]
[]
[]
[]
[]
[]
[]
[]
[]
[]
[]
[]
[]
[]
[]
[]
[]
[]
[]
[]
[]
[]
[]
[]
[]
[]
[]
[]
[]
[]
[]
[]
[]
[]
[]
[]
[]
[]
[]
[]
[]
[]
[]
[]
[]
[]
[]
[]
[]
[]
[]
[]
[]
[]
[]
[]
[]
[]
[]
[]
[]
[]
[]
[]
[]
[]
[]
[]
[]
[]
[]
[]
[]
[]
[]
[]
[]
[]
[]
[]
[]
[]
[]
[]
[]
[]
[]
[]
[]
[]
[]
[]
[]
[]
[]
[]
[]
[]
[]
[]
[]
[]
[]
[]
[]
[]
[]
[]
[]
[]
[]
[]
[]
[]
[]
[]
[]
[]
[]
[]
[]
[]
[]
[]
[]
[]
[]
[]
[]
[]
[]
[]
[]
[]
[]
[]
[]
[]
[]
[]
[]
[]
[]
[]
[]
[]
[]
[]
[]
[]
[]
[]
[]
[]
[]
[]
[]
[]
[]
[]
[]
[]
[]
[]
[]
[]
[]
[]
[]
[]
[]
[]
[]
[]
[]
[]
[]
[]
[]
[]
[]
[]
[]
[]
[]
[]
[]
[]
[]
[]
[]
[]
[]
[]
[]
[]
[]
[]
[]
[]
[]
[]
[]
[]
[]
[]
[]
[]
[]
[]
[]
[]
[]
[]
[]
[]
[]
[]
[]
[]
[]
[]
[]
[]
[]
[]
[]
[]
[]
[]
[]
[]
[]
[]
[]
[]
[]
[]
[]
[]
[]
[]
[]
[]
[]
[]
[]
[]
[]
[]
[]
[]
[]
[]
[]
[]
[]
[]
[]
[]
[]
[]
[]
[]
[]
[]
[]
[]
[]
[]
[]
[]
[]
[]
[]
[]
[]
[]
[]
[]
[]
[]
[]
[]
[]
[]
[]
[]
[]
[]
[]
[]
[]
[]
[]
[]
[]
[]
[]
[]
[]
[]
[]
[]
[]
[]
[]
[]
[]
[]
[]
[]
[]
[]
[]
[]
[]
[]
[]
[]
[]
[]
[]
[]
[]
[]
[]
[]
[]
[]
[]
[]
[]
[]
[]
[]
[]
[]
[]
[]
[]
[]
[]
[]
[]
[]
[]
[]
[]
[]
[]
[]
[]
[]
[]
[]
[]
[]
[]
[]
[]
[]
[]
[]
[]
[]
[]
[]
[]
[]
[]
[]
[]
[]
[]
[]
[]
[]
[]
[]
[]
[]
[]
[]
[]
[]
[]
[]
[]
[]
[]
[]
[]
[]
[]
[]
[]
[]
[]
[]
[]
[]
[]
[]
[]
[]
[]
[]
[]
[]
[]
[]
[]
[]
[]
[]
[]
[]
[]
[]
[]
[]
[]
[]
[]
[]
[]
[]
[]
[]
[]
[]
[]
[]
[]
[]
[]
[]
[]
[]
[]
[]
[]
[]
[]
[]
[]
[]
[]
[]
[]
[]
[]
[]
[]
[]
[]
[]
[]
[]
[]
[]
[]
[]
[]
[]
[]
[]
[]
[]
[]
[]
[]
[]
[]
[]
[]
[]
[]
[]
[]
[]
[]
[]
[]
[]
[]
[]
[]
[]
[]
[]
[]
[]
[]
[]
[]
[]
[]
[]
[]
[]
[]
[]
[]
[]
[]
[]
[]
[]
[]
[]
[]
[]
[]
[]
[]
[]
[]
[]
[]
[]
[]
[]
[]
[]
[]
[]
[]
[]
[]
[]
[]
[]
[]
[]
[]
[]
[]
[]
[]
[]
[]
[]
[]
[]
[]
[]
[]
[]
[]
[]
[]
[]
[]
[]
[]
[]
[]
[]
[]
[]
[]
[]
[]
[]
[]
[]
[]
[]
[]
[]
[]
[]
[]
[]
[]
[]
[]
[]
[]
[]
[]
[]
[]
[]
[]
[]
[]
[]
[]
[]
[]
[]
[]
[]
[]
[]
[]
[]
[]
[]
[]
[]
[]
[]
[]
[]
[]
[]
[]
[]
[]
[]
[]
[]
[]
[]
[]
[]
[]
[]
[]
[]
[]
[]
[]
[]
[]
[]
[]
[]
[]
[]
[]
[]
[]
[]
[]
[]
[]
[]
[]
[]
[]
[]
[]
[]
[]
[]
[]
[]
[]
[]
[]
[]
[]
[]
[]
[]
[]
[]
[]
[]
[]
[]
[]
[]
[]
[]
[]
[]
[]
[]
[]
[]
[]
[]
[]
[]
[]
[]
[]
[]
[]
[]
[]
[]
[]
[]
[]
[]
[]
[]
[]
[]
[]
[]
[]
[]
[]
[]
[]
[]
[]
[]
[]
[]
[]
[]
[]
[]
[]
[]
[]
[]
[]
[]
[]
[]
[]
[]
[]
[]
[]
[]
[]
[]
[]
[]
[]
[]
[]
[]
[]
[]
[]
[]
[]
[]
[]
[]
[]
[]
[]
[]
[]
[]
[]
[]
[]
[]
[]
[]
[]
[]
[]
[]
[]
[]
[]
[]
[]
[]
[]
[]
[]
[]
[]
[]
[]
[]
[]
[]
[]
[]
[]
[]
[]
[]
[]
[]
[]
[]
[]
[]
[]
[]
[]
[]
[]
[]
[]
[]
[]
[]
[]
[]
[]
[]
[]
[]
[]
[]
[]
[]
[]
[]
[]
[]
[]
[]
[]
[]
[]
[]
[]
[]
[]
[]
[]
[]
[]
[]
[]
[]
[]
[]
[]
[]
[]
[]
[]
[]
[]
[]
[]
[]
[]
[]
[]
[]
[]
[]
[]
[]
[]
[]
[]
[]
[]
[]
[]
[]
[]
[]
[]
[]
[]
[]
[]
[]
[]
[]
[]
[]
[]
[]
[]
[]
[]
[]
[]
[]
[]
[]
[]
[]
[]
[]
[]
[]
[]
[]
[]
[]
[]
[]
[]
[]
[]
[]
[]
[]
[]
[]
[]
[]
[]
[]
[]
[]
[]
[]
[]
[]
[]
[]
[]
[]
[]
[]
[]
[]
[]
[]
[]
[]
[]
[]
[]
[]
[]
[]
[]
[]
[]
[]
[]
[]
[]
[]
[]
[]
[]
[]
[]
[]
[]
[]
[]
[]
[]
[]
[]
[]
[]
[]
[]
[]
[]
[]
[]
[]
[]
[]
[]
[]
[]
[]
[]
[]
[]
[]
[]
[]
[]
[]
[]
[]
[]
[]
[]
[]
[]
[]
[]
[]
[]
[]
[]
[]
[]
[]
[]
[]
[]
[]
[]
[]
[]
[]
[]
[]
[]
[]
[]
[]
[]
[]
[]
[]
[]
[]
[]
[]
[]
[]
[]
[]
[]
[]
[]
[]
[]
[]
[]
[]
[]
[]
[]
[]
[]
[]
[]
[]
[]
[]
[]
[]
[]
[]
[]
[]
[]
[]
[]
[]
[]
[]
[]
[]
[]
[]
[]
[]
[]
[]
[]
[]
[]
[]
[]
[]
[]
[]
[]
[]
[]
[]
[]
[]
[]
[]
[]
[]
[]
[]
[]
[]
[]
[]
[]
[]
[]
[]
[]
[]
[]
[]
[]
[]
[]
[]
[]
[]
[]
[]
[]
[]
[]
[]
[]
[]
[]
[]
[]
[]
[]
[]
[]
[]
[]
[]
[]
[]
[]
[]
[]
[]
[]
[]
[]
[]
[]
[]
[]
[]
[]
[]
[]
[]
[]
[]
[]
[]
[]
[]
[]
[]
[]
[]
[]
[]
[]
[]
[]
[]
[]
[]
[]
[]
[]
[]
[]
[]
[]
[]
[]
[]
[]
[]
[]
[]
[]
[]
[]
[]
[]
[]
[]
[]
[]
[]
[]
[]
[]
[]
[]
[]
[]
[]
[]
[]
[]
[]
[]
[]
[]
[]
[]
[]
[]
[]
[]
[]
[]
[]
[]
[]
[]
[]
[]
[]
[]
[]
[]
[]
[]
[]
[]
[]
[]
[]
[]
[]
[]
[]
[]
[]
[]
[]
[]
[]
[]
[]
[]
[]
[]
[]
[]
[]
[]
[]
[]
[]
[]
[]
[]
[]
[]
[]
[]
[]
[]
[]
[]
[]
[]
[]
[]
[]
[]
[]
[]
[]
[]
[]
[]
[]
[]
[]
[]
[]
[]
[]
[]
[]
[]
[]
[]
[]
[]
[]
[]
[]
[]
[]
[]
[]
[]
[]
[]
[]
[]
[]
[]
[]
[]
[]
[]
[]
[]
[]
[]
[]
[]
[]
[]
[]
[]
[]
[]
[]
[]
[]
[]
[]
[]
[]
[]
[]
[]
[]
[]
[]
[]
[]
[]
[]
[]
[]
[]
[]
[]
[]
[]
[]
[]
[]
[]
[]
[]
[]
[]
[]
[]
[]
[]
[]
[]
[]
[]
[]
[]
[]
[]
[]
[]
[]
[]
[]
[]
[]
[]
[]
[]
[]
[]
[]
[]
[]
[]
[]
[]
[]
[]
[]
[]
[]
[]
[]
[]
[]
[]
[]
[]
[]
[]
[]
[]
[]
[]
[]
[]
[]
[]
[]
[]
[]
[]
[]
[]
[]
[]
[]
[]
[]
[]
[]
[]
[]
[]
[]
[]
[]
[]
[]
[]
[]
[]
[]
[]
[]
[]
[]
[]
[]
[]
[]
[]
[]
[]
[]
[]
[]
[]
[]
[]
[]
[]
[]
[]
[]
[]
[]
[]
[]
[]
[]
[]
[]
[]
[]
[]
[]
[]
[]
[]
[]
[]
[]
[]
[]
[]
[]
[]
[]
[]
[]
[]
[]
[]
[]
[]
[]
[]
[]
[]
[]
[]
[]
[]
[]
[]
[]
[]
[]
[]
[]
[]
[]
[]
[]
[]
[]
[]
[]
[]
[]
[]
[]
[]
[]
[]
[]
[]
[]
[]
[]
[]
[]
[]
[]
[]
[]
[]
[]
[]
[]
[]
[]
[]
[]
[]
[]
[]
[]
[]
[]
[]
[]
[]
[]
[]
[]
[]
[]
[]
[]
[]
[]
[]
[]
[]
[]
[]
[]
[]
[]
[]
[]
[]
[]
[]
[]
[]
[]
[]
[]
[]
[]
[]
[]
[]
[]
[]
[]
[]
[]
[]
[]
[]
[]
[]
[]
[]
[]
[]
[]
[]
[]
[]
[]
[]
[]
[]
[]
[]
[]
[]
[]
[]
[]
[]
[]
[]
[]
[]
[]
[]
[]
[]
[]
[]
[]
[]
[]
[]
[]
[]
[]
[]
[]
[]
[]
[]
[]
[]
[]
[]
[]
[]
[]
[]
[]
[]
[]
[]
[]
[]
[]
[]
[]
[]
[]
[]
[]
[]
[]
[]
[]
[]
[]
[]
[]
[]
[]
[]
[]
[]
[]
[]
[]
[]
[]
[]
[]
[]
[]
[]
[]
[]
[]
[]
[]
[]
[]
[]
[]
[]
[]
[]
[]
[]
[]
[]
[]
[]
[]
[]
[]
[]
[]
[]
[]
[]
[]
[]
[]
[]
[]
[]
[]
[]
[]
[]
[]
[]
[]
[]
[]
[]
[]
[]
[]
[]
[]
[]
[]
[]
[]
[]
[]
[]
[]
[]
[]
[]
[]
[]
[]
[]
[]
[]
[]
[]
[]
[]
[]
[]
[]
[]
[]
[]
[]
[]
[]
[]
[]
[]
[]
[]
[]
[]
[]
[]
[]
[]
[]
[]
[]
[]
[]
[]
[]
[]
[]
[]
[]
[]
[]
[]
[]
[]
[]
[]
[]
[]
[]
[]
[]
[]
[]
[]
[]
[]
[]
[]
[]
[]
[]
[]
[]
[]
[]
[]
[]
[]
[]
[]
[]
[]
[]
[]
[]
[]
[]
[]
[]
[]
[]
[]
[]
[]
[]
[]
[]
[]
[]
[]
[]
[]
[]
[]
[]
[]
[]
[]
[]
[]
[]
[]
[]
[]
[]
[]
[]
[]
[]
[]
[]
[]
[]
[]
[]
[]
[]
[]
[]
[]
[]
[]
[]
[]
[]
[]
[]
[]
[]
[]
[]
[]
[]
[]
[]
[]
[]
[]
[]
[]
[]
[]
[]
[]
[]
[]
[]
[]
[]
[]
[]
[]
[]
[]
[]
[]
[]
[]
[]
[]
[]
[]
[]
[]
[]
[]
[]
[]
[]
[]
[]
[]
[]
[]
[]
[]
[]
[]
[]
[]
[]
[]
[]
[]
[]
[]
[]
[]
[]
[]
[]
[]
[]
[]
[]
[]
[]
[]
[]
[]
[]
[]
[]
[]
[]
[]
[]
[]
[]
[]
[]
[]
[]
[]
[]
[]
[]
[]
[]
[]
[]
[]
[]
[]
[]
[]
[]
[]
[]
[]
[]
[]
[]
[]
[]
[]
[]
[]
[]
[]
[]
[]
[]
[]
[]
[]
[]
[]
[]
[]
[]
[]
[]
[]
[]
[]
[]
[]
[]
[]
[]
[]
[]
[]
[]
[]
[]
[]
[]
[]
[]
[]
[]
[]
[]
[]
[]
[]
[]
[]
[]
[]
[]
[]
[]
[]
[]
[]
[]
[]
[]
[]
[]
[]
[]
[]
[]
[]
[]
[]
[]
[]
[]
[]
[]
[]
[]
[]
[]
[]
[]
[]
[]
[]
[]
[]
[]
[]
[]
[]
[]
[]
[]
[]
[]
[]
[]
[]
[]
[]
[]
[]
[]
[]
[]
[]
[]
[]
[]
[]
[]
[]
[]
[]
[]
[]
[]
[]
[]
[]
[]
[]
[]
[]
[]
[]
[]
[]
[]
[]
[]
[]
[]
[]
[]
[]
[]
[]
[]
[]
[]
[]
[]
[]
[]
[]
[]
[]
[]
[]
[]
[]
[]
[]
[]
[]
[]
[]
[]
[]
[]
[]
[]
[]
[]
[]
[]
[]
[]
[]
[]
[]
[]
[]
[]
[]
[]
[]
[]
[]
[]
[]
[]
[]
[]
[]
[]
[]
[]
[]
[]
[]
[]
[]
[]
[]
[]
[]
[]
[]
[]
[]
[]
[]
[]
[]
[]
[]
[]
[]
[]
[]
[]
[]
[]
[]
[]
[]
[]
[]
[]
[]
[]
[]
[]
[]
[]
[]
[]
[]
[]
[]
[]
[]
[]
[]
[]
[]
[]
[]
[]
[]
[]
[]
[]
[]
[]
[]
[]
[]
[]
[]
[]
[]
[]
[]
[]
[]
[]
[]
[]
[]
[]
[]
[]
[]
[]
[]
[]
[]
[]
[]
[]
[]
[]
[]
[]
[]
[]
[]
[]
[]
[]
[]
[]
[]
[]
[]
[]
[]
[]
[]
[]
[]
[]
[]
[]
[]
[]
[]
[]
[]
[]
[]
[]
[]
[]
[]
[]
[]
[]
[]
[]
[]
[]
[]
[]
[]
[]
[]
[]
[]
[]
[]
[]
[]
[]
[]
[]
[]
[]
[]
[]
[]
[]
[]
[]
[]
[]
[]
[]
[]
[]
[]
[]
[]
[]
[]
[]
[]
[]
[]
[]
[]
[]
[]
[]
[]
[]
[]
[]
[]
[]
[]
[]
[]
[]
[]
[]
[]
[]
[]
[]
[]
[]
[]
[]
[]
[]
[]
[]
[]
[]
[]
[]
[]
[]
[]
[]
[]
[]
[]
[]
[]
[]
[]
[]
[]
[]
[]
[]
[]
[]
[]
[]
[]
[]
[]
[]
[]
[]
[]
[]
[]
[]
[]
[]
[]
[]
[]
[]
[]
[]
[]
[]
[]
[]
[]
[]
[]
[]
[]
[]
[]
[]
[]
[]
[]
[]
[]
[]
[]
[]
[]
[]
[]
[]
[]
[]
[]
[]
[]
[]
[]
[]
[]
[]
[]
[]
[]
[]
[]
[]
[]
[]
[]
[]
[]
[]
[]
[]
[]
[]
[]
[]
[]
[]
[]
[]
[]
[]
[]
[]
[]
[]
[]
[]
[]
[]
[]
[]
[]
[]
[]
[]
[]
[]
[]
[]
[]
[]
[]
[]
[]
[]
[]
[]
[]
[]
[]
[]
[]
[]
[]
[]
[]
[]
[]
[]
[]
[]
[]
[]
[]
[]
[]
[]
[]
[]
[]
[]
[]
[]
[]
[]
[]
[]
[]
[]
[]
[]
[]
[]
[]
[]
[]
[]
[]
[]
[]
[]
[]
[]
[]
[]
[]
[]
[]
[]
[]
[]
[]
[]
[]
[]
[]
[]
[]
[]
[]
[]
[]
[]
[]
[]
[]
[]
[]
[]
[]
[]
[]
[]
[]
[]
[]
[]
[]
[]
[]
[]
[]
[]
[]
[]
[]
[]
[]
[]
[]
[]
[]
[]
[]
[]
[]
[]
[]
[]
[]
[]
[]
[]
[]
[]
[]
[]
[]
[]
[]
[]
[]
[]
[]
[]
[]
[]
[]
[]
[]
[]
[]
[]
[]
[]
[]
[]
[]
[]
[]
[]
[]
[]
[]
[]
[]
[]
[]
[]
[]
[]
[]
[]
[]
[]
[]
[]
[]
[]
[]
[]
[]
[]
[]
[]
[]
[]
[]
[]
[]
[]
[]
[]
[]
[]
[]
[]
[]
[]
[]
[]
[]
[]
[]
[]
[]
[]
[]
[]
[]
[]
[]
[]
[]
[]
[]
[]
[]
[]
[]
[]
[]
[]
[]
[]
[]
[]
[]
[]
[]
[]
[]
[]
[]
[]
[]
[]
[]
[]
[]
[]
[]
[]
[]
[]
[]
[]
[]
[]
[]
[]
[]
[]
[]
[]
[]
[]
[]
[]
[]
[]
[]
[]
[]
[]
[]
[]
[]
[]
[]
[]
[]
[]
[]
[]
[]
[]
[]
[]
[]
[]
[]
[]
[]
[]
[]
[]
[]
[]
[]
[]
[]
[]
[]
[]
[]
[]
[]
[]
[]
[]
[]
[]
[]
[]
[]
[]
[]
[]
[]
[]
[]
[]
[]
[]
[]
[]
[]
[]
[]
[]
[]
[]
[]
[]
[]
[]
[]
[]
[]
[]
[]
[]
[]
[]
[]
[]
[]
[]
[]
[]
[]
[]
[]
[]
[]
[]
[]
[]
[]
[]
[]
[]
[]
[]
[]
[]
[]
[]
[]
[]
[]
[]
[]
[]
[]
[]
[]
[]
[]
[]
[]
[]
[]
[]
[]
[]
[]
[]
[]
[]
[]
[]
[]
[]
[]
[]
[]
[]
[]
[]
[]
[]
[]
[]
[]
[]
[]
[]
[]
[]
[]
[]
[]
[]
[]
[]
[]
[]
[]
[]
[]
[]
[]
[]
[]
[]
[]
[]
[]
[]
[]
[]
[]
[]
[]
[]
[]
[]
[]
[]
[]
[]
[]
[]
[]
[]
[]
[]
[]
[]
[]
[]
[]
[]
[]
[]
[]
[]
[]
[]
[]
[]
[]
[]
[]
[]
[]
[]
[]
[]
[]
[]
[]
[]
[]
[]
[]
[]
[]
[]
[]
[]
[]
[]
[]
[]
[]
[]
[]
[]
[]
[]
[]
[]
[]
[]
[]
[]
[]
[]
[]
[]
[]
[]
[]
[]
[]
[]
[]
[]
[]
[]
[]
[]
[]
[]
[]
[]
[]
[]
[]
[]
[]
[]
[]
[]
[]
[]
[]
[]
[]
[]
[]
[]
[]
[]
[]
[]
[]
[]
[]
[]
[]
[]
[]
[]
[]
[]
[]
[]
[]
[]
[]
[]
[]
[]
[]
[]
[]
[]
[]
[]
[]
[]
[]
[]
[]
[]
[]
[]
[]
[]
[]
[]
[]
[]
[]
[]
[]
[]
[]
[]
[]
[]
[]
[]
[]
[]
[]
[]
[]
[]
[]
[]
[]
[]
[]
[]
[]
[]
[]
[]
[]
[]
[]
[]
[]
[]
[]
[]
[]
[]
[]
[]
[]
[]
[]
[]
[]
[]
[]
[]
[]
[]
[]
[]
[]
[]
[]
[]
[]
[]
[]
[]
[]
[]
[]
[]
[]
[]
[]
[]
[]
[]
[]
[]
[]
[]
[]
[]
[]
[]
[]
[]
[]
[]
[]
[]
[]
[]
[]
[]
[]
[]
[]
[]
[]
[]
[]
[]
[]
[]
[]
[]
[]
[]
[]
[]
[]
[]
[]
[]
[]
[]
[]
[]
[]
[]
[]
[]
[]
["m"]
["^GSPC",null,null,null,null,null,null,null,"^GSPC"]

{"sheet":"price data","index":1,"n_rows":66,"n_cols":32,"rows_kept":66,"cut":false,"hidden":false,"merged":[]}
["Date",{"$f":"Inputs!C15","v":"rcl"},{"$f":"Inputs!C16","v":"tsla"},{"$f":"Inputs!C17","v":"ual"},{"$f":"Inputs!C18","v":"ba"},{"$f":"Inputs!C19","v":"nvda"},{"$f":"Inputs!C20","v":"hog"},{"$f":"Inputs!C21","v":"f"},{"$f":"Inputs!C22","v":"meta"},{"$f":"Inputs!C23","v":"pzza"},{"$f":"Inputs!C24","v":"xom"},{"$f":"Inputs!C25","v":"cmg"},{"$f":"Inputs!C26","v":"pru"},{"$f":"Inputs!C27","v":"cat"},{"$f":"Inputs!C28","v":"lly"},{"$f":"Inputs!C29","v":"aapl"},{"$f":"Inputs!C30","v":"jpm"},{"$f":"Inputs!C31","v":"mmm"},{"$f":"Inputs!C32","v":"ma"},{"$f":"Inputs!C33","v":"googl"},{"$f":"Inputs!C34","v":"pfe"},{"$f":"Inputs!C35","v":"yum"},{"$f":"Inputs!C36","v":"grmn"},{"$f":"Inputs!C37","v":"hd"},{"$f":"Inputs!C38","v":"ibm"},{"$f":"Inputs!C39","v":"kr"},{"$f":"Inputs!C40","v":"t"},{"$f":"Inputs!C41","v":"msft"},{"$f":"Inputs!C42","v":"mcd"},{"$f":"Inputs!C43","v":"wmt"},{"$f":"Inputs!C44","v":"ko"},"IVV"]
[{"$f":"D65","v":"2019-12-01"},{"$f":"_xlfn.STOCKHISTORY(B1,$D$65,$D$66,2,0,1)","v":133.51},{"$f":"_xlfn.STOCKHISTORY(C1,$D$65,$D$66,2,0,1)","v":27.888400000000001},{"$f":"_xlfn.STOCKHISTORY(D1,$D$65,$D$66,2,0,1)","v":88.09},{"$f":"_xlfn.STOCKHISTORY(E1,$D$65,$D$66,2,0,1)","v":325.76},{"$f":"_xlfn.STOCKHISTORY(F1,$D$65,$D$66,2,0,1)","v":5.8825000000000003},{"$f":"_xlfn.STOCKHISTORY(G1,$D$65,$D$66,2,0,1)","v":37.19},{"$f":"_xlfn.STOCKHISTORY(H1,$D$65,$D$66,2,0,1)","v":9.3000000000000007},{"$f":"_xlfn.STOCKHISTORY(I1,$D$65,$D$66,2,0,1)","v":205.25},{"$f":"_xlfn.STOCKHISTORY(J1,$D$65,$D$66,2,0,1)","v":63.15},{"$f":"_xlfn.STOCKHISTORY(K1,$D$65,$D$66,2,0,1)","v":69.78},{"$f":"_xlfn.STOCKHISTORY(L1,$D$65,$D$66,2,0,1)","v":16.7422},{"$f":"_xlfn.STOCKHISTORY(M1,$D$65,$D$66,2,0,1)","v":93.74},{"$f":"_xlfn.STOCKHISTORY(N1,$D$65,$D$66,2,0,1)","v":147.68},{"$f":"_xlfn.STOCKHISTORY(O1,$D$65,$D$66,2,0,1)","v":131.43},{"$f":"_xlfn.STOCKHISTORY(P1,$D$65,$D$66,2,0,1)","v":73.412499999999994},{"$f":"_xlfn.STOCKHISTORY(Q1,$D$65,$D$66,2,0,1)","v":139.4},{"$f":"_xlfn.STOCKHISTORY(R1,$D$65,$D$66,2,0,1)","v":147.50120000000001},{"$f":"_xlfn.STOCKHISTORY(S1,$D$65,$D$66,2,0,1)","v":298.58999999999997},{"$f":"_xlfn.STOCKHISTORY(T1,$D$65,$D$66,2,0,1)","v":66.969499999999996},{"$f":"_xlfn.STOCKHISTORY(U1,$D$65,$D$66,2,0,1)","v":37.140700000000002},{"$f":"_xlfn.STOCKHISTORY(V1,$D$65,$D$66,2,0,1)","v":100.73},{"$f":"_xlfn.STOCKHISTORY(W1,$D$65,$D$66,2,0,1)","v":97.56},{"$f":"_xlfn.STOCKHISTORY(X1,$D$65,$D$66,2,0,1)","v":218.38},{"$f":"_xlfn.STOCKHISTORY(Y1,$D$65,$D$66,2,0,1)","v":134.04},{"$f":"_xlfn.STOCKHISTORY(Z1,$D$65,$D$66,2,0,1)","v":28.99},{"$f":"_xlfn.STOCKHISTORY(AA1,$D$65,$D$66,2,0,1)","v":29.5124},{"$f":"_xlfn.STOCKHISTORY(AB1,$D$65,$D$66,2,0,1)","v":157.69999999999999},{"$f":"_xlfn.STOCKHISTORY(AC1,$D$65,$D$66,2,0,1)","v":197.61},{"$f":"_xlfn.STOCKHISTORY(AD1,$D$65,$D$66,2,0,1)","v":39.612900000000003},{"$f":"_xlfn.STOCKHISTORY(AE1,$D$65,$D$66,2,0,1)","v":55.35},{"$f":"_xlfn.STOCKHISTORY(AF1,$D$65,$D$66,2,0,1)","v":323.24}]
[{"$f":"EDATE(A2,1)","v":"2020-01-01"},117.08,43.370899999999999,74.8,318.27,5.9108000000000001,33.4,8.82,201.91,64.78,62.12,17.3352,91.06,131.35,139.63999999999999,77.377499999999998,132.36000000000001,132.6525,315.94,71.638999999999996,35.301699999999997,105.77,96.95,228.1,143.72999999999999,26.86,28.4099,170.23,213.97,38.162999999999997,58.4,323.24]
[{"$f":"EDATE(A3,1)","v":"2020-02-01"},80.41,44.532200000000003,61.59,275.11,6.7518000000000002,30.47,6.96,192.47,57.61,51.44,15.4716,75.45,124.24,126.13,68.34,116.11,124.7766,290.25,66.962500000000006,31.680499999999999,89.25,88.39,217.84,130.15,28.13,26.5974,162.01,194.17,35.893000000000001,53.49,295.91000000000003]
["2020-03-01",32.17,34.933,31.55,149.13999999999999,6.59,18.93,4.83,166.8,53.37,37.97,13.087999999999999,52.14,116.04,138.72,63.572499999999998,90.03,114.13330000000001,241.56,58.097499999999997,30.941099999999999,68.53,74.959999999999994,186.71,110.93,30.12,22.013500000000001,157.71,165.35,37.872999999999998,44.25,258.39999999999998]
[{"$f":"EDATE(A5,1)","v":"2020-04-01"},46.77,52.1248,29.58,141.02000000000001,7.3070000000000004,21.83,5.09,204.71,71.92,46.47,17.571000000000002,62.37,116.38,154.63999999999999,73.45,95.76,127.01730000000001,274.97000000000003,67.334999999999994,36.363399999999999,86.43,81.16,219.83,125.56,31.61,23.010300000000001,179.21,187.56,40.516300000000001,45.89,291.16000000000003]
["2020-05-01",51.87,55.6661,28.04,145.85,8.8755000000000006,21.34,5.71,225.09,77.89,45.47,20.078199999999999,60.96,120.13,152.94999999999999,79.484999999999999,97.31,130.79640000000001,300.89,71.676000000000002,36.202199999999998,89.73,90.17,248.48,124.9,32.619999999999997,23.3049,183.25,186.32,41.352899999999998,46.68,305.18]
["2020-06-01",50.3,71.986599999999996,34.61,183.3,9.4977999999999998,23.77,6.08,227.07,79.41,44.72,21.0472,60.9,126.5,164.18,91.2,94.06,130.42009999999999,295.7,70.902500000000003,30.998000000000001,86.91,97.5,250.51,120.77,33.85,22.8291,203.51,184.47,39.926299999999998,44.68,309.69]
["2020-07-01",48.71,95.382999999999996,31.38,158,10.614800000000001,26.03,6.61,253.67,94.67,42.08,23.103200000000001,63.37,132.88,150.29,106.26,96.64,125.80500000000001,308.52999999999997,74.397499999999994,36.4771,91.05,98.59,265.49,122.94,34.79,22.338200000000001,205.01,194.28,43.132899999999999,47.24,327.82]
["2020-08-01",68.84,166.10499999999999,36,171.82,13.374499999999999,27.71,6.82,293.2,98.29,39.94,26.2056,67.77,142.31,148.38999999999999,129.04,100.19,136.2978,358.19,81.476500000000001,35.823,95.85,103.61,285.04000000000002,123.31,35.68,22.511900000000001,225.53,213.52,46.282899999999998,49.53,350.77]
["2020-09-01",64.73,143.00190000000001,34.75,165.26,13.5305,24.54,6.66,261.89999999999998,82.28,34.33,24.874199999999998,63.52,149.15,148.02000000000001,115.81,96.27,133.92330000000001,338.17,73.28,34.7898,91.3,94.86,277.70999999999998,121.67,33.909999999999997,21.530200000000001,210.33,219.49,46.636200000000002,49.37,336.06]
["2020-10-01",56.42,129.34540000000001,33.86,144.38999999999999,12.534000000000001,32.880000000000003,7.73,263.11,76.599999999999994,32.619999999999997,24.029599999999999,64.02,157.05000000000001,130.46,108.86,98.04,133.73939999999999,288.64,80.805499999999995,33.633299999999998,93.33,104.02,266.70999999999998,111.66,32.21,20.405000000000001,202.47,213,46.249499999999998,48.06,327.62]
["2020-11-01",78.81,189.19810000000001,45.05,210.71,13.4015,40.29,9.08,276.97000000000003,80.36,38.130000000000003,25.788599999999999,75.62,173.59,145.65,119.05,117.88,144.4161,336.51,87.72,38.31,105.8,116.76,277.41000000000003,123.52,33,21.711400000000001,214.07,217.44,50.929499999999997,51.6,363.32]
["2020-12-01",74.69,235.221,43.25,214.06,13.055,36.700000000000003,8.7899999999999991,273.16000000000003,84.85,41.22,27.734200000000001,78.069999999999993,182.02,168.84,132.69,127.07,146.13839999999999,356.94,87.632000000000005,36.81,108.56,119.66,265.62,125.88,31.76,21.719000000000001,222.42,214.58,48.049500000000002,54.84,375.39]
["2021-01-01",65,264.50740000000002,39.99,194.19,12.989800000000001,40.090000000000003,10.53,258.33,102.28,44.84,29.6,78.28,182.84,207.97,131.96,128.66999999999999,146.86580000000001,316.29000000000002,91.367999999999995,35.9,101.49,114.86,270.82,119.11,34.5,21.620799999999999,231.96,207.84,46.829500000000003,48.15,371.52]
["2021-02-01",93.27,225.1644,52.68,212.01,13.714499999999999,35.67,11.7,257.62,90.19,54.37,28.84,86.72,215.88,204.89,121.26,147.16999999999999,146.36420000000001,353.85,101.0955,33.49,103.53,124.02,258.33999999999997,118.93,32.21,21.062000000000001,232.38,206.14,43.306199999999997,48.99,381.77]
["2021-03-01",85.61,222.64109999999999,57.54,254.72,13.3483,40.1,12.25,294.52999999999997,88.64,55.83,28.416399999999999,91.1,231.87,186.82,122.15,152.22999999999999,161.0959,356.05,103.126,36.229999999999997,108.18,131.85,305.25,133.26,35.99,22.859300000000001,235.77,224.14,45.276200000000003,52.71,397.82]
["2021-04-01",86.95,236.4776,54.4,234.31,15.009499999999999,48.37,11.54,325.08,96.72,57.24,29.840599999999998,100.36,228.11,182.77,131.46,153.81,164.82480000000001,382.06,117.675,38.65,119.52,137.24,323.67,141.88,36.54,23.720199999999998,252.18,236.08,46.636200000000002,53.98,418.88]
["2021-05-01",93.27,208.40459999999999,58.35,247.02,16.244499999999999,48.47,14.53,328.73,93.95,58.37,27.439599999999999,106.97,241.08,199.74,124.61,164.24,169.7577,360.58,117.8425,38.729999999999997,119.97,142.24,318.91000000000003,143.74,36.979999999999997,22.224900000000002,249.68,233.89,47.3429,55.29,421.65]
["2021-06-01",85.28,226.56440000000001,52.29,239.56,20.002500000000001,45.82,14.86,347.71,104.44,63.08,31.006799999999998,102.47,217.63,229.52,136.96,155.54,166.07060000000001,365.09,122.0895,39.159999999999997,115.03,144.63999999999999,318.89,146.59,38.31,21.734100000000002,270.89999999999998,230.99,47.0062,54.11,429.92]
["2021-07-01",76.87,229.06440000000001,46.72,226.48,19.498999999999999,39.619999999999997,13.95,356.3,114.12,57.57,37.268799999999999,100.28,206.75,243.5,145.86000000000001,151.78,165.49369999999999,385.94,134.72649999999999,42.81,131.38999999999999,157.19999999999999,328.19,140.96,40.700000000000003,21.1828,284.91000000000003,242.71,47.516199999999998,57.03,440.4]
["2021-08-01",82.73,245.23750000000001,46.51,219.5,22.385000000000002,39.53,13.03,379.38,127.53,54.52,38.066600000000001,105.88,210.87,258.29000000000002,151.83000000000001,159.94999999999999,162.81819999999999,346.23,144.69749999999999,46.07,131.03,174.43,326.18,140.34,46.03,20.707000000000001,301.88,237.46,49.366199999999999,56.31,453.71]
["2021-09-01",88.95,258.4907,47.57,219.94,20.716000000000001,36.61,14.16,339.39,126.99,58.82,36.3504,105.2,191.97,231.05,141.5,163.69,146.6652,347.68,133.67599999999999,43.01,122.31,155.46,328.26,138.93,40.43,20.397400000000001,281.92,241.11,46.459499999999998,52.47,430.82]
["2021-10-01",84.43,371.32960000000003,46.14,207.03,25.567,36.49,17.079999999999998,323.57,124.08,64.47,35.580599999999997,110.05,204.01,254.76,149.80000000000001,169.89,149.39080000000001,335.52,148.04599999999999,43.74,124.94,143.6,371.74,125.1,40.020000000000003,19.075800000000001,331.62,245.55,49.806199999999997,56.37,460.99]
["2021-11-01",69.819999999999993,381.5829,42.26,197.85,32.676000000000002,36.630000000000003,19.190000000000001,324.45999999999998,121.92,59.84,32.868200000000002,102.26,193.35,248.04,165.3,158.83000000000001,142.167,314.92,141.89750000000001,53.73,122.84,133.54,400.61,117.1,41.53,17.2408,330.59,244.6,46.876199999999997,52.45,457.63]
["2021-12-01",76.900000000000006,352.25650000000002,43.78,201.32,29.411000000000001,37.69,20.77,336.35,133.47,61.19,34.965000000000003,108.24,206.74,276.22000000000003,177.57,158.35,148.5129,359.32,144.852,59.05,138.86000000000001,136.16999999999999,415.01,133.66,45.26,18.577400000000001,336.32,268.07,48.229500000000002,59.21,476.99]
["2022-01-01",77.81,312.23689999999999,42.88,200.24,24.486000000000001,34.57,20.3,313.26,123.45,75.959999999999994,29.711600000000001,111.57,201.56,245.39,174.78,148.6,138.80600000000001,386.38,135.30350000000001,52.69,125.17,124.42,366.98,133.57,43.59,19.257100000000001,310.98,259.45,46.602899999999998,61.01,451.77]
["2022-02-01",80.72,290.1404,44.4,205.34,24.385000000000002,41.3,17.559999999999999,211.03,106.82,78.42,30.466999999999999,111.66,187.58,249.95,165.12,141.80000000000001,124.2833,360.82,135.05699999999999,46.94,122.58,110.44,315.83,122.51,46.8,17.8902,298.79000000000002,244.77,45.052900000000001,62.24,438.72]
["2022-03-01",83.78,359.19639999999998,46.36,191.5,27.286000000000001,39.4,16.91,222.36,105.28,82.59,31.640599999999999,118.17,222.82,286.37,174.61,136.32,124.4756,357.38,139.0675,51.77,118.53,118.61,299.33,130.02000000000001,57.37,17.844899999999999,308.31,247.28,49.639499999999998,62,453.69]
["2022-04-01",77.73,290.25040000000001,50.5,148.84,18.547000000000001,36.450000000000003,14.16,200.47,91.05,85.25,29.112200000000001,108.51,210.54,292.13,157.65,119.36,120.5795,363.38,114.1095,49.07,117.01,109.74,300.39999999999998,132.21,53.96,18.86,277.52,249.16,50.996200000000002,64.61,413.56]
["2022-05-01",58.07,252.7508,47.63,131.4,18.672000000000001,35.18,13.68,193.64,88.01,96,28.050999999999998,106.25,215.85,313.44,148.84,132.22999999999999,124.8184,357.87,113.762,53.04,121.47,105.62,302.75,138.84,52.97,21.29,271.87,252.21,42.876199999999997,63.38,414.87]
["2022-06-01",34.909999999999997,224.47110000000001,35.42,136.72,15.159000000000001,31.66,11.13,161.25,83.52,85.64,26.145199999999999,95.68,178.76,324.23,136.72,112.61,108.19710000000001,315.48,108.96299999999999,52.43,113.51,98.25,274.27,141.19,47.33,20.96,256.83,246.88,40.526299999999999,62.91,379.15]
["2022-07-01",38.71,297.14699999999999,36.75,159.31,18.163,37.81,14.69,159.1,95.89,96.93,31.284400000000002,99.99,198.25,329.69,162.51,115.36,119.76009999999999,353.79,116.32,50.51,122.54,97.62,300.94,130.79,46.44,18.78,280.74,263.37,44.016199999999998,64.17,414.28]
["2022-08-01",40.85,275.61,35.01,160.25,15.093999999999999,38.57,15.24,162.93,80.83,95.59,31.936,95.75,184.71,301.23,157.22,113.73,103.9665,324.37,108.22,45.23,111.24,88.49,288.42,128.44999999999999,47.94,17.54,261.47000000000003,252.28,44.182899999999997,61.71,397.18]
["2022-09-01",37.9,265.25,32.53,121.08,12.138999999999999,34.880000000000003,11.2,135.68,70.010000000000005,87.31,30.055199999999999,85.78,164.08,323.35000000000002,138.19999999999999,104.5,92.386799999999994,284.33999999999997,95.65,43.76,106.34,80.31,275.94,118.81,43.75,15.34,232.9,230.74,43.232900000000001,56.02,358.65]
["2022-10-01",53.38,227.54,43.08,142.51,13.497,43,13.37,93.16,72.63,110.81,29.9666,105.19,216.46,362.09,153.34,125.88,105.1705,328.18,94.51,46.55,118.25,88.04,296.13,138.29,47.29,18.23,232.13,272.66000000000003,47.442900000000002,59.85,387.79]
["2022-11-01",59.93,194.7,44.17,178.88,16.922999999999998,47.13,13.9,118.1,83.26,111.34,32.539200000000001,108.03,236.41,371.08,148.03,138.18,105.321,356.4,100.99,50.13,128.66,92.99,323.99,148.9,49.19,19.28,255.14,272.79000000000002,50.806199999999997,63.61,409.32]
["2022-12-01",49.43,123.18,37.700000000000003,190.49,14.614000000000001,41.6,11.63,120.34,82.31,110.3,27.7498,99.46,239.56,365.84,129.93,134.1,100.2627,347.73,88.23,51.24,128.08000000000001,92.29,315.86,140.88999999999999,44.58,18.41,239.82,263.52999999999997,47.262900000000002,63.61,384.21]
["2023-01-01",64.94,173.22,48.96,213,19.536999999999999,46.03,13.51,148.97,89.69,116.01,32.927599999999998,104.94,252.29,344.15,144.29,139.96,96.216099999999997,370.6,98.84,44.16,130.51,98.88,324.17,134.72999999999999,44.63,20.37,247.81,267.39999999999998,47.956200000000003,61.32,408.31]
["2023-02-01",70.64,205.71,51.96,201.55,23.216000000000001,47.55,12.07,174.94,83.95,109.91,29.8216,100,239.55,311.22000000000003,147.41,143.35,90.079300000000003,355.29,90.06,40.57,127.16,98.13,296.54000000000002,129.30000000000001,43.14,18.91,249.42,263.91000000000003,47.376199999999997,59.51,397.97]
["2023-03-01",65.3,207.46,44.25,212.43,27.777000000000001,37.97,12.6,211.94,74.930000000000007,109.66,34.165799999999997,82.74,228.84,343.42,164.9,130.31,87.880399999999995,363.41,103.73,40.799999999999997,132.08000000000001,100.92,295.12,131.09,49.37,19.25,288.3,279.61,49.149500000000003,62.03,411.08]
["2023-04-01",65.430000000000007,164.31,43.8,206.78,27.748999999999999,37.1,11.88,240.32,74.790000000000006,118.34,41.352400000000003,87,218.8,395.86,169.68,138.24,88.808400000000006,380.03,107.34,38.89,140.58000000000001,98.17,300.54000000000002,126.41,48.63,17.670000000000002,307.26,295.75,50.322800000000001,64.150000000000006,417.66]
["2023-05-01",80.97,203.93,47.465000000000003,205.7,37.834000000000003,31.11,12,264.72000000000003,70.11,102.18,41.529800000000002,78.69,205.75,429.46,177.25,135.71,78.014600000000002,365.02,122.87,38.020000000000003,128.69,103.15,283.45,128.59,45.33,15.73,328.39,285.11,48.956200000000003,59.66,419.43]
["2023-06-01",103.74,261.77,54.87,211.16,42.302,35.21,15.13,286.98,73.83,107.25,42.78,88.22,246.05,468.98,193.97,145.44,83.683199999999999,393.3,119.7,36.68,138.55000000000001,104.29,310.64,133.81,47,15.95,340.54,298.41000000000003,52.392800000000001,60.22,445.71]
["2023-07-01",109.11,267.43,54.31,238.85,46.728999999999999,38.61,13.21,318.60000000000002,82.7,107.24,39.245600000000003,96.49,265.17,454.55,196.45,157.96,93.222899999999996,394.28,132.72,36.06,137.66999999999999,105.89,333.84,144.18,48.64,14.52,335.92,293.2,53.286099999999998,61.93,460.18]
["2023-08-01",98.94,258.08,49.81,224.03,49.354999999999997,33.75,12.13,295.89,75.7,111.19,38.532800000000002,94.67,281.13,554.20000000000005,187.87,146.33000000000001,89.184700000000007,412.64,136.16999999999999,35.380000000000003,129.38,106.02,330.3,146.83000000000001,46.39,14.79,327.76,281.14999999999998,54.202800000000003,59.83,452.69]
["2023-09-01",92.14,250.22,42.3,191.68,43.499000000000002,33.06,12.42,300.20999999999998,68.22,117.58,36.636600000000001,94.89,273,537.13,171.21,145.02000000000001,78.273799999999994,395.91,130.86000000000001,33.17,124.94,105.2,302.16000000000003,140.30000000000001,44.75,15.02,315.75,263.44,53.3095,55.98,429.43]
["2023-10-01",84.73,200.84,35.01,186.82,40.78,26.85,9.75,301.27,65.02,105.85,38.844000000000001,91.44,226.05,553.92999999999995,170.77,139.06,76.041499999999999,376.35,124.08,30.56,120.86,102.53,284.69,144.63999999999999,45.37,15.4,338.11,262.17,54.469499999999996,56.49,419.94]
["2023-11-01",107.46,240.08,39.4,231.63,46.77,29.99,10.26,327.14999999999998,65.239999999999995,102.74,44.045000000000002,97.78,250.72,591.04,189.95,156.08000000000001,82.830399999999997,413.83,132.53,30.47,125.55,122.24,313.49,158.56,44.27,16.57,378.91,281.83999999999997,51.896099999999997,58.44,458.42]
["2023-12-01",129.49,248.48,41.26,260.66000000000003,49.521999999999998,36.840000000000003,12.19,353.96,76.23,99.98,45.739199999999997,103.71,295.67,582.91999999999996,192.53,170.1,91.400300000000001,426.51,139.69,28.79,130.66,128.54,346.55,163.55000000000001,45.71,16.78,376.04,296.51,52.549500000000002,58.93,477.63]
["2024-01-01",127.5,187.29,41.38,211.04,61.527000000000001,32.450000000000003,11.72,390.14,73.48,102.81,48.175400000000003,104.93,300.31,645.61,184.4,174.36,78.884100000000004,449.23,140.1,27.08,129.49,119.49,352.96,183.66,46.14,17.690000000000001,397.58,292.72000000000003,55.082799999999999,59.49,485.2]
["2024-02-01",123.35,201.88,45.49,203.72,79.111999999999995,36.270000000000003,12.44,490.13,71.89,104.52,53.775399999999998,108.99,333.96,753.68,180.75,186.06,77.0197,474.76,138.46,26.56,138.41999999999999,137.35,380.61,185.03,49.61,16.93,413.64,292.27999999999997,58.61,60.02,510.45]
["2024-03-01",139.01,175.79,47.88,192.99,90.355999999999995,43.74,13.28,485.58,66.599999999999994,116.24,58.135399999999997,117.4,366.43,777.96,171.48,200.3,88.683000000000007,481.57,150.93,27.75,138.65,148.87,383.6,190.96,57.13,17.600000000000001,420.72,281.95,60.17,61.18,525.73]
["2024-04-01",139.63,183.28,51.46,167.84,86.402000000000001,34.39,12.15,430.17,61.69,118.27,63.192,110.48,334.57,781.1,170.33,191.74,96.51,451.2,162.78,25.62,141.25,144.47,334.22,166.2,55.38,16.89,389.33,273.04000000000002,59.35,61.77,504.44]
["2024-05-01",147.68,178.08,52.99,177.61,109.633,35.880000000000003,12.13,466.83,46.46,117.26,62.590400000000002,120.35,338.52,820.34,192.25,202.63,100.14,447.07,172.5,28.66,137.43,163.85,334.87,166.85,52.37,18.22,415.13,258.89,65.760000000000005,62.93,529.96]
["2024-06-01",159.43,197.88,48.66,182.01,123.54,33.54,12.54,504.22,46.98,115.12,62.65,117.19,333.1,905.38,210.62,202.26,102.19,441.16,182.15,27.98,132.46,162.91999999999999,344.24,172.95,49.93,19.11,446.95,254.84,67.709999999999994,63.65,547.23]
["2024-07-01",156.72,232.07,45.42,190.6,117.02,37.5,10.82,474.83,44.23,118.59,54.32,125.32,346.2,804.27,222.08,212.8,127.55,463.71,171.54,30.54,132.83000000000001,171.25,368.16,192.14,54.5,19.25,418.35,265.39999999999998,68.64,66.739999999999995,553.32000000000005]
["2024-08-01",164.62,214.11,44.04,173.74,119.37,37.44,11.19,521.30999999999995,47.37,117.94,56.08,121.16,356.1,960.02,229,224.8,134.69,483.34,163.38,29.01,134.91999999999999,183.29,368.5,202.13,53.21,19.899999999999999,417.14,288.66000000000003,77.23,72.47,566.75]
["2024-09-01",177.36,261.63,57.06,152.04,121.44,38.53,10.56,572.44000000000005,53.87,117.22,57.62,121.1,391.12,885.94,233,210.86,136.69999999999999,493.8,165.85,28.94,139.71,176.03,405.2,221.08,57.3,22,430.3,304.51,80.75,71.86,576.82000000000005]
["2024-10-01",206.35,249.85,78.260000000000005,149.31,132.76,31.95,10.29,567.58000000000004,52.39,116.78,55.77,122.48,376.2,829.74,225.91,221.92,128.47,499.59,171.11,28.3,131.16,198.35,393.75,206.72,55.77,22.54,406.35,292.11,81.95,65.31,571.24]
["2024-11-01",244.06,345.16,96.83,155.44,138.25,33.630000000000003,11.13,574.32000000000005,49.83,117.96,61.52,129.41,406.11,795.35,237.33,249.72,133.53,532.94000000000005,168.95,26.21,138.94,212.6,429.13,227.41,61.08,23.16,423.46,296.01,92.5,64.08,605.07000000000005]
["2024-12-01",230.69,403.84,97.1,177,134.29,30.13,9.9,585.51,41.07,107.57,60.3,118.53,362.76,772,250.42,239.71,129.09,526.57000000000005,189.3,26.53,134.16,206.26,388.99,219.83,61.15,22.77,421.5,289.89,90.35,62.26,588.67999999999995]
[]
[]
[null,null,null,{"$f":"startDate","v":"2019-12-01"}]
[null,null,null,{"$f":"endDate","v":"2024-12-28"}]

{"sheet":"Returns & Stand Dev","index":2,"n_rows":66,"n_cols":64,"rows_kept":66,"cut":false,"hidden":false,"merged":[[0,59,0,60],[0,37,0,38],[0,39,0,40],[0,41,0,42],[0,43,0,44],[0,45,0,46],[0,47,0,48],[0,49,0,50],[0,51,0,52],[0,53,0,54],[0,55,0,56],[0,57,0,58],[0,11,0,12],[0,35,0,36],[0,13,0,14],[0,15,0,16],[0,17,0,18],[0,19,0,20],[0,21,0,22],[0,23,0,24],[0,25,0,26],[0,27,0,28],[0,29,0,30],[0,31,0,32],[0,33,0,34],[0,1,0,2],[0,3,0,4],[0,5,0,6],[0,7,0,8],[0,9,0,10],[1,23,1,24],[1,1,1,2],[1,3,1,4],[1,5,1,6],[1,7,1,8],[1,9,1,10],[1,11,1,12],[1,13,1,14],[1,15,1,16],[1,17,1,18],[1,19,1,20],[1,21,1,22],[1,49,1,50],[1,25,1,26],[1,29,1,30],[1,31,1,32],[1,33,1,34],[1,35,1,36],[1,37,1,38],[1,39,1,40],[1,41,1,42],[1,43,1,44],[1,45,1,46],[1,47,1,48],[1,27,1,28],[1,64,1,65],[1,51,1,52],[1,53,1,54],[1,55,1,56],[1,57,1,58],[1,59,1,60],[1,61,1,62]]}
[null,"_1",null,"_2",null,"_3",null,"_4",null,"_5",null,"_6",null,"_7",null,"_8",null,"_9",null,"_10",null,"_11",null,"_12",null,"_13",null,"_14",null,"_15",null,"_16",null,"_17",null,"_18",null,"_19",null,"_20",null,"_21",null,"_22",null,"_23",null,"_24",null,"_25",null,"_26",null,"_27",null,"_28",null,"_29",null,"_30",null,null,"Adj Close"]
[null,{"$f":"'price data'!B1","v":"rcl"},null,{"$f":"'price data'!C1","v":"tsla"},null,{"$f":"'price data'!D1","v":"ual"},null,{"$f":"'price data'!E1","v":"ba"},null,{"$f":"'price data'!F1","v":"nvda"},null,{"$f":"'price data'!G1","v":"hog"},null,{"$f":"'price data'!H1","v":"f"},null,{"$f":"'price data'!I1","v":"meta"},null,{"$f":"'price data'!J1","v":"pzza"},null,{"$f":"'price data'!K1","v":"xom"},null,{"$f":"'price data'!L1","v":"cmg"},null,{"$f":"'price data'!M1","v":"pru"},null,{"$f":"'price data'!N1","v":"cat"},null,{"$f":"'price data'!O1","v":"lly"},null,{"$f":"'price data'!P1","v":"aapl"},null,{"$f":"'price data'!Q1","v":"jpm"},null,{"$f":"'price data'!R1","v":"mmm"},null,{"$f":"'price data'!S1","v":"ma"},null,{"$f":"'price data'!T1","v":"googl"},null,{"$f":"'price data'!U1","v":"pfe"},null,{"$f":"'price data'!V1","v":"yum"},null,{"$f":"'price data'!W1","v":"grmn"},null,{"$f":"'price data'!X1","v":"hd"},null,{"$f":"'price data'!Y1","v":"ibm"},null,{"$f":"'price data'!Z1","v":"kr"},null,{"$f":"'price data'!AA1","v":"t"},null,{"$f":"'price data'!AB1","v":"msft"},null,{"$f":"'price data'!AC1","v":"mcd"},null,{"$f":"'price data'!AD1","v":"wmt"},null,{"$f":"'price data'!AE1","v":"ko"},null,{"$f":"'price data'!AF1","v":"IVV"}]
["Date","Adj. Close*","Return","Adj. Close*","Return","Adj. Close*","Return","Adj. Close*","Return","Adj. Close*","Return","Adj. Close*","Return","Adj. Close*","Return","Adj. Close*","Return","Adj. Close*","Return","Adj. Close*","Return","Adj. Close*","Return","Adj. Close*","Return","Adj. Close*","Return","Adj. Close*","Return","Adj. Close*","Return","Adj. Close*","Return","Adj. Close*","Return","Adj. Close*","Return","Adj. Close*","Return","Adj. Close*","Return","Adj. Close*","Return","Adj. Close*","Return","Adj. Close*","Return","Adj. Close*","Return","Adj. Close*","Return","Adj. Close*","Return","Adj. Close*","Return","Adj. Close*","Return","Adj. Close*","Return","Adj. Close*","Return",null,"Adj Close","Return"]
[{"$f":"'price data'!D65","v":"2019-12-01"},{"$f":"'price data'!B2","v":133.51},null,{"$f":"'price data'!C2","v":27.888400000000001},null,{"$f":"'price data'!D2","v":88.09},null,{"$f":"'price data'!E2","v":325.76},null,{"$f":"'price data'!F2","v":5.8825000000000003},null,{"$f":"'price data'!G2","v":37.19},null,{"$f":"'price data'!H2","v":9.3000000000000007},null,{"$f":"'price data'!I2","v":205.25},null,{"$f":"'price data'!J2","v":63.15},null,{"$f":"'price data'!K2","v":69.78},null,{"$f":"'price data'!L2","v":16.7422},null,{"$f":"'price data'!M2","v":93.74},null,{"$f":"'price data'!N2","v":147.68},null,{"$f":"'price data'!O2","v":131.43},null,{"$f":"'price data'!P2","v":73.412499999999994},null,{"$f":"'price data'!Q2","v":139.4},null,{"$f":"'price data'!R2","v":147.50120000000001},null,{"$f":"'price data'!S2","v":298.58999999999997},null,{"$f":"'price data'!T2","v":66.969499999999996},null,{"$f":"'price data'!U2","v":37.140700000000002},null,{"$f":"'price data'!V2","v":100.73},null,{"$f":"'price data'!W2","v":97.56},null,{"$f":"'price data'!X2","v":218.38},null,{"$f":"'price data'!Y2","v":134.04},null,{"$f":"'price data'!Z2","v":28.99},null,{"$f":"'price data'!AA2","v":29.5124},null,{"$f":"'price data'!AB2","v":157.69999999999999},null,{"$f":"'price data'!AC2","v":197.61},null,{"$f":"'price data'!AD2","v":39.612900000000003},null,{"$f":"'price data'!AE2","v":55.35},null,null,{"$f":"'price data'!AF2","v":323.24}]
[{"$f":"EDATE(A4,1)","v":"2020-01-01"},{"$f":"'price data'!B3","v":117.08},{"$f":"LN(B5/B4)","v":-0.13131891957831837},{"$f":"'price data'!C3","v":43.370899999999999},{"$f":"LN(D5/D4)","v":0.44157787754218802},{"$f":"'price data'!D3","v":74.8},{"$f":"LN(F5/F4)","v":-0.16354113414127283},{"$f":"'price data'!E3","v":318.27},{"$f":"LN(H5/H4)","v":-2.3260834782813444E-2},{"$f":"'price data'!F3","v":5.9108000000000001},{"$f":"LN(J5/J4)","v":4.7993444279613683E-3},{"$f":"'price data'!G3","v":33.4},{"$f":"LN(L5/L4)","v":-0.10748400795432397},{"$f":"'price data'!H3","v":8.82},{"$f":"LN(N5/N4)","v":-5.2992530140510342E-2},{"$f":"'price data'!I3","v":201.91},{"$f":"LN(P5/P4)","v":-1.6406694770254832E-2},{"$f":"'price data'!J3","v":64.78},{"$f":"LN(R5/R4)","v":2.5484064946683236E-2},{"$f":"'price data'!K3","v":62.12},{"$f":"LN(T5/T4)","v":-0.11627943747814183},{"$f":"'price data'!L3","v":17.3352},{"$f":"LN(V5/V4)","v":3.4806638252036351E-2},{"$f":"'price data'!M3","v":91.06},{"$f":"LN(X5/X4)","v":-2.9006362587923988E-2},{"$f":"'price data'!N3","v":131.35},{"$f":"LN(Z5/Z4)","v":-0.11718225462299321},{"$f":"'price data'!O3","v":139.63999999999999},{"$f":"LN(AB5/AB4)","v":6.0593291742918359E-2},{"$f":"'price data'!P3","v":77.377499999999998},{"$f":"LN(AD5/AD4)","v":5.2601819811865784E-2},{"$f":"'price data'!Q3","v":132.36000000000001},{"$f":"LN(AF5/AF4)","v":-5.1822015273012015E-2},{"$f":"'price data'!R3","v":132.6525},{"$f":"LN(AH5/AH4)","v":-0.10610338434507974},{"$f":"'price data'!S3","v":315.94},{"$f":"LN(AJ5/AJ4)","v":5.6480927214869324E-2},{"$f":"'price data'!T3","v":71.638999999999996},{"$f":"LN(AL5/AL4)","v":6.7402326548264918E-2},{"$f":"'price data'!U3","v":35.301699999999997},{"$f":"LN(AN5/AN4)","v":-5.0782281930720187E-2},{"$f":"'price data'!V3","v":105.77},{"$f":"LN(AP5/AP4)","v":4.8823255385371751E-2},{"$f":"'price data'!W3","v":96.95},{"$f":"LN(AR5/AR4)","v":-6.2721916590586929E-3},{"$f":"'price data'!X3","v":228.1},{"$f":"LN(AT5/AT4)","v":4.354746470442216E-2},{"$f":"'price data'!Y3","v":143.72999999999999},{"$f":"LN(AV5/AV4)","v":6.9798276694030811E-2},{"$f":"'price data'!Z3","v":26.86},{"$f":"LN(AX5/AX4)","v":-7.6312751838472581E-2},{"$f":"'price data'!AA3","v":28.4099},{"$f":"LN(AZ5/AZ4)","v":-3.8072838038604534E-2},{"$f":"'price data'!AB3","v":170.23},{"$f":"LN(BB5/BB4)","v":7.6455969857486469E-2},{"$f":"'price data'!AC3","v":213.97},{"$f":"LN(BD5/BD4)","v":7.9540426958148253E-2},{"$f":"'price data'!AD3","v":38.162999999999997},{"$f":"LN(BF5/BF4)","v":-3.7288362946530103E-2},{"$f":"'price data'!AE3","v":58.4},{"$f":"LN(BH5/BH4)","v":5.3639230679535389E-2},null,{"$f":"'price data'!AF3","v":323.24},{"$f":"LN(BK5/BK4)","v":0}]
[{"$f":"EDATE(A5,1)","v":"2020-02-01"},{"$f":"'price data'!B4","v":80.41},{"$f":"LN(B6/B5)","v":-0.37571891526362744},{"$f":"'price data'!C4","v":44.532200000000003},2.6423813705181161E-2,{"$f":"'price data'!D4","v":61.59},-0.19431836528147955,{"$f":"'price data'!E4","v":275.11},-0.14572906145139156,{"$f":"'price data'!F4","v":6.7518000000000002},0.1330279499545276,{"$f":"'price data'!G4","v":30.47},-9.1813306985037105E-2,{"$f":"'price data'!H4","v":6.96},-0.23684239567237167,{"$f":"'price data'!I4","v":192.47},-4.7881756135250267E-2,{"$f":"'price data'!J4","v":57.61},-0.11730074999889148,{"$f":"'price data'!K4","v":51.44},-0.18865191835112236,{"$f":"'price data'!L4","v":15.4716},-0.11373303119995455,{"$f":"'price data'!M4","v":75.45},-0.18804844469277818,{"$f":"'price data'!N4","v":124.24},-5.5650337291117222E-2,{"$f":"'price data'!O4","v":126.13},-0.10175456113773343,{"$f":"'price data'!P4","v":68.34},-0.12420079397335779,{"$f":"'price data'!Q4","v":116.11},-0.1309874654144968,{"$f":"'price data'!R4","v":124.7766},-6.1207988639916652E-2,{"$f":"'price data'!S4","v":290.25},-8.4809701562950215E-2,{"$f":"'price data'!T4","v":66.962500000000006},-6.7506857205708398E-2,{"$f":"'price data'!U4","v":31.680499999999999},-0.10822977176992718,{"$f":"'price data'!V4","v":89.25},-0.16982550468021301,{"$f":"'price data'!W4","v":88.39},-9.2436540615804225E-2,{"$f":"'price data'!X4","v":217.84},-4.6023280924838178E-2,{"$f":"'price data'!Y4","v":130.15},-9.9248908122565982E-2,{"$f":"'price data'!Z4","v":28.13},4.6198431406674047E-2,{"$f":"'price data'!AA4","v":26.5974},-6.5924209323078423E-2,{"$f":"'price data'!AB4","v":162.01},-4.9492402104152303E-2,{"$f":"'price data'!AC4","v":194.17},-9.710175427249719E-2,{"$f":"'price data'!AD4","v":35.893000000000001},-6.1324169432629402E-2,{"$f":"'price data'!AE4","v":53.49},-8.782116929102253E-2,null,{"$f":"'price data'!AF4","v":295.91000000000003},-8.8339727329046339E-2]
["2020-03-01",{"$f":"'price data'!B5","v":32.17},-0.91610420530912262,{"$f":"'price data'!C5","v":34.933},-0.24278058182023121,{"$f":"'price data'!D5","v":31.55},-0.66892593071172968,{"$f":"'price data'!E5","v":149.13999999999999},-0.61228555557224951,{"$f":"'price data'!F5","v":6.59},-2.425578748745346E-2,{"$f":"'price data'!G5","v":18.93},-0.47599462777638613,{"$f":"'price data'!H5","v":4.83},-0.36533300668184693,{"$f":"'price data'!I5","v":166.8},-0.14314480750238603,{"$f":"'price data'!J5","v":53.37},-7.6447373398438337E-2,{"$f":"'price data'!K5","v":37.97},-0.303619705685653,{"$f":"'price data'!L5","v":13.087999999999999},-0.16731030536226407,{"$f":"'price data'!M5","v":52.14},-0.36953777670850224,{"$f":"'price data'!N5","v":116.04},-6.8280219587228283E-2,{"$f":"'price data'!O5","v":138.72},9.5144391933129971E-2,{"$f":"'price data'!P5","v":63.572499999999998},-7.2314259785660584E-2,{"$f":"'price data'!Q5","v":90.03},-0.2543950695185293,{"$f":"'price data'!R5","v":114.13330000000001},-8.9157874811644736E-2,{"$f":"'price data'!S5","v":241.56},-0.1836247311383005,{"$f":"'price data'!T5","v":58.097499999999997},-0.14201012753489525,{"$f":"'price data'!U5","v":30.941099999999999},-2.3615952454410422E-2,{"$f":"'price data'!V5","v":68.53},-0.26416981506201614,{"$f":"'price data'!W5","v":74.959999999999994},-0.1648042031426899,{"$f":"'price data'!X5","v":186.71},-0.15420423738825972,{"$f":"'price data'!Y5","v":110.93},-0.1597882596900061,{"$f":"'price data'!Z5","v":30.12},6.8352780429927457E-2,{"$f":"'price data'!AA5","v":22.013500000000001},-0.18915756512531481,{"$f":"'price data'!AB5","v":157.71},-2.69001582228603E-2,{"$f":"'price data'!AC5","v":165.35},-0.16066962457856049,{"$f":"'price data'!AD5","v":37.872999999999998},5.3696166745202979E-2,{"$f":"'price data'!AE5","v":44.25},-0.1896393490892202,null,{"$f":"'price data'!AF5","v":258.39999999999998},-0.13554658212775381]
["2020-04-01",{"$f":"'price data'!B6","v":46.77},0.37420763048685995,{"$f":"'price data'!C6","v":52.1248},0.40020890199257464,{"$f":"'price data'!D6","v":29.58},-6.4475131704568492E-2,{"$f":"'price data'!E6","v":141.02000000000001},-5.5983737824754118E-2,{"$f":"'price data'!F6","v":7.3070000000000004},0.10327944429466494,{"$f":"'price data'!G6","v":21.83},0.14253720534062106,{"$f":"'price data'!H6","v":5.09},5.2431362897950008E-2,{"$f":"'price data'!I6","v":204.71},0.20479885352788346,{"$f":"'price data'!J6","v":71.92},0.29830559981751148,{"$f":"'price data'!K6","v":46.47},0.20201056885317598,{"$f":"'price data'!L6","v":17.571000000000002},0.29455403591536389,{"$f":"'price data'!M6","v":62.37},0.17915198203267552,{"$f":"'price data'!N6","v":116.38},2.9257399753205293E-3,{"$f":"'price data'!O6","v":154.63999999999999},0.10864232186784369,{"$f":"'price data'!P6","v":73.45},0.14442391571840119,{"$f":"'price data'!Q6","v":95.76},6.1702113129332291E-2,{"$f":"'price data'!R6","v":127.01730000000001},0.10695623411050621,{"$f":"'price data'!S6","v":274.97000000000003},0.129544111366934,{"$f":"'price data'!T6","v":67.334999999999994},0.14755752722982143,{"$f":"'price data'!U6","v":36.363399999999999},0.16147737709293652,{"$f":"'price data'!V6","v":86.43},0.23206323216681446,{"$f":"'price data'!W6","v":81.16},7.9467877027447356E-2,{"$f":"'price data'!X6","v":219.83},0.16329790939478137,{"$f":"'price data'!Y6","v":125.56},0.1238843602231845,{"$f":"'price data'!Z6","v":31.61},4.8284123295833488E-2,{"$f":"'price data'!AA6","v":23.010300000000001},4.4286040247786145E-2,{"$f":"'price data'!AB6","v":179.21},0.12780039905583088,{"$f":"'price data'!AC6","v":187.56},0.1260343547935838,{"$f":"'price data'!AD6","v":40.516300000000001},6.746590512456048E-2,{"$f":"'price data'!AE6","v":45.89},3.6391856952803552E-2,null,{"$f":"'price data'!AF6","v":291.16000000000003},0.11936417234161045]
["2020-05-01",{"$f":"'price data'!B7","v":51.87},0.10349861662551388,{"$f":"'price data'!C7","v":55.6661},6.5730500874965195E-2,{"$f":"'price data'!D7","v":28.04},-5.3466395116264324E-2,{"$f":"'price data'!E7","v":145.85},3.3676972022835712E-2,{"$f":"'price data'!F7","v":8.8755000000000006},0.19446187899364067,{"$f":"'price data'!G7","v":21.34},-2.2701924688245188E-2,{"$f":"'price data'!H7","v":5.71},0.11494119310548753,{"$f":"'price data'!I7","v":225.09},9.4905978773217173E-2,{"$f":"'price data'!J7","v":77.89},7.9743184768492237E-2,{"$f":"'price data'!K7","v":45.47},-2.1754175259967777E-2,{"$f":"'price data'!L7","v":20.078199999999999},0.13338483359547704,{"$f":"'price data'!M7","v":60.96},-2.2866479159640324E-2,{"$f":"'price data'!N7","v":120.13},3.1713790504759927E-2,{"$f":"'price data'!O7","v":152.94999999999999},-1.098876430316296E-2,{"$f":"'price data'!P7","v":79.484999999999999},7.8963421992948812E-2,{"$f":"'price data'!Q7","v":97.31},1.6056697584179967E-2,{"$f":"'price data'!R7","v":130.79640000000001},2.9318618054689483E-2,{"$f":"'price data'!S7","v":300.89},9.008274864467955E-2,{"$f":"'price data'!T7","v":71.676000000000002},6.2475802636164215E-2,{"$f":"'price data'!U7","v":36.202199999999998},-4.4428838227311826E-3,{"$f":"'price data'!V7","v":89.73},3.7470323545419404E-2,{"$f":"'price data'!W7","v":90.17},0.10527426255420148,{"$f":"'price data'!X7","v":248.48},0.12250783902835115,{"$f":"'price data'!Y7","v":124.9},-5.2703148422208043E-3,{"$f":"'price data'!Z7","v":32.619999999999997},3.1452070965341375E-2,{"$f":"'price data'!AA7","v":23.3049},1.2721697118872959E-2,{"$f":"'price data'!AB7","v":183.25},2.2293038211463449E-2,{"$f":"'price data'!AC7","v":186.32},-6.633168645299994E-3,{"$f":"'price data'!AD7","v":41.352899999999998},2.0438189742060655E-2,{"$f":"'price data'!AE7","v":46.68},1.7068579011613089E-2,null,{"$f":"'price data'!AF7","v":305.18},4.7028822213532363E-2]
["2020-06-01",{"$f":"'price data'!B8","v":50.3},-3.0735511257615269E-2,{"$f":"'price data'!C8","v":71.986599999999996},0.2571086465280083,{"$f":"'price data'!D8","v":34.61},0.21051059548086357,{"$f":"'price data'!E8","v":183.3},0.22854545853192904,{"$f":"'price data'!F8","v":9.4977999999999998},6.7765521037860238E-2,{"$f":"'price data'!G8","v":23.77},0.10784103549849523,{"$f":"'price data'!H8","v":6.08},6.2785672310156804E-2,{"$f":"'price data'!I8","v":227.07},8.7580177634387184E-3,{"$f":"'price data'!J8","v":79.41},1.9326729975262438E-2,{"$f":"'price data'!K8","v":44.72},-1.6631938990075496E-2,{"$f":"'price data'!L8","v":21.0472},4.7132885282583865E-2,{"$f":"'price data'!M8","v":60.9},-9.8473666253949261E-4,{"$f":"'price data'!N8","v":126.5},5.166781843429117E-2,{"$f":"'price data'!O8","v":164.18},7.0852316323207779E-2,{"$f":"'price data'!P8","v":91.2},0.13748657246745072,{"$f":"'price data'!Q8","v":94.06},-3.3968882316995672E-2,{"$f":"'price data'!R8","v":130.42009999999999},-2.8811369902280158E-3,{"$f":"'price data'!S8","v":295.7},-1.7399322592882523E-2,{"$f":"'price data'!T8","v":70.902500000000003},-1.0850269690850853E-2,{"$f":"'price data'!U8","v":30.998000000000001},-0.15519720419089603,{"$f":"'price data'!V8","v":86.91},-3.1932060860597716E-2,{"$f":"'price data'!W8","v":97.5},7.815560049198618E-2,{"$f":"'price data'!X8","v":250.51},8.1364804874348232E-3,{"$f":"'price data'!Y8","v":120.77},-3.3625506844248178E-2,{"$f":"'price data'!Z8","v":33.85},3.7013402165416327E-2,{"$f":"'price data'!AA8","v":22.8291},-2.0627600939563322E-2,{"$f":"'price data'!AB8","v":203.51},0.10486380295769608,{"$f":"'price data'!AC8","v":184.47},-9.9787769425974532E-3,{"$f":"'price data'!AD8","v":39.926299999999998},-3.5107297398429382E-2,{"$f":"'price data'!AE8","v":44.68},-4.3789833217355328E-2,null,{"$f":"'price data'!AF8","v":309.69},1.4670030682018788E-2]
["2020-07-01",{"$f":"'price data'!B9","v":48.71},-3.2120729287242175E-2,{"$f":"'price data'!C9","v":95.382999999999996},0.28142037492614569,{"$f":"'price data'!D9","v":31.38},-9.7971910342366339E-2,{"$f":"'price data'!E9","v":158},-0.14852912181869254,{"$f":"'price data'!F9","v":10.614800000000001},0.11118906087477425,{"$f":"'price data'!G9","v":26.03},9.082543763437155E-2,{"$f":"'price data'!H9","v":6.61},8.3578957885519306E-2,{"$f":"'price data'!I9","v":253.67},0.11077586972252114,{"$f":"'price data'!J9","v":94.67},0.17577285523368036,{"$f":"'price data'!K9","v":42.08},-6.0848260417389353E-2,{"$f":"'price data'!L9","v":23.103200000000001},9.320360141832354E-2,{"$f":"'price data'!M9","v":63.37},3.9757388619574181E-2,{"$f":"'price data'!N9","v":132.88},4.9204157137464566E-2,{"$f":"'price data'!O9","v":150.29},-8.8396625974117238E-2,{"$f":"'price data'!P9","v":106.26},0.15283402394251144,{"$f":"'price data'!Q9","v":96.64},2.7059857669602984E-2,{"$f":"'price data'!R9","v":125.80500000000001},-3.6027689613843047E-2,{"$f":"'price data'!S9","v":308.52999999999997},4.2473656491625454E-2,{"$f":"'price data'!T9","v":74.397499999999994},4.811664527662507E-2,{"$f":"'price data'!U9","v":36.4771},0.16276198015729262,{"$f":"'price data'!V9","v":91.05},4.6535705724248227E-2,{"$f":"'price data'!W9","v":98.59},1.1117458583148542E-2,{"$f":"'price data'!X9","v":265.49},5.8078335301418656E-2,{"$f":"'price data'!Y9","v":122.94},1.7808521191579552E-2,{"$f":"'price data'!Z9","v":34.79},2.7390989805566524E-2,{"$f":"'price data'!AA9","v":22.338200000000001},-2.173782051965608E-2,{"$f":"'price data'!AB9","v":205.01},7.3436147120266582E-3,{"$f":"'price data'!AC9","v":194.28},5.18135688440561E-2,{"$f":"'price data'!AD9","v":43.132899999999999},7.7250792357424838E-2,{"$f":"'price data'!AE9","v":47.24},5.5715017128161633E-2,null,{"$f":"'price data'!AF9","v":327.82},5.6892880115605553E-2]
["2020-08-01",{"$f":"'price data'!B10","v":68.84},0.34590062352488748,{"$f":"'price data'!C10","v":166.10499999999999},0.55471975300389786,{"$f":"'price data'!D10","v":36},0.13734819115122349,{"$f":"'price data'!E10","v":171.82},8.3852384182943704E-2,{"$f":"'price data'!F10","v":13.374499999999999},0.23110065519037568,{"$f":"'price data'!G10","v":27.71},6.2543639868412992E-2,{"$f":"'price data'!H10","v":6.82},3.1275817991775902E-2,{"$f":"'price data'!I10","v":293.2},0.14482076030078952,{"$f":"'price data'!J10","v":98.29},3.7525132437738078E-2,{"$f":"'price data'!K10","v":39.94},-5.2194240441785236E-2,{"$f":"'price data'!L10","v":26.2056},0.12600199231368964,{"$f":"'price data'!M10","v":67.77},6.7129055812595942E-2,{"$f":"'price data'!N10","v":142.31},6.8561311390529095E-2,{"$f":"'price data'!O10","v":148.38999999999999},-1.272281792796796E-2,{"$f":"'price data'!P10","v":129.04},0.19423351279415621,{"$f":"'price data'!Q10","v":100.19},3.6075649084666865E-2,{"$f":"'price data'!R10","v":136.2978},8.0109108601999823E-2,{"$f":"'price data'!S10","v":358.19},0.1492444885222568,{"$f":"'price data'!T10","v":81.476500000000001},9.0892295985594576E-2,{"$f":"'price data'!U10","v":35.823},-1.8094521212794454E-2,{"$f":"'price data'!V10","v":95.85},5.137566331803653E-2,{"$f":"'price data'!W10","v":103.61},4.9664013676710327E-2,{"$f":"'price data'!X10","v":285.04000000000002},7.1052346108350359E-2,{"$f":"'price data'!Y10","v":123.31},3.0050784035756759E-3,{"$f":"'price data'!Z10","v":35.68},2.526031854795802E-2,{"$f":"'price data'!AA10","v":22.511900000000001},7.745840855245021E-3,{"$f":"'price data'!AB10","v":225.53},9.5394429351533458E-2,{"$f":"'price data'!AC10","v":213.52},9.4430087618724734E-2,{"$f":"'price data'!AD10","v":46.282899999999998},7.0486515438961325E-2,{"$f":"'price data'!AE10","v":49.53},4.7337555270984669E-2,null,{"$f":"'price data'!AF10","v":350.77},6.7666060765732561E-2]
["2020-09-01",{"$f":"'price data'!B11","v":64.73},-6.1560198785919895E-2,{"$f":"'price data'!C11","v":143.00190000000001},-0.14976220162923928,{"$f":"'price data'!D11","v":34.75},-3.5339366445308849E-2,{"$f":"'price data'!E11","v":165.26},-3.8927425936872151E-2,{"$f":"'price data'!F11","v":13.5305},1.1596487509152525E-2,{"$f":"'price data'!G11","v":24.54},-0.12148891959212171,{"$f":"'price data'!H11","v":6.66},-2.3739987303072942E-2,{"$f":"'price data'!I11","v":261.89999999999998},-0.11289221849883026,{"$f":"'price data'!J11","v":82.28},-0.17779422779378165,{"$f":"'price data'!K11","v":34.33},-0.15135872051806842,{"$f":"'price data'!L11","v":24.874199999999998},-5.2142006662362579E-2,{"$f":"'price data'!M11","v":63.52},-6.4764802209141187E-2,{"$f":"'price data'!N11","v":149.15},4.6944734265189081E-2,{"$f":"'price data'!O11","v":148.02000000000001},-2.4965432487145649E-3,{"$f":"'price data'!P11","v":115.81},-0.10817151662066707,{"$f":"'price data'!Q11","v":96.27},-3.9911639481296488E-2,{"$f":"'price data'!R11","v":133.92330000000001},-1.7574949691856877E-2,{"$f":"'price data'!S11","v":338.17},-5.7514844250685128E-2,{"$f":"'price data'!T11","v":73.28},-0.10602691474366331,{"$f":"'price data'!U11","v":34.7898},-2.9265904850415542E-2,{"$f":"'price data'!V11","v":91.3},-4.8633681890730661E-2,{"$f":"'price data'!W11","v":94.86},-8.8231729814224766E-2,{"$f":"'price data'!X11","v":277.70999999999998},-2.6052117550351198E-2,{"$f":"'price data'!Y11","v":121.67},-1.3389048083081391E-2,{"$f":"'price data'!Z11","v":33.909999999999997},-5.088035157426149E-2,{"$f":"'price data'!AA11","v":21.530200000000001},-4.4587457590025276E-2,{"$f":"'price data'!AB11","v":210.33},-6.9775461901031066E-2,{"$f":"'price data'!AC11","v":219.49},2.7576168294595828E-2,{"$f":"'price data'!AD11","v":46.636200000000002},7.6045011749783769E-3,{"$f":"'price data'!AE11","v":49.37},-3.2355943293748898E-3,null,{"$f":"'price data'!AF11","v":336.06},-4.2841022577150542E-2]
["2020-10-01",{"$f":"'price data'!B12","v":56.42},-0.13740106698356866,{"$f":"'price data'!C12","v":129.34540000000001},-0.1003715713127686,{"$f":"'price data'!D12","v":33.86},-2.5945195305811897E-2,{"$f":"'price data'!E12","v":144.38999999999999},-0.13500201928991065,{"$f":"'price data'!F12","v":12.534000000000001},-7.6501444612400465E-2,{"$f":"'price data'!G12","v":32.880000000000003},0.29256013090521393,{"$f":"'price data'!H12","v":7.73},0.14898937804703283,{"$f":"'price data'!I12","v":263.11},4.6094441721210144E-3,{"$f":"'price data'!J12","v":76.599999999999994},-7.1530988038210869E-2,{"$f":"'price data'!K12","v":32.619999999999997},-5.1094010276732924E-2,{"$f":"'price data'!L12","v":24.029599999999999},-3.4544717972975453E-2,{"$f":"'price data'!M12","v":64.02},7.8407176028367134E-3,{"$f":"'price data'!N12","v":157.05000000000001},5.1611715023898004E-2,{"$f":"'price data'!O12","v":130.46},-0.12628073340137044,{"$f":"'price data'!P12","v":108.86},-6.1888264190232391E-2,{"$f":"'price data'!Q12","v":98.04},1.821881487003682E-2,{"$f":"'price data'!R12","v":133.73939999999999},-1.3741177155926906E-3,{"$f":"'price data'!S12","v":288.64},-0.15836849074736983,{"$f":"'price data'!T12","v":80.805499999999995},9.7757312151495329E-2,{"$f":"'price data'!U12","v":33.633299999999998},-3.3807592758256823E-2,{"$f":"'price data'!V12","v":93.33},2.1990811976732472E-2,{"$f":"'price data'!W12","v":104.02},9.2181067895490729E-2,{"$f":"'price data'!X12","v":266.70999999999998},-4.0415477949106868E-2,{"$f":"'price data'!Y12","v":111.66},-8.5853921917143403E-2,{"$f":"'price data'!Z12","v":32.21},-5.1432992794439622E-2,{"$f":"'price data'!AA12","v":20.405000000000001},-5.367663183903533E-2,{"$f":"'price data'!AB12","v":202.47},-3.8085998463561255E-2,{"$f":"'price data'!AC12","v":213},-3.0014507681439474E-2,{"$f":"'price data'!AD12","v":46.249499999999998},-8.3264105051273369E-3,{"$f":"'price data'!AE12","v":48.06},-2.6892721962448546E-2,null,{"$f":"'price data'!AF12","v":327.62},-2.5435315273310617E-2]
["2020-11-01",{"$f":"'price data'!B13","v":78.81},0.33421618679170795,{"$f":"'price data'!C13","v":189.19810000000001},0.38030826871189799,{"$f":"'price data'!D13","v":45.05},0.28553860734935765,{"$f":"'price data'!E13","v":210.71},0.37796480854558862,{"$f":"'price data'!F13","v":13.4015},6.6921689188041755E-2,{"$f":"'price data'!G13","v":40.29},0.20323872901527656,{"$f":"'price data'!H13","v":9.08},0.16096533001387123,{"$f":"'price data'!I13","v":276.97000000000003},5.1337001387233537E-2,{"$f":"'price data'!J13","v":80.36},4.7919463200188153E-2,{"$f":"'price data'!K13","v":38.130000000000003},0.15607577667660474,{"$f":"'price data'!L13","v":25.788599999999999},7.0646130062863022E-2,{"$f":"'price data'!M13","v":75.62},0.16652526392106992,{"$f":"'price data'!N13","v":173.59},0.10013197089580221,{"$f":"'price data'!O13","v":145.65},0.11013981703749355,{"$f":"'price data'!P13","v":119.05},8.9480919926817698E-2,{"$f":"'price data'!Q13","v":117.88},0.18429159920958205,{"$f":"'price data'!R13","v":144.4161},7.6805585789366665E-2,{"$f":"'price data'!S13","v":336.51},0.15344762945098284,{"$f":"'price data'!T13","v":87.72},8.2104891032317176E-2,{"$f":"'price data'!U13","v":38.31},0.13019431110187277,{"$f":"'price data'!V13","v":105.8},0.12540891984654376,{"$f":"'price data'!W13","v":116.76},0.11553735764098774,{"$f":"'price data'!X13","v":277.41000000000003},3.9334630459534385E-2,{"$f":"'price data'!Y13","v":123.52},0.10094454639425157,{"$f":"'price data'!Z13","v":33},2.4230598123372808E-2,{"$f":"'price data'!AA13","v":21.711400000000001},6.2057499365064099E-2,{"$f":"'price data'!AB13","v":214.07},5.5711336915706233E-2,{"$f":"'price data'!AC13","v":217.44},2.0630784693408399E-2,{"$f":"'price data'!AD13","v":50.929499999999997},9.6391670362709694E-2,{"$f":"'price data'!AE13","v":51.6},7.1071442179194158E-2,null,{"$f":"'price data'!AF13","v":363.32},0.10342958845752757]
["2020-12-01",{"$f":"'price data'!B14","v":74.69},-5.3693677996582978E-2,{"$f":"'price data'!C14","v":235.221},0.21773088346896965,{"$f":"'price data'!D14","v":43.25},-4.0775750676458493E-2,{"$f":"'price data'!E14","v":214.06},1.5773569027513368E-2,{"$f":"'price data'!F14","v":13.055},-2.6195438839433378E-2,{"$f":"'price data'!G14","v":36.700000000000003},-9.3326544142731185E-2,{"$f":"'price data'!H14","v":8.7899999999999991},-3.2459480916116383E-2,{"$f":"'price data'!I14","v":273.16000000000003},-1.3851492980132132E-2,{"$f":"'price data'!J14","v":84.85},5.4368451733501542E-2,{"$f":"'price data'!K14","v":41.22},7.7922201592840412E-2,{"$f":"'price data'!L14","v":27.734200000000001},7.273377485742806E-2,{"$f":"'price data'!M14","v":78.069999999999993},3.1885061669412629E-2,{"$f":"'price data'!N14","v":182.02},4.7420374268751821E-2,{"$f":"'price data'!O14","v":168.84},0.14774503750885432,{"$f":"'price data'!P14","v":132.69},0.1084720076154734,{"$f":"'price data'!Q14","v":127.07},7.5070957846948963E-2,{"$f":"'price data'!R14","v":146.13839999999999},1.1855401809097511E-2,{"$f":"'price data'!S14","v":356.94},5.8939834102627486E-2,{"$f":"'price data'!T14","v":87.632000000000005},-1.0036955083218119E-3,{"$f":"'price data'!U14","v":36.81},-3.9941411321627818E-2,{"$f":"'price data'!V14","v":108.56},2.5752496102414764E-2,{"$f":"'price data'!W14","v":119.66},2.4533841975971707E-2,{"$f":"'price data'!X14","v":265.62},-4.3429840285552371E-2,{"$f":"'price data'!Y14","v":125.88},1.8925985919740144E-2,{"$f":"'price data'!Z14","v":31.76},-3.8299925087545164E-2,{"$f":"'price data'!AA14","v":21.719000000000001},3.4998526735077068E-4,{"$f":"'price data'!AB14","v":222.42},3.8264422051564689E-2,{"$f":"'price data'!AC14","v":214.58},-1.324032119423333E-2,{"$f":"'price data'!AD14","v":48.049500000000002},-5.8210593916998454E-2,{"$f":"'price data'!AE14","v":54.84},6.0898182206596568E-2,null,{"$f":"'price data'!AF14","v":375.39},3.2681496911060537E-2]
["2021-01-01",{"$f":"'price data'!B15","v":65},-0.1389589444733382,{"$f":"'price data'!C15","v":264.50740000000002},0.11734373046966079,{"$f":"'price data'!D15","v":39.99},-7.8367810519161293E-2,{"$f":"'price data'!E15","v":194.19},-9.7419288330701001E-2,{"$f":"'price data'!F15","v":12.989800000000001},-5.0067680459251153E-3,{"$f":"'price data'!G15","v":40.090000000000003},8.8350171593890983E-2,{"$f":"'price data'!H15","v":10.53},0.18061361444879856,{"$f":"'price data'!I15","v":258.33},-5.5819866716705087E-2,{"$f":"'price data'!J15","v":102.28},0.18682915874275061,{"$f":"'price data'!K15","v":44.84},8.4177022741646249E-2,{"$f":"'price data'!L15","v":29.6},6.510805265923264E-2,{"$f":"'price data'!M15","v":78.28},2.6862823956760478E-3,{"$f":"'price data'!N15","v":182.84},4.4948823143340496E-3,{"$f":"'price data'!O15","v":207.97},0.20844231761553156,{"$f":"'price data'!P15","v":131.96},-5.5167341879643174E-3,{"$f":"'price data'!Q15","v":128.66999999999999},1.2512871480455748E-2,{"$f":"'price data'!R15","v":146.86580000000001},4.965126741192049E-3,{"$f":"'price data'!S15","v":316.29000000000002},-0.12090818617090128,{"$f":"'price data'!T15","v":91.367999999999995},4.1749079706940313E-2,{"$f":"'price data'!U15","v":35.9},-2.503225189669667E-2,{"$f":"'price data'!V15","v":101.49},-6.7342744065887028E-2,{"$f":"'price data'!W15","v":114.86},-4.0940392525735302E-2,{"$f":"'price data'!X15","v":270.82},1.9387677582573235E-2,{"$f":"'price data'!Y15","v":119.11},-5.5281636303396553E-2,{"$f":"'price data'!Z15","v":34.5},8.2751687658379078E-2,{"$f":"'price data'!AA15","v":21.620799999999999},-4.5316391884994024E-3,{"$f":"'price data'!AB15","v":231.96},4.1997456617543977E-2,{"$f":"'price data'!AC15","v":207.84},-3.1914076286310794E-2,{"$f":"'price data'!AD15","v":46.829500000000003},-2.5718383312951992E-2,{"$f":"'price data'!AE15","v":48.15},-0.13009871644997914,null,{"$f":"'price data'!AF15","v":371.52},-1.0362787035546547E-2]
["2021-02-01",{"$f":"'price data'!B16","v":93.27},0.36111124284313506,{"$f":"'price data'!C16","v":225.1644},-0.1610384261585317,{"$f":"'price data'!D16","v":52.68},0.27560645401635331,{"$f":"'price data'!E16","v":212.01},8.7796382145344173E-2,{"$f":"'price data'!F16","v":13.714499999999999},5.4289233185286744E-2,{"$f":"'price data'!G16","v":35.67},-0.11681692728361545,{"$f":"'price data'!H16","v":11.7},0.10536051565782635,{"$f":"'price data'!I16","v":257.62},-2.7522064082416541E-3,{"$f":"'price data'!J16","v":90.19},-0.12579559424536904,{"$f":"'price data'!K16","v":54.37},0.19271193295387007,{"$f":"'price data'!L16","v":28.84},-2.6011048913266433E-2,{"$f":"'price data'!M16","v":86.72},0.1023923951634606,{"$f":"'price data'!N16","v":215.88},0.16611124428689844,{"$f":"'price data'!O16","v":204.89},-1.4920588770721907E-2,{"$f":"'price data'!P16","v":121.26},-8.456184571679605E-2,{"$f":"'price data'!Q16","v":147.16999999999999},0.13433739397912264,{"$f":"'price data'!R16","v":146.36420000000001},-3.421208534290635E-3,{"$f":"'price data'!S16","v":353.85},0.11221358026482584,{"$f":"'price data'!T16","v":101.0955},0.1011703069017465,{"$f":"'price data'!U16","v":33.49},-6.9490408688119912E-2,{"$f":"'price data'!V16","v":103.53},1.9901154317295021E-2,{"$f":"'price data'!W16","v":124.02},7.6728847485581494E-2,{"$f":"'price data'!X16","v":258.33999999999997},-4.7177846750808564E-2,{"$f":"'price data'!Y16","v":118.93},-1.5123511536554997E-3,{"$f":"'price data'!Z16","v":32.21},-6.8682360694206551E-2,{"$f":"'price data'!AA16","v":21.062000000000001},-2.6185345343279078E-2,{"$f":"'price data'!AB16","v":232.38},1.8090197464760006E-3,{"$f":"'price data'!AC16","v":206.14},-8.2130033136427819E-3,{"$f":"'price data'!AD16","v":43.306199999999997},-7.8217534396816196E-2,{"$f":"'price data'!AE16","v":48.99},1.7295057406349006E-2,null,{"$f":"'price data'!AF16","v":381.77},2.7215634524684042E-2]
["2021-03-01",{"$f":"'price data'!B17","v":85.61},-8.5696413984377773E-2,{"$f":"'price data'!C17","v":222.64109999999999},-1.1269744147262105E-2,{"$f":"'price data'!D17","v":57.54},8.8244481248321627E-2,{"$f":"'price data'!E17","v":254.72},0.18353145928514555,{"$f":"'price data'!F17","v":13.3483},-2.7064631376696461E-2,{"$f":"'price data'!G17","v":40.1},0.11706633494172328,{"$f":"'price data'!H17","v":12.25},4.5937095187025608E-2,{"$f":"'price data'!I17","v":294.52999999999997},0.13389523450770682,{"$f":"'price data'!J17","v":88.64},-1.7335333178643091E-2,{"$f":"'price data'!K17","v":55.83},2.6498828164439877E-2,{"$f":"'price data'!L17","v":28.416399999999999},-1.4796869129486313E-2,{"$f":"'price data'!M17","v":91.1},4.9273266574576556E-2,{"$f":"'price data'!N17","v":231.87},7.145417203644723E-2,{"$f":"'price data'!O17","v":186.82},-9.2327663314405048E-2,{"$f":"'price data'!P17","v":122.15},7.3127970601647744E-3,{"$f":"'price data'!Q17","v":152.22999999999999},3.3804153895141256E-2,{"$f":"'price data'!R17","v":161.0959},9.5901803723634105E-2,{"$f":"'price data'!S17","v":356.05},6.198075906339957E-3,{"$f":"'price data'!T17","v":103.126},1.9885926927474307E-2,{"$f":"'price data'!U17","v":36.229999999999997},7.8640618100872528E-2,{"$f":"'price data'!V17","v":108.18},4.3935080665259273E-2,{"$f":"'price data'!W17","v":131.85},6.1222069877563748E-2,{"$f":"'price data'!X17","v":305.25},0.16685456618694477,{"$f":"'price data'!Y17","v":133.26},0.11376702239523702,{"$f":"'price data'!Z17","v":35.99},0.11096415874783187,{"$f":"'price data'!AA17","v":22.859300000000001},8.1887567767068001E-2,{"$f":"'price data'!AB17","v":235.77},1.4482790791477403E-2,{"$f":"'price data'!AC17","v":224.14},8.3715307015235316E-2,{"$f":"'price data'!AD17","v":45.276200000000003},4.4485696286644311E-2,{"$f":"'price data'!AE17","v":52.71},7.3188995216631997E-2,null,{"$f":"'price data'!AF17","v":397.82},4.1181308642704105E-2]
["2021-04-01",{"$f":"'price data'!B18","v":86.95},1.5531142045897811E-2,{"$f":"'price data'!C18","v":236.4776},6.0292430941647462E-2,{"$f":"'price data'!D18","v":54.4},-5.6116204261504959E-2,{"$f":"'price data'!E18","v":234.31},-8.3519877728676875E-2,{"$f":"'price data'!F18","v":15.009499999999999},0.11729429805086926,{"$f":"'price data'!G18","v":48.37},0.18750345252236819,{"$f":"'price data'!H18","v":11.54},-5.970667591078252E-2,{"$f":"'price data'!I18","v":325.08},9.8690440409355318E-2,{"$f":"'price data'!J18","v":96.72},8.723698330756352E-2,{"$f":"'price data'!K18","v":57.24},2.4941595365981208E-2,{"$f":"'price data'!L18","v":29.840599999999998},4.8903439084756042E-2,{"$f":"'price data'!M18","v":100.36},9.6805917232308886E-2,{"$f":"'price data'!N18","v":228.11},-1.6348901036642008E-2,{"$f":"'price data'!O18","v":182.77},-2.1917054678351783E-2,{"$f":"'price data'!P18","v":131.46},7.3452825131680791E-2,{"$f":"'price data'!Q18","v":153.81},1.0325539392556239E-2,{"$f":"'price data'!R18","v":164.82480000000001},2.2883251762432461E-2,{"$f":"'price data'!S18","v":382.06},7.0506493907371917E-2,{"$f":"'price data'!T18","v":117.675},0.13197504570967913,{"$f":"'price data'!U18","v":38.65},6.4659270126445137E-2,{"$f":"'price data'!V18","v":119.52},9.968721494122619E-2,{"$f":"'price data'!W18","v":137.24},4.0066305190953361E-2,{"$f":"'price data'!X18","v":323.67},5.8593365240544482E-2,{"$f":"'price data'!Y18","v":141.88},6.2679522771030033E-2,{"$f":"'price data'!Z18","v":36.54},1.5166428858921249E-2,{"$f":"'price data'!AA18","v":23.720199999999998},3.6968969071708525E-2,{"$f":"'price data'!AB18","v":252.18},6.7286364698887033E-2,{"$f":"'price data'!AC18","v":236.08},5.1899874010802115E-2,{"$f":"'price data'!AD18","v":46.636200000000002},2.9595555482539986E-2,{"$f":"'price data'!AE18","v":53.98},2.3808416722742969E-2,null,{"$f":"'price data'!AF18","v":418.88},5.1584841044620355E-2]
["2021-05-01",{"$f":"'price data'!B19","v":93.27},7.0165271938479962E-2,{"$f":"'price data'!C19","v":208.40459999999999},-0.12637210628627155,{"$f":"'price data'!D19","v":58.35},7.0095204870668171E-2,{"$f":"'price data'!E19","v":247.02},5.2824280082527091E-2,{"$f":"'price data'!F19","v":16.244499999999999},7.9071055981624283E-2,{"$f":"'price data'!G19","v":48.47},2.0652630223928501E-3,{"$f":"'price data'!H19","v":14.53},0.23039621650223807,{"$f":"'price data'!I19","v":328.73},1.1165439254454257E-2,{"$f":"'price data'!J19","v":93.95},-2.9057480447062831E-2,{"$f":"'price data'!K19","v":58.37},1.9549104527449394E-2,{"$f":"'price data'!L19","v":27.439599999999999},-8.3882656880058262E-2,{"$f":"'price data'!M19","v":106.97},6.3784699819818033E-2,{"$f":"'price data'!N19","v":241.08},5.5300859864596159E-2,{"$f":"'price data'!O19","v":199.74},8.87879890486378E-2,{"$f":"'price data'!P19","v":124.61},-5.3513762880654001E-2,{"$f":"'price data'!Q19","v":164.24},6.5610698246959365E-2,{"$f":"'price data'!R19","v":169.7577},2.9489034644309513E-2,{"$f":"'price data'!S19","v":360.58},-5.7863818221451632E-2,{"$f":"'price data'!T19","v":117.8425},1.4223998491899501E-3,{"$f":"'price data'!U19","v":38.729999999999997},2.0677184932298381E-3,{"$f":"'price data'!V19","v":119.97},3.7579901423294444E-3,{"$f":"'price data'!W19","v":142.24},3.5784553775345569E-2,{"$f":"'price data'!X19","v":318.91000000000003},-1.4815546914580284E-2,{"$f":"'price data'!Y19","v":143.74},1.3024482134875611E-2,{"$f":"'price data'!Z19","v":36.979999999999997},1.1969675009118044E-2,{"$f":"'price data'!AA19","v":22.224900000000002},-6.5113723844906476E-2,{"$f":"'price data'!AB19","v":249.68},-9.9630202825563337E-3,{"$f":"'price data'!AC19","v":233.89},-9.3198112718814782E-3,{"$f":"'price data'!AD19","v":47.3429},1.5039797592878591E-2,{"$f":"'price data'!AE19","v":55.29},2.3978452759983133E-2,null,{"$f":"'price data'!AF19","v":421.65},6.5911032991153549E-3]
["2021-06-01",{"$f":"'price data'!B20","v":85.28},-8.9558552321237703E-2,{"$f":"'price data'!C20","v":226.56440000000001},8.354784864845799E-2,{"$f":"'price data'!D20","v":52.29},-0.10965421053252583,{"$f":"'price data'!E20","v":239.56},-3.0665397613606666E-2,{"$f":"'price data'!F20","v":20.002500000000001},0.20810287579589118,{"$f":"'price data'!G20","v":45.82},-5.6224372831935071E-2,{"$f":"'price data'!H20","v":14.86},2.2457561707421674E-2,{"$f":"'price data'!I20","v":347.71},5.6132053886438563E-2,{"$f":"'price data'!J20","v":104.44},0.10585001797145373,{"$f":"'price data'!K20","v":63.08},7.7601702879137993E-2,{"$f":"'price data'!L20","v":31.006799999999998},0.12221930977714084,{"$f":"'price data'!M20","v":102.47},-4.2978348506412925E-2,{"$f":"'price data'!N20","v":217.63},-0.10233245548886764,{"$f":"'price data'!O20","v":229.52},0.13897365085812077,{"$f":"'price data'!P20","v":136.96},9.4500052438655807E-2,{"$f":"'price data'!Q20","v":155.54},-5.4425839443881033E-2,{"$f":"'price data'!R20","v":166.07060000000001},-2.1959127088336694E-2,{"$f":"'price data'!S20","v":365.09},1.2430052416199504E-2,{"$f":"'price data'!T20","v":122.0895},3.5405395196478534E-2,{"$f":"'price data'!U20","v":39.159999999999997},1.1041324135648845E-2,{"$f":"'price data'!V20","v":115.03},-4.2048747618917755E-2,{"$f":"'price data'!W20","v":144.63999999999999},1.6732124878271859E-2,{"$f":"'price data'!X20","v":318.89},-6.271558484355691E-5,{"$f":"'price data'!Y20","v":146.59},1.9633462261643104E-2,{"$f":"'price data'!Z20","v":38.31},3.5333732753578928E-2,{"$f":"'price data'!AA20","v":21.734100000000002},-2.2330826236344286E-2,{"$f":"'price data'!AB20","v":270.89999999999998},8.1569651128525225E-2,{"$f":"'price data'!AC20","v":230.99},-1.2476499821339922E-2,{"$f":"'price data'!AD20","v":47.0062},-7.1373532835210286E-3,{"$f":"'price data'!AE20","v":54.11},-2.1573048695197754E-2,null,{"$f":"'price data'!AF20","v":429.92},1.9423558846530537E-2]
["2021-07-01",{"$f":"'price data'!B21","v":76.87},-0.10382427705649375,{"$f":"'price data'!C21","v":229.06440000000001},1.0973955505243367E-2,{"$f":"'price data'!D21","v":46.72},-0.11263280968006764,{"$f":"'price data'!E21","v":226.48},-5.6147266592617553E-2,{"$f":"'price data'!F21","v":19.498999999999999},-2.5494083538692352E-2,{"$f":"'price data'!G21","v":39.619999999999997},-0.14538663575494459,{"$f":"'price data'!H21","v":13.95},-6.3193531022238444E-2,{"$f":"'price data'!I21","v":356.3},2.4404273585893598E-2,{"$f":"'price data'!J21","v":114.12},8.8637782514371113E-2,{"$f":"'price data'!K21","v":57.57},-9.1402163407119374E-2,{"$f":"'price data'!L21","v":37.268799999999999},0.18394998022585196,{"$f":"'price data'!M21","v":100.28},-2.1603799521533847E-2,{"$f":"'price data'!N21","v":206.75},-5.1286039222175034E-2,{"$f":"'price data'!O21","v":243.5},5.9126770849535062E-2,{"$f":"'price data'!P21","v":145.86000000000001},6.2958345162655041E-2,{"$f":"'price data'!Q21","v":151.78},-2.4470829291030432E-2,{"$f":"'price data'!R21","v":165.49369999999999},-3.4798715191255302E-3,{"$f":"'price data'!S21","v":385.94},5.5538018437955999E-2,{"$f":"'price data'!T21","v":134.72649999999999},9.849241521576145E-2,{"$f":"'price data'!U21","v":42.81},8.9115902494545221E-2,{"$f":"'price data'!V21","v":131.38999999999999},0.13297703574581174,{"$f":"'price data'!W21","v":157.19999999999999},8.3270983351239794E-2,{"$f":"'price data'!X21","v":328.19},2.8746493233777894E-2,{"$f":"'price data'!Y21","v":140.96},-3.9163412114070352E-2,{"$f":"'price data'!Z21","v":40.700000000000003},6.0517133735991727E-2,{"$f":"'price data'!AA21","v":21.1828},-2.5692924091488326E-2,{"$f":"'price data'!AB21","v":284.91000000000003},5.042359183192166E-2,{"$f":"'price data'!AC21","v":242.71},4.9492895473705514E-2,{"$f":"'price data'!AD21","v":47.516199999999998},1.0791197623274525E-2,{"$f":"'price data'!AE21","v":57.03},5.2558433513803543E-2,null,{"$f":"'price data'!AF21","v":440.4},2.4084259981343677E-2]
["2021-08-01",{"$f":"'price data'!B22","v":82.73},7.3466609841050814E-2,{"$f":"'price data'!C22","v":245.23750000000001},6.8223942020977563E-2,{"$f":"'price data'!D22","v":46.51},-4.5049952839659544E-3,{"$f":"'price data'!E22","v":219.5},-3.1304408288418066E-2,{"$f":"'price data'!F22","v":22.385000000000002},0.13802790948947929,{"$f":"'price data'!G22","v":39.53},-2.2741639618106815E-3,{"$f":"'price data'!H22","v":13.03},-6.8225117130620933E-2,{"$f":"'price data'!I22","v":379.38},6.2765268686786405E-2,{"$f":"'price data'!J22","v":127.53},0.11110110469350915,{"$f":"'price data'!K22","v":54.52},-5.4433991859386376E-2,{"$f":"'price data'!L22","v":38.066600000000001},2.1180741743828609E-2,{"$f":"'price data'!M22","v":105.88},5.4340104068807911E-2,{"$f":"'price data'!N22","v":210.87},1.9731495952122927E-2,{"$f":"'price data'!O22","v":258.29000000000002},5.8966042156857169E-2,{"$f":"'price data'!P22","v":151.83000000000001},4.0114216338009302E-2,{"$f":"'price data'!Q22","v":159.94999999999999},5.2429162419760131E-2,{"$f":"'price data'!R22","v":162.81819999999999},-1.6298886695521098E-2,{"$f":"'price data'!S22","v":346.23},-0.10857862286778656,{"$f":"'price data'!T22","v":144.69749999999999},7.1398558814464511E-2,{"$f":"'price data'!U22","v":46.07},7.3390258790970761E-2,{"$f":"'price data'!V22","v":131.03},-2.7436950372367297E-3,{"$f":"'price data'!W22","v":174.43},0.10400463503493731,{"$f":"'price data'!X22","v":326.18},-6.1433327369408266E-3,{"$f":"'price data'!Y22","v":140.34},-4.4081123637267714E-3,{"$f":"'price data'!Z22","v":46.03},0.12306526538060071,{"$f":"'price data'!AA22","v":20.707000000000001},-2.271772426655521E-2,{"$f":"'price data'!AB22","v":301.88},5.7856246493696771E-2,{"$f":"'price data'!AC22","v":237.46},-2.1868126777521757E-2,{"$f":"'price data'!AD22","v":49.366199999999999},3.8195273961768639E-2,{"$f":"'price data'!AE22","v":56.31},-1.2705305901920315E-2,null,{"$f":"'price data'!AF22","v":453.71},2.9774822574747176E-2]
["2021-09-01",{"$f":"'price data'!B23","v":88.95},7.2492120909752614E-2,{"$f":"'price data'!C23","v":258.4907},5.2632587765188053E-2,{"$f":"'price data'!D23","v":47.57},2.2534967208184434E-2,{"$f":"'price data'!E23","v":219.94},2.002549367562432E-3,{"$f":"'price data'!F23","v":20.716000000000001},-7.7484743131283812E-2,{"$f":"'price data'!G23","v":36.61},-7.6738450176449299E-2,{"$f":"'price data'!H23","v":14.16},8.3166697128819994E-2,{"$f":"'price data'!I23","v":339.39},-0.11138845269209174,{"$f":"'price data'!J23","v":126.99},-4.2432878378664326E-3,{"$f":"'price data'!K23","v":58.82},7.5914326297517126E-2,{"$f":"'price data'!L23","v":36.3504},-4.6132049193250618E-2,{"$f":"'price data'!M23","v":105.2},-6.4430770552909942E-3,{"$f":"'price data'!N23","v":191.97},-9.3902720036445092E-2,{"$f":"'price data'!O23","v":231.05},-0.11144884736322619,{"$f":"'price data'!P23","v":141.5},-7.0461756810804105E-2,{"$f":"'price data'!Q23","v":163.69},2.3113128760736273E-2,{"$f":"'price data'!R23","v":146.6652},-0.10448180273759655,{"$f":"'price data'!S23","v":347.68},4.1792224076964198E-3,{"$f":"'price data'!T23","v":133.67599999999999},-7.9226394725914445E-2,{"$f":"'price data'!U23","v":43.01},-6.8729332152180772E-2,{"$f":"'price data'!V23","v":122.31},-6.8867499117222175E-2,{"$f":"'price data'!W23","v":155.46},-0.11513505122796978,{"$f":"'price data'!X23","v":328.26},6.3566010750178434E-3,{"$f":"'price data'!Y23","v":138.93},-1.0097840663372364E-2,{"$f":"'price data'!Z23","v":40.43},-0.12972127417647061,{"$f":"'price data'!AA23","v":20.397400000000001},-1.506436561067551E-2,{"$f":"'price data'!AB23","v":281.92},-6.8406244668852909E-2,{"$f":"'price data'!AC23","v":241.11},1.5254072655090512E-2,{"$f":"'price data'!AD23","v":46.459499999999998},-6.0685014150121286E-2,{"$f":"'price data'!AE23","v":52.47},-7.0630561567906772E-2,null,{"$f":"'price data'!AF23","v":430.82},-5.1767857963318488E-2]
["2021-10-01",{"$f":"'price data'!B24","v":84.43},-5.2151625430435541E-2,{"$f":"'price data'!C24","v":371.32960000000003},0.36223036139647985,{"$f":"'price data'!D24","v":46.14},-3.0522057698582555E-2,{"$f":"'price data'!E24","v":207.03},-6.0491071582168286E-2,{"$f":"'price data'!F24","v":25.567},0.21039610886811227,{"$f":"'price data'!G24","v":36.49},-3.2831766837885185E-3,{"$f":"'price data'!H24","v":17.079999999999998},0.18748710009484995,{"$f":"'price data'!I24","v":323.57},-4.7734414765447715E-2,{"$f":"'price data'!J24","v":124.08},-2.3181824332658581E-2,{"$f":"'price data'!K24","v":64.47},9.1718066196679854E-2,{"$f":"'price data'!L24","v":35.580599999999997},-2.1404662543619397E-2,{"$f":"'price data'!M24","v":110.05},4.5071507668861206E-2,{"$f":"'price data'!N24","v":204.01},6.0829902431159245E-2,{"$f":"'price data'!O24","v":254.76},9.7687788186889488E-2,{"$f":"'price data'!P24","v":149.80000000000001},5.7001353999826844E-2,{"$f":"'price data'!Q24","v":169.89},3.7176773637560064E-2,{"$f":"'price data'!R24","v":149.39080000000001},1.8413252956474412E-2,{"$f":"'price data'!S24","v":335.52},-3.5600949354509782E-2,{"$f":"'price data'!T24","v":148.04599999999999},0.10210407464606581,{"$f":"'price data'!U24","v":43.74},1.6830368452976852E-2,{"$f":"'price data'!V24","v":124.94},2.1274816566152165E-2,{"$f":"'price data'!W24","v":143.6},-7.9356807187949907E-2,{"$f":"'price data'!X24","v":371.74},0.12438870787641736,{"$f":"'price data'!Y24","v":125.1},-0.10485679168790493,{"$f":"'price data'!Z24","v":40.020000000000003},-1.0192754497092059E-2,{"$f":"'price data'!AA24","v":19.075800000000001},-6.6986925744472126E-2,{"$f":"'price data'!AB24","v":331.62},0.16236639232541189,{"$f":"'price data'!AC24","v":245.55},1.8247331592516805E-2,{"$f":"'price data'!AD24","v":49.806199999999997},6.9558508934750046E-2,{"$f":"'price data'!AE24","v":56.37},7.1695524394863208E-2,null,{"$f":"'price data'!AF24","v":460.99},6.7685981327451156E-2]
["2021-11-01",{"$f":"'price data'!B25","v":69.819999999999993},-0.19000228700451877,{"$f":"'price data'!C25","v":381.5829},2.7238049340704187E-2,{"$f":"'price data'!D25","v":42.26},-8.7839240557697068E-2,{"$f":"'price data'!E25","v":197.85},-4.535454246918693E-2,{"$f":"'price data'!F25","v":32.676000000000002},0.2453384060498657,{"$f":"'price data'!G25","v":36.630000000000003},3.8293263423666629E-3,{"$f":"'price data'!H25","v":19.190000000000001},0.11648112165918481,{"$f":"'price data'!I25","v":324.45999999999998},2.7467881412154725E-3,{"$f":"'price data'!J25","v":121.92},-1.7561426929947183E-2,{"$f":"'price data'!K25","v":59.84},-7.4525665656306861E-2,{"$f":"'price data'!L25","v":32.868200000000002},-7.9294920505639174E-2,{"$f":"'price data'!M25","v":102.26},-7.3416218320617427E-2,{"$f":"'price data'!N25","v":193.35},-5.3666994197331716E-2,{"$f":"'price data'!O25","v":248.04},-2.6731902021487786E-2,{"$f":"'price data'!P25","v":165.3},9.8460933743859308E-2,{"$f":"'price data'!Q25","v":158.83000000000001},-6.7316720946759473E-2,{"$f":"'price data'!R25","v":142.167},-4.9563268223910786E-2,{"$f":"'price data'!S25","v":314.92},-6.3362928837343319E-2,{"$f":"'price data'!T25","v":141.89750000000001},-4.2418070313328185E-2,{"$f":"'price data'!U25","v":53.73},0.20570848949210824,{"$f":"'price data'!V25","v":122.84},-1.6950926492802217E-2,{"$f":"'price data'!W25","v":133.54},-7.2630598184401041E-2,{"$f":"'price data'!X25","v":400.61},7.4793700296117399E-2,{"$f":"'price data'!Y25","v":117.1},-6.608514686919377E-2,{"$f":"'price data'!Z25","v":41.53},3.7036728487074747E-2,{"$f":"'price data'!AA25","v":17.2408},-0.10114184813151501,{"$f":"'price data'!AB25","v":330.59},-3.110798177661701E-3,{"$f":"'price data'!AC25","v":244.6},-3.8763692321816677E-3,{"$f":"'price data'!AD25","v":46.876199999999997},-6.0629390310442781E-2,{"$f":"'price data'!AE25","v":52.45},-7.207676725117737E-2,null,{"$f":"'price data'!AF25","v":457.63},-7.3153534301832112E-3]
["2021-12-01",{"$f":"'price data'!B26","v":76.900000000000006},9.6585374834708443E-2,{"$f":"'price data'!C26","v":352.25650000000002},-7.9968523837374017E-2,{"$f":"'price data'!D26","v":43.78},3.5336079906806407E-2,{"$f":"'price data'!E26","v":201.32},1.7386514076726027E-2,{"$f":"'price data'!F26","v":29.411000000000001},-0.10527210945165304,{"$f":"'price data'!G26","v":37.69},2.8527230488320895E-2,{"$f":"'price data'!H26","v":20.77},7.912032786841236E-2,{"$f":"'price data'!I26","v":336.35},3.5990022489362096E-2,{"$f":"'price data'!J26","v":133.47},9.0511641547723967E-2,{"$f":"'price data'!K26","v":61.19},2.2309443808227265E-2,{"$f":"'price data'!L26","v":34.965000000000003},6.1841936159557909E-2,{"$f":"'price data'!M26","v":108.24},5.6832394210679357E-2,{"$f":"'price data'!N26","v":206.74},6.6959947087032762E-2,{"$f":"'price data'!O26","v":276.22000000000003},0.10760762616810557,{"$f":"'price data'!P26","v":177.57},7.1602892543764798E-2,{"$f":"'price data'!Q26","v":158.35},-3.0266748624149945E-3,{"$f":"'price data'!R26","v":148.5129},4.3669400229996561E-2,{"$f":"'price data'!S26","v":359.32},0.13189471804473926,{"$f":"'price data'!T26","v":144.852},2.0607565537066719E-2,{"$f":"'price data'!U26","v":59.05},9.4413037902641231E-2,{"$f":"'price data'!V26","v":138.86000000000001},0.12258353575250583,{"$f":"'price data'!W26","v":136.16999999999999},1.9503046706761201E-2,{"$f":"'price data'!X26","v":415.01},3.5314230849602953E-2,{"$f":"'price data'!Y26","v":133.66},0.13227099147925242,{"$f":"'price data'!Z26","v":45.26},8.6007582562728987E-2,{"$f":"'price data'!AA26","v":18.577400000000001},7.4667120308169743E-2,{"$f":"'price data'!AB26","v":336.32},1.7184150793021463E-2,{"$f":"'price data'!AC26","v":268.07},9.1623917182413417E-2,{"$f":"'price data'!AD26","v":48.229500000000002},2.8460783072743398E-2,{"$f":"'price data'!AE26","v":59.21},0.12123011170137855,null,{"$f":"'price data'!AF26","v":476.99},4.1434528950777552E-2]
["2022-01-01",{"$f":"'price data'!B27","v":77.81},1.1764081117240484E-2,{"$f":"'price data'!C27","v":312.23689999999999},-0.12059740884918396,{"$f":"'price data'!D27","v":42.88},-2.0771575332170278E-2,{"$f":"'price data'!E27","v":200.24},-5.379034784640419E-3,{"$f":"'price data'!F27","v":24.486000000000001},-0.18326722837624621,{"$f":"'price data'!G27","v":34.57},-8.6408553345510855E-2,{"$f":"'price data'!H27","v":20.3},-2.2888751840279276E-2,{"$f":"'price data'!I27","v":313.26},-7.1118767821098841E-2,{"$f":"'price data'!J27","v":123.45},-7.8040517694871622E-2,{"$f":"'price data'!K27","v":75.959999999999994},0.21622310846963599,{"$f":"'price data'!L27","v":29.711600000000001},-0.16281001921014565,{"$f":"'price data'!M27","v":111.57},3.0301212742555764E-2,{"$f":"'price data'!N27","v":201.56},-2.537486132794136E-2,{"$f":"'price data'!O27","v":245.39},-0.11834886799951823,{"$f":"'price data'!P27","v":174.78},-1.5836857171345101E-2,{"$f":"'price data'!Q27","v":148.6},-6.3549640700989993E-2,{"$f":"'price data'!R27","v":138.80600000000001},-6.7594548352635467E-2,{"$f":"'price data'!S27","v":386.38},7.2607984803402054E-2,{"$f":"'price data'!T27","v":135.30350000000001},-6.8192128224327658E-2,{"$f":"'price data'!U27","v":52.69},-0.11395885842217696,{"$f":"'price data'!V27","v":125.17},-0.10379341798519531,{"$f":"'price data'!W27","v":124.42},-9.0241166049610064E-2,{"$f":"'price data'!X27","v":366.98},-0.12299526566911968,{"$f":"'price data'!Y27","v":133.57},-6.7357709391012508E-4,{"$f":"'price data'!Z27","v":43.59},-3.7595873955089926E-2,{"$f":"'price data'!AA27","v":19.257100000000001},3.5934035721734356E-2,{"$f":"'price data'!AB27","v":310.98},-7.8334486258916036E-2,{"$f":"'price data'!AC27","v":259.45},-3.2684134621736756E-2,{"$f":"'price data'!AD27","v":46.602899999999998},-3.4308096080702663E-2,{"$f":"'price data'!AE27","v":61.01},2.9947338620076321E-2,null,{"$f":"'price data'!AF27","v":451.77},-5.4322325541161204E-2]
["2022-02-01",{"$f":"'price data'!B28","v":80.72},3.6716418416514719E-2,{"$f":"'price data'!C28","v":290.1404},-7.3397250808163408E-2,{"$f":"'price data'!D28","v":44.4},3.4833952675632489E-2,{"$f":"'price data'!E28","v":205.34},2.5150494747299992E-2,{"$f":"'price data'!F28","v":24.385000000000002},-4.1333364897077262E-3,{"$f":"'price data'!G28","v":41.3},0.17787624603345376,{"$f":"'price data'!H28","v":17.559999999999999},-0.14499729784077114,{"$f":"'price data'!I28","v":211.03},-0.39503321318629447,{"$f":"'price data'!J28","v":106.82},-0.14469104087956439,{"$f":"'price data'!K28","v":78.42},3.1872110920100651E-2,{"$f":"'price data'!L28","v":30.466999999999999},2.5106588705495727E-2,{"$f":"'price data'!M28","v":111.66},8.0634327712614002E-4,{"$f":"'price data'!N28","v":187.58},-7.1881682731604904E-2,{"$f":"'price data'!O28","v":249.95},1.8412116209314818E-2,{"$f":"'price data'!P28","v":165.12},-5.6855557906200289E-2,{"$f":"'price data'!Q28","v":141.80000000000001},-4.6840518185631536E-2,{"$f":"'price data'!R28","v":124.2833},-0.11051363768683527,{"$f":"'price data'!S28","v":360.82},-6.8442122139751052E-2,{"$f":"'price data'!T28","v":135.05699999999999},-1.8234917327314729E-3,{"$f":"'price data'!U28","v":46.94},-0.11555549379831696,{"$f":"'price data'!V28","v":122.58},-2.0908935282346504E-2,{"$f":"'price data'!W28","v":110.44},-0.11919055202492002,{"$f":"'price data'!X28","v":315.83},-0.15010325651374051,{"$f":"'price data'!Y28","v":122.51},-8.6433025682934733E-2,{"$f":"'price data'!Z28","v":46.8},7.1055436673299721E-2,{"$f":"'price data'!AA28","v":17.8902},-7.3626747013141647E-2,{"$f":"'price data'!AB28","v":298.79000000000002},-3.9987615933189155E-2,{"$f":"'price data'!AC28","v":244.77},-5.8245011704930079E-2,{"$f":"'price data'!AD28","v":45.052900000000001},-3.3825416053462759E-2,{"$f":"'price data'!AE28","v":62.24},1.9960094706375133E-2,null,{"$f":"'price data'!AF28","v":438.72},-2.9311804392888084E-2]
["2022-03-01",{"$f":"'price data'!B29","v":83.78},3.720793947353529E-2,{"$f":"'price data'!C29","v":359.19639999999998},0.21350437035150838,{"$f":"'price data'!D29","v":46.36},4.3197549033371883E-2,{"$f":"'price data'!E29","v":191.5},-6.9779333250118009E-2,{"$f":"'price data'!F29","v":27.286000000000001},0.11240556097866652,{"$f":"'price data'!G29","v":39.4},-4.7096683663098861E-2,{"$f":"'price data'!H29","v":16.91},-3.7718425296481603E-2,{"$f":"'price data'!I29","v":222.36},5.2297386621047291E-2,{"$f":"'price data'!J29","v":105.28},-1.452170733461711E-2,{"$f":"'price data'!K29","v":82.59},5.1809610958440028E-2,{"$f":"'price data'!L29","v":31.640599999999999},3.7796975406018424E-2,{"$f":"'price data'!M29","v":118.17},5.6665725768709915E-2,{"$f":"'price data'!N29","v":222.82},0.17215884955037786,{"$f":"'price data'!O29","v":286.37},0.13602378313704125,{"$f":"'price data'!P29","v":174.61},5.5882433240838261E-2,{"$f":"'price data'!Q29","v":136.32},-3.9412551017021596E-2,{"$f":"'price data'!R29","v":124.4756},1.5460756443718723E-3,{"$f":"'price data'!S29","v":357.38},-9.5795775741417261E-3,{"$f":"'price data'!T29","v":139.0675},2.926251522044027E-2,{"$f":"'price data'!U29","v":51.77},9.7940640490932596E-2,{"$f":"'price data'!V29","v":118.53},-3.3597784966176554E-2,{"$f":"'price data'!W29","v":118.61},7.1368412979230661E-2,{"$f":"'price data'!X29","v":299.33},-5.3657450428442402E-2,{"$f":"'price data'!Y29","v":130.02000000000001},5.9495625470243604E-2,{"$f":"'price data'!Z29","v":57.37},0.20363831569017871,{"$f":"'price data'!AA29","v":17.844899999999999},-2.5353237721564914E-3,{"$f":"'price data'!AB29","v":308.31},3.1364784808610387E-2,{"$f":"'price data'!AC29","v":247.28},1.0202303715042261E-2,{"$f":"'price data'!AD29","v":49.639499999999998},9.6949532862040333E-2,{"$f":"'price data'!AE29","v":62},-3.8634948250445898E-3,null,{"$f":"'price data'!AF29","v":453.69},3.35527490568093E-2]
["2022-04-01",{"$f":"'price data'!B30","v":77.73},-7.4953032276760465E-2,{"$f":"'price data'!C30","v":290.25040000000001},-0.21312531540674653,{"$f":"'price data'!D30","v":50.5},8.5536317809763091E-2,{"$f":"'price data'!E30","v":148.84},-0.25201590514227884,{"$f":"'price data'!F30","v":18.547000000000001},-0.38606569923353257,{"$f":"'price data'!G30","v":36.450000000000003},-7.7824357849220829E-2,{"$f":"'price data'!H30","v":14.16},-0.17748407464491525,{"$f":"'price data'!I30","v":200.47},-0.10363308046888399,{"$f":"'price data'!J30","v":91.05},-0.14521466140339015,{"$f":"'price data'!K30","v":85.25},3.1699508341000542E-2,{"$f":"'price data'!L30","v":29.112200000000001},-8.3283775751702316E-2,{"$f":"'price data'!M30","v":108.51},-8.5281931018807849E-2,{"$f":"'price data'!N30","v":210.54},-5.6688611807991701E-2,{"$f":"'price data'!O30","v":292.13},1.9914227676558371E-2,{"$f":"'price data'!P30","v":157.65},-0.10217752954296631,{"$f":"'price data'!Q30","v":119.36},-0.13286092662555476,{"$f":"'price data'!R30","v":120.5795},-3.1800426333643557E-2,{"$f":"'price data'!S30","v":363.38},1.6649477223779227E-2,{"$f":"'price data'!T30","v":114.1095},-0.19780091307030367,{"$f":"'price data'!U30","v":49.07},-5.3562980811998062E-2,{"$f":"'price data'!V30","v":117.01},-1.2906691860542416E-2,{"$f":"'price data'!W30","v":109.74},-7.7726868410355171E-2,{"$f":"'price data'!X30","v":300.39999999999998},3.568276175354968E-3,{"$f":"'price data'!Y30","v":132.21},1.6703282745682592E-2,{"$f":"'price data'!Z30","v":53.96},-6.1278487274224545E-2,{"$f":"'price data'!AA30","v":18.86},5.5325524089480452E-2,{"$f":"'price data'!AB30","v":277.52},-0.10521276764359717,{"$f":"'price data'!AC30","v":249.16},7.5739625620837971E-3,{"$f":"'price data'!AD30","v":50.996200000000002},2.696423238089226E-2,{"$f":"'price data'!AE30","v":64.61},4.1234812524982449E-2,null,{"$f":"'price data'!AF30","v":413.56},-9.2611538712266517E-2]
["2022-05-01",{"$f":"'price data'!B31","v":58.07},-0.2915921038581698,{"$f":"'price data'!C31","v":252.7508},-0.13833997562080091,{"$f":"'price data'!D31","v":47.63},-5.8510521468545053E-2,{"$f":"'price data'!E31","v":131.4},-0.12462579742791165,{"$f":"'price data'!F31","v":18.672000000000001},6.7170246370503841E-3,{"$f":"'price data'!G31","v":35.18},-3.5463719145255077E-2,{"$f":"'price data'!H31","v":13.68},-3.4486176071169321E-2,{"$f":"'price data'!I31","v":193.64},-3.4663844544891319E-2,{"$f":"'price data'!J31","v":88.01},-3.3958361787896463E-2,{"$f":"'price data'!K31","v":96},0.11876007530421016,{"$f":"'price data'!L31","v":28.050999999999998},-3.7133048348373478E-2,{"$f":"'price data'!M31","v":106.25},-2.1047526827590132E-2,{"$f":"'price data'!N31","v":215.85},2.4908063178307675E-2,{"$f":"'price data'!O31","v":313.44},7.0409045523051772E-2,{"$f":"'price data'!P31","v":148.84},-5.7505482512648039E-2,{"$f":"'price data'!Q31","v":132.22999999999999},0.10239869411328063,{"$f":"'price data'!R31","v":124.8184},3.4550594537144728E-2,{"$f":"'price data'!S31","v":357.87},-1.5279326712330253E-2,{"$f":"'price data'!T31","v":113.762},-3.0499669276675885E-3,{"$f":"'price data'!U31","v":53.04},7.779849577579509E-2,{"$f":"'price data'!V31","v":121.47},3.7407917481312822E-2,{"$f":"'price data'!W31","v":105.62},-3.8266184352042133E-2,{"$f":"'price data'!X31","v":302.75},7.7924625432220515E-3,{"$f":"'price data'!Y31","v":138.84},4.8930623471580129E-2,{"$f":"'price data'!Z31","v":52.97},-1.851731578311986E-2,{"$f":"'price data'!AA31","v":21.29},0.12119420170007671,{"$f":"'price data'!AB31","v":271.87},-2.0568991792256242E-2,{"$f":"'price data'!AC31","v":252.21},1.216681342937034E-2,{"$f":"'price data'!AD31","v":42.876199999999997},-0.17343422671178083,{"$f":"'price data'!AE31","v":63.38},-1.9220843307299309E-2,null,{"$f":"'price data'!AF31","v":414.87},3.162611426184429E-3]
["2022-06-01",{"$f":"'price data'!B32","v":34.909999999999997},-0.50887585826701398,{"$f":"'price data'!C32","v":224.47110000000001},-0.11865705469498279,{"$f":"'price data'!D32","v":35.42},-0.29618618245808159,{"$f":"'price data'!E32","v":136.72},3.9688932756825238E-2,{"$f":"'price data'!F32","v":15.159000000000001},-0.20843066056631893,{"$f":"'price data'!G32","v":31.66},-0.105423684856546,{"$f":"'price data'!H32","v":11.13},-0.2062907469069509,{"$f":"'price data'!I32","v":161.25},-0.18304480939561171,{"$f":"'price data'!J32","v":83.52},-5.2364320251391851E-2,{"$f":"'price data'!K32","v":85.64},-0.11419572774635418,{"$f":"'price data'!L32","v":26.145199999999999},-7.0358664700083409E-2,{"$f":"'price data'!M32","v":95.68},-0.10478551760220448,{"$f":"'price data'!N32","v":178.76},-0.18853959793623584,{"$f":"'price data'!O32","v":324.23},3.384518629613345E-2,{"$f":"'price data'!P32","v":136.72},-8.4936864671086312E-2,{"$f":"'price data'!Q32","v":112.61},-0.16061230885979724,{"$f":"'price data'!R32","v":108.19710000000001},-0.1429053171300787,{"$f":"'price data'!S32","v":315.48},-0.12607450343217388,{"$f":"'price data'!T32","v":108.96299999999999},-4.3100171710577728E-2,{"$f":"'price data'!U32","v":52.43},-1.1567399293165611E-2,{"$f":"'price data'!V32","v":113.51},-6.7776379944931422E-2,{"$f":"'price data'!W32","v":98.25},-7.2332496529416548E-2,{"$f":"'price data'!X32","v":274.27},-9.8794359774584617E-2,{"$f":"'price data'!Y32","v":141.19},1.6784310027848172E-2,{"$f":"'price data'!Z32","v":47.33},-0.11258137163827872,{"$f":"'price data'!AA32","v":20.96},-1.5621619452546578E-2,{"$f":"'price data'!AB32","v":256.83},-5.6909623446734003E-2,{"$f":"'price data'!AC32","v":246.88},-2.1359685200464513E-2,{"$f":"'price data'!AD32","v":40.526299999999999},-5.6365747361806565E-2,{"$f":"'price data'!AE32","v":62.91},-7.4432206808365004E-3,null,{"$f":"'price data'!AF32","v":379.15},-9.0033312997732234E-2]
["2022-07-01",{"$f":"'price data'!B33","v":38.71},0.10332464347261218,{"$f":"'price data'!C33","v":297.14699999999999},0.2804799974669735,{"$f":"'price data'!D33","v":36.75},3.6861593304158204E-2,{"$f":"'price data'!E33","v":159.31},0.15291695077746797,{"$f":"'price data'!F33","v":18.163},0.18079214278942504,{"$f":"'price data'!G33","v":37.81},0.17751956344997541,{"$f":"'price data'!H33","v":14.69},0.2775228248983323,{"$f":"'price data'!I33","v":159.1},-1.3423020332140774E-2,{"$f":"'price data'!J33","v":95.89},0.13811557703126132,{"$f":"'price data'!K33","v":96.93},0.12383660478303464,{"$f":"'price data'!L33","v":31.284400000000002},0.17945395348931986,{"$f":"'price data'!M33","v":99.99},4.4060890785436208E-2,{"$f":"'price data'!N33","v":198.25},0.10348473644970657,{"$f":"'price data'!O33","v":329.69},1.6699678521760183E-2,{"$f":"'price data'!P33","v":162.51},0.17280449953058177,{"$f":"'price data'!Q33","v":115.36},2.4127151827704821E-2,{"$f":"'price data'!R33","v":119.76009999999999},0.10153601127928347,{"$f":"'price data'!S33","v":353.79},0.11460822824019821,{"$f":"'price data'!T33","v":116.32},6.5336638723386603E-2,{"$f":"'price data'!U33","v":50.51},-3.73076101044802E-2,{"$f":"'price data'!V33","v":122.54},7.6546568530260567E-2,{"$f":"'price data'!W33","v":97.62},-6.4328602903691422E-3,{"$f":"'price data'!X33","v":300.94},9.2797886672114957E-2,{"$f":"'price data'!Y33","v":130.79},-7.6513517520372748E-2,{"$f":"'price data'!Z33","v":46.44},-1.8983187088465917E-2,{"$f":"'price data'!AA33","v":18.78},-0.1098233856727245,{"$f":"'price data'!AB33","v":280.74},8.9014586683676122E-2,{"$f":"'price data'!AC33","v":263.37},6.4657498991376308E-2,{"$f":"'price data'!AD33","v":44.016199999999998},8.2606601903325888E-2,{"$f":"'price data'!AE33","v":64.17},1.9830678180485714E-2,null,{"$f":"'price data'!AF33","v":414.28},8.8610168573733578E-2]
["2022-08-01",{"$f":"'price data'!B34","v":40.85},5.3808856716455092E-2,{"$f":"'price data'!C34","v":275.61},-7.5240142899064735E-2,{"$f":"'price data'!D34","v":35.01},-4.850449069227139E-2,{"$f":"'price data'!E34","v":160.25},5.8831062159758673E-3,{"$f":"'price data'!F34","v":15.093999999999999},-0.18508924390462977,{"$f":"'price data'!G34","v":38.57},1.9901154317294806E-2,{"$f":"'price data'!H34","v":15.24},3.6756560072714349E-2,{"$f":"'price data'!I34","v":162.93},2.3787725371122583E-2,{"$f":"'price data'!J34","v":80.83},-0.17085351741983679,{"$f":"'price data'!K34","v":95.59},-1.3920856428845399E-2,{"$f":"'price data'!L34","v":31.936},2.0614329382694363E-2,{"$f":"'price data'!M34","v":95.75},-4.3329552927002572E-2,{"$f":"'price data'!N34","v":184.71},-7.074183292372889E-2,{"$f":"'price data'!O34","v":301.23},-9.0278726454669625E-2,{"$f":"'price data'!P34","v":157.22},-3.3093439972306703E-2,{"$f":"'price data'!Q34","v":113.73},-1.4230455340285749E-2,{"$f":"'price data'!R34","v":103.9665},-0.14142184324791093,{"$f":"'price data'!S34","v":324.37},-8.6818677226824972E-2,{"$f":"'price data'!T34","v":108.22},-7.2178821570619986E-2,{"$f":"'price data'!U34","v":45.23},-0.11041075299020947,{"$f":"'price data'!V34","v":111.24},-9.6747477931744472E-2,{"$f":"'price data'!W34","v":88.49},-9.819283917974278E-2,{"$f":"'price data'!X34","v":288.42},-4.2493158196807664E-2,{"$f":"'price data'!Y34","v":128.44999999999999},-1.8053259945168487E-2,{"$f":"'price data'!Z34","v":47.94},3.1789072176547535E-2,{"$f":"'price data'!AA34","v":17.54},-6.830848683608004E-2,{"$f":"'price data'!AB34","v":261.47000000000003},-7.1109419935706741E-2,{"$f":"'price data'!AC34","v":252.28},-4.3020305810776649E-2,{"$f":"'price data'!AD34","v":44.182899999999997},3.7800884249143633E-3,{"$f":"'price data'!AE34","v":61.71},-3.908981942944844E-2,null,{"$f":"'price data'!AF34","v":397.18},-4.2152495284659391E-2]
["2022-09-01",{"$f":"'price data'!B35","v":37.9},{"$f":"LN(B37/B36)","v":-7.4955709217631256E-2},{"$f":"'price data'!C35","v":265.25},{"$f":"LN(D37/D36)","v":-3.8314045457392337E-2},{"$f":"'price data'!D35","v":32.53},{"$f":"LN(F37/F36)","v":-7.3470994481314125E-2},{"$f":"'price data'!E35","v":121.08},{"$f":"LN(H37/H36)","v":-0.28028361164726151},{"$f":"'price data'!F35","v":12.138999999999999},{"$f":"LN(J37/J36)","v":-0.21787390394701003},{"$f":"'price data'!G35","v":34.880000000000003},{"$f":"LN(L37/L36)","v":-0.10056117317935745},{"$f":"'price data'!H35","v":11.2},{"$f":"LN(N37/N36)","v":-0.30800977195745138},{"$f":"'price data'!I35","v":135.68},{"$f":"LN(P37/P36)","v":-0.18302148867127066},{"$f":"'price data'!J35","v":70.010000000000005},{"$f":"LN(R37/R36)","v":-0.14371009475664667},{"$f":"'price data'!K35","v":87.31},{"$f":"LN(T37/T36)","v":-9.0603208252954939E-2},{"$f":"'price data'!L35","v":30.055199999999999},{"$f":"LN(V37/V36)","v":-6.0698209193258142E-2},{"$f":"'price data'!M35","v":85.78},{"$f":"LN(X37/X36)","v":-0.10995474897202101},{"$f":"'price data'!N35","v":164.08},{"$f":"LN(Z37/Z36)","v":-0.11843291382710329},{"$f":"'price data'!O35","v":323.35000000000002},{"$f":"LN(AB37/AB36)","v":7.0861235333147213E-2},{"$f":"'price data'!P35","v":138.19999999999999},{"$f":"LN(AD37/AD36)","v":-0.12894418703204094},{"$f":"'price data'!Q35","v":104.5},{"$f":"LN(AF37/AF36)","v":-8.4640146791487542E-2},{"$f":"'price data'!R35","v":92.386799999999994},{"$f":"LN(AH37/AH36)","v":-0.11808462056672563},{"$f":"'price data'!S35","v":284.33999999999997},{"$f":"LN(AJ37/AJ36)","v":-0.13171413433561155},{"$f":"'price data'!T35","v":95.65},{"$f":"LN(AL37/AL36)","v":-0.12347049632832729},{"$f":"'price data'!U35","v":43.76},{"$f":"LN(AN37/AN36)","v":-3.3040425376025979E-2},{"$f":"'price data'!V35","v":106.34},{"$f":"LN(AP37/AP36)","v":-4.5048521289571541E-2},{"$f":"'price data'!W35","v":80.31},{"$f":"LN(AR37/AR36)","v":-9.6995405078887903E-2},{"$f":"'price data'!X35","v":275.94},{"$f":"LN(AT37/AT36)","v":-4.4234300354036922E-2},{"$f":"'price data'!Y35","v":118.81},{"$f":"LN(AV37/AV36)","v":-7.8014145085696443E-2},{"$f":"'price data'!Z35","v":43.75},{"$f":"LN(AX37/AX36)","v":-9.1458616202614765E-2},{"$f":"'price data'!AA35","v":15.34},{"$f":"LN(AZ37/AZ36)","v":-0.13402019100492676},{"$f":"'price data'!AB35","v":232.9},{"$f":"LN(BB37/BB36)","v":-0.11571037728017783},{"$f":"'price data'!AC35","v":230.74},{"$f":"LN(BD37/BD36)","v":-8.9248046296306852E-2},{"$f":"'price data'!AD35","v":43.232900000000001},{"$f":"LN(BF37/BF36)","v":-2.1736056925307754E-2},{"$f":"'price data'!AE35","v":56.02},{"$f":"LN(BH37/BH36)","v":-9.6737222501012993E-2},null,{"$f":"'price data'!AF35","v":358.65},{"$f":"LN(BK37/BK36)","v":-0.10204259586357527}]
["2022-10-01",{"$f":"'price data'!B36","v":53.38},0.3424850318879975,{"$f":"'price data'!C36","v":227.54},-0.15334673038252214,{"$f":"'price data'!D36","v":43.08},0.28089611180292767,{"$f":"'price data'!E36","v":142.51},0.16296068853160278,{"$f":"'price data'!F36","v":13.497},0.10604402861147842,{"$f":"'price data'!G36","v":43},0.20928651665278342,{"$f":"'price data'!H36","v":13.37},0.17709961281280304,{"$f":"'price data'!I36","v":93.16},-0.37598072702745283,{"$f":"'price data'!J36","v":72.63},3.6739970628970532E-2,{"$f":"'price data'!K36","v":110.81},0.23835201912551779,{"$f":"'price data'!L36","v":29.9666},-2.9522628229096252E-3,{"$f":"'price data'!M36","v":105.19},0.20398235966244832,{"$f":"'price data'!N36","v":216.46},0.27705165910287505,{"$f":"'price data'!O36","v":362.09},0.11315747181717094,{"$f":"'price data'!P36","v":153.34},0.10395576679717891,{"$f":"'price data'!Q36","v":125.88},0.18614200079134038,{"$f":"'price data'!R36","v":105.1705},0.12959873142838188,{"$f":"'price data'!S36","v":328.18},0.14339153313945255,{"$f":"'price data'!T36","v":94.51},-1.1990046879297183E-2,{"$f":"'price data'!U36","v":46.55},6.1806845609350243E-2,{"$f":"'price data'!V36","v":118.25},0.10615951929584989,{"$f":"'price data'!W36","v":88.04},9.1897110457890036E-2,{"$f":"'price data'!X36","v":296.13},7.0615096318018822E-2,{"$f":"'price data'!Y36","v":138.29},0.15182735100637079,{"$f":"'price data'!Z36","v":47.29},7.7807243852160979E-2,{"$f":"'price data'!AA36","v":18.23},0.17260479275146151,{"$f":"'price data'!AB36","v":232.13},-3.311617330939843E-3,{"$f":"'price data'!AC36","v":272.66000000000003},0.16693406225883997,{"$f":"'price data'!AD36","v":47.442900000000002},9.29251031955904E-2,{"$f":"'price data'!AE36","v":59.85},6.6132662172019629E-2,null,{"$f":"'price data'!AF36","v":387.79},7.811697341575051E-2]
["2022-11-01",{"$f":"'price data'!B37","v":59.93},0.11574107049371567,{"$f":"'price data'!C37","v":194.7},-0.15586613473341651,{"$f":"'price data'!D37","v":44.17},2.4986973320247269E-2,{"$f":"'price data'!E37","v":178.88},0.22730301728161362,{"$f":"'price data'!F37","v":16.922999999999998},0.22620620489880378,{"$f":"'price data'!G37","v":47.13},9.1709625242077084E-2,{"$f":"'price data'!H37","v":13.9},3.8875449022794266E-2,{"$f":"'price data'!I37","v":118.1},0.23721327818717644,{"$f":"'price data'!J37","v":83.26},0.13659018214875268,{"$f":"'price data'!K37","v":111.34},4.7715598071276961E-3,{"$f":"'price data'!L37","v":32.539200000000001},8.2362088249788065E-2,{"$f":"'price data'!M37","v":108.03},2.6640727577710809E-2,{"$f":"'price data'!N37","v":236.41},8.8161812954705918E-2,{"$f":"'price data'!O37","v":371.08},2.4524873075297809E-2,{"$f":"'price data'!P37","v":148.03},-3.524272220534766E-2,{"$f":"'price data'!Q37","v":138.18},9.3228110864442743E-2,{"$f":"'price data'!R37","v":105.321},1.4299867276918712E-3,{"$f":"'price data'!S37","v":356.4},8.2491457249649819E-2,{"$f":"'price data'!T37","v":100.99},6.6315853031500768E-2,{"$f":"'price data'!U37","v":50.13},7.4092627552336171E-2,{"$f":"'price data'!V37","v":128.66},8.4372238610811848E-2,{"$f":"'price data'!W37","v":92.99},5.4700703831844902E-2,{"$f":"'price data'!X37","v":323.99},8.9914104020583127E-2,{"$f":"'price data'!Y37","v":148.9},7.3922010213396408E-2,{"$f":"'price data'!Z37","v":49.19},3.9391494151464035E-2,{"$f":"'price data'!AA37","v":19.28},5.5999700491827897E-2,{"$f":"'price data'!AB37","v":255.14},9.451485455078841E-2,{"$f":"'price data'!AC37","v":272.79000000000002},4.7667064794752913E-4,{"$f":"'price data'!AD37","v":50.806199999999997},6.8491511712025263E-2,{"$f":"'price data'!AE37","v":63.61},6.0929258686730665E-2,null,{"$f":"'price data'!AF37","v":409.32},5.4033290230360631E-2]
["2022-12-01",{"$f":"'price data'!B38","v":49.43},-0.19261968715122596,{"$f":"'price data'!C38","v":123.18},-0.45781321211925669,{"$f":"'price data'!D38","v":37.700000000000003},-0.15838573115446994,{"$f":"'price data'!E38","v":190.49},6.2884509783872444E-2,{"$f":"'price data'!F38","v":14.614000000000001},-0.14669367005692255,{"$f":"'price data'!G38","v":41.6},-0.12480957366842194,{"$f":"'price data'!H38","v":11.63},-0.17830087360607302,{"$f":"'price data'!I38","v":120.34},1.87893465888892E-2,{"$f":"'price data'!J38","v":82.31},-1.1475634782276809E-2,{"$f":"'price data'!K38","v":110.3},-9.3846564959050322E-3,{"$f":"'price data'!L38","v":27.7498},-0.15921688340340953,{"$f":"'price data'!M38","v":99.46},-8.2653413042301088E-2,{"$f":"'price data'!N38","v":239.56},1.3236321574555268E-2,{"$f":"'price data'!O38","v":365.84},-1.4221593435271076E-2,{"$f":"'price data'!P38","v":129.93},-0.13041911203075576,{"$f":"'price data'!Q38","v":134.1},-2.9971392773016043E-2,{"$f":"'price data'!R38","v":100.2627},-4.9219088001002748E-2,{"$f":"'price data'!S38","v":347.73},-2.4627379027890781E-2,{"$f":"'price data'!T38","v":88.23},-0.13507446080445215,{"$f":"'price data'!U38","v":51.24},2.1900845753121345E-2,{"$f":"'price data'!V38","v":128.08000000000001},-4.5181972943948972E-3,{"$f":"'price data'!W38","v":92.29},-7.5561672126204333E-3,{"$f":"'price data'!X38","v":315.86},-2.5413573676580817E-2,{"$f":"'price data'!Y38","v":140.88999999999999},-5.5295495624778083E-2,{"$f":"'price data'!Z38","v":44.58},-9.8405022849525611E-2,{"$f":"'price data'!AA38","v":18.41},-4.6174293937413131E-2,{"$f":"'price data'!AB38","v":239.82},-6.1923772158856805E-2,{"$f":"'price data'!AC38","v":263.52999999999997},-3.4535054912750704E-2,{"$f":"'price data'!AD38","v":47.262900000000002},-7.2292761830655541E-2,{"$f":"'price data'!AE38","v":63.61},0,null,{"$f":"'price data'!AF38","v":384.21},-6.3307968112464655E-2]
["2023-01-01",{"$f":"'price data'!B39","v":64.94},0.27290623935583191,{"$f":"'price data'!C39","v":173.22},0.34091576264400142,{"$f":"'price data'!D39","v":48.96},0.26134354375010554,{"$f":"'price data'!E39","v":213},0.11169246595881836,{"$f":"'price data'!F39","v":19.536999999999999},0.29033013024047233,{"$f":"'price data'!G39","v":46.03},0.10119319056193248,{"$f":"'price data'!H39","v":13.51},0.14984218544153427,{"$f":"'price data'!I39","v":148.97},0.2134238735992959,{"$f":"'price data'!J39","v":89.69},8.5866673145359007E-2,{"$f":"'price data'!K39","v":116.01},5.047246802785877E-2,{"$f":"'price data'!L39","v":32.927599999999998},0.17108257890236137,{"$f":"'price data'!M39","v":104.94},5.3633204971973186E-2,{"$f":"'price data'!N39","v":252.29},5.1775312110512596E-2,{"$f":"'price data'!O39","v":344.15},-6.1118470505426549E-2,{"$f":"'price data'!P39","v":144.29},0.1048293194145192,{"$f":"'price data'!Q39","v":139.96},4.277087721185463E-2,{"$f":"'price data'!R39","v":96.216099999999997},-4.1197038118844828E-2,{"$f":"'price data'!S39","v":370.6},6.3696997282496018E-2,{"$f":"'price data'!T39","v":98.84},0.11355533988639598,{"$f":"'price data'!U39","v":44.16},-0.14870107505969379,{"$f":"'price data'!V39","v":130.51},1.8794783490976824E-2,{"$f":"'price data'!W39","v":98.88},6.8971200431895169E-2,{"$f":"'price data'!X39","v":324.17},2.5968992106065344E-2,{"$f":"'price data'!Y39","v":134.72999999999999},-4.4706668297428934E-2,{"$f":"'price data'!Z39","v":44.63},1.1209506834558161E-3,{"$f":"'price data'!AA39","v":20.37},0.10116923499372799,{"$f":"'price data'!AB39","v":247.81},3.2773681554609704E-2,{"$f":"'price data'!AC39","v":267.39999999999998},1.4578451174662182E-2,{"$f":"'price data'!AD39","v":47.956200000000003},1.4562461775610189E-2,{"$f":"'price data'!AE39","v":61.32},-3.6664636687099482E-2,null,{"$f":"'price data'!AF39","v":408.31},6.0837411714769481E-2]
["2023-02-01",{"$f":"'price data'!B40","v":70.64},8.4132789621004803E-2,{"$f":"'price data'!C40","v":205.71},0.17190494706148407,{"$f":"'price data'!D40","v":51.96},5.9470553598328153E-2,{"$f":"'price data'!E40","v":201.55},-5.5254676146250285E-2,{"$f":"'price data'!F40","v":23.216000000000001},0.17253159253233377,{"$f":"'price data'!G40","v":47.55},3.2488431162249268E-2,{"$f":"'price data'!H40","v":12.07},-0.11270711686266727,{"$f":"'price data'!I40","v":174.94},0.16069811460020728,{"$f":"'price data'!J40","v":83.95},-6.6137896606361865E-2,{"$f":"'price data'!K40","v":109.91},-5.401454520650651E-2,{"$f":"'price data'!L40","v":29.8216},-9.9078248699502589E-2,{"$f":"'price data'!M40","v":100},-4.8218572270474262E-2,{"$f":"'price data'!N40","v":239.55},-5.1817056177643032E-2,{"$f":"'price data'!O40","v":311.22000000000003},-0.10057755125300921,{"$f":"'price data'!P40","v":147.41},2.1392656750022429E-2,{"$f":"'price data'!Q40","v":143.35},2.3932524829891395E-2,{"$f":"'price data'!R40","v":90.079300000000003},-6.5906309845104261E-2,{"$f":"'price data'!S40","v":355.29},-4.218895644974606E-2,{"$f":"'price data'!T40","v":90.06},-9.3026266246983749E-2,{"$f":"'price data'!U40","v":40.57},-8.4790524750483931E-2,{"$f":"'price data'!V40","v":127.16},-2.6003716136834283E-2,{"$f":"'price data'!W40","v":98.13},-7.6138634909783901E-3,{"$f":"'price data'!X40","v":296.54000000000002},-8.908595295809385E-2,{"$f":"'price data'!Y40","v":129.30000000000001},-4.1137489989944397E-2,{"$f":"'price data'!Z40","v":43.14},-3.3955637680168321E-2,{"$f":"'price data'!AA40","v":18.91},-7.4372347568348415E-2,{"$f":"'price data'!AB40","v":249.42},6.4758989867041514E-3,{"$f":"'price data'!AC40","v":263.91000000000003},-1.3137528735149792E-2,{"$f":"'price data'!AD40","v":47.376199999999997},-1.2168101429226785E-2,{"$f":"'price data'!AE40","v":59.51},-2.9961688346852693E-2,null,{"$f":"'price data'!AF40","v":397.97},-2.5650064261823993E-2]
["2023-03-01",{"$f":"'price data'!B41","v":65.3},-7.8604520013319301E-2,{"$f":"'price data'!C41","v":207.46},8.4711400392992759E-3,{"$f":"'price data'!D41","v":44.25},-0.16061882034846026,{"$f":"'price data'!E41","v":212.43},5.2575032768617386E-2,{"$f":"'price data'!F41","v":27.777000000000001},0.17936664399218763,{"$f":"'price data'!G41","v":37.97},-0.22498541474768838,{"$f":"'price data'!H41","v":12.6},4.2973778847992111E-2,{"$f":"'price data'!I41","v":211.94},0.19186015775498103,{"$f":"'price data'!J41","v":74.930000000000007},-0.11366703914733035,{"$f":"'price data'!K41","v":109.66},-2.2771791049065815E-3,{"$f":"'price data'!L41","v":34.165799999999997},0.13599218057285287,{"$f":"'price data'!M41","v":82.74},-0.18946702495482604,{"$f":"'price data'!N41","v":228.84},-4.5739093928803126E-2,{"$f":"'price data'!O41","v":343.42},9.8454130294292605E-2,{"$f":"'price data'!P41","v":164.9},0.11212140950636644,{"$f":"'price data'!Q41","v":130.31},-9.5372965172564189E-2,{"$f":"'price data'!R41","v":87.880399999999995},-2.4713594323442469E-2,{"$f":"'price data'!S41","v":363.41},2.2597316068573653E-2,{"$f":"'price data'!T41","v":103.73},0.14131525457031105,{"$f":"'price data'!U41","v":40.799999999999997},5.6532041917600924E-3,{"$f":"'price data'!V41","v":132.08000000000001},3.7961663569270734E-2,{"$f":"'price data'!W41","v":100.92},2.8034993554454733E-2,{"$f":"'price data'!X41","v":295.12},-4.8000633014599154E-3,{"$f":"'price data'!Y41","v":131.09},1.3748824431906075E-2,{"$f":"'price data'!Z41","v":49.37},0.1348923113097612,{"$f":"'price data'!AA41","v":19.25},1.7820178063427096E-2,{"$f":"'price data'!AB41","v":288.3},0.14486338215175548,{"$f":"'price data'!AC41","v":279.61},5.7787639166509426E-2,{"$f":"'price data'!AD41","v":49.149500000000003},3.6746680704351845E-2,{"$f":"'price data'!AE41","v":62.03},4.1473773328265615E-2,null,{"$f":"'price data'!AF41","v":411.08},3.2411217197836843E-2]
["2023-04-01",{"$f":"'price data'!B42","v":65.430000000000007},1.9888325992620465E-3,{"$f":"'price data'!C42","v":164.31},-0.23318366253994235,{"$f":"'price data'!D42","v":43.8},-1.0221554071538139E-2,{"$f":"'price data'!E42","v":206.78},-2.695709617324521E-2,{"$f":"'price data'!F42","v":27.748999999999999},-1.0085366269259064E-3,{"$f":"'price data'!G42","v":37.1},-2.3179404630321459E-2,{"$f":"'price data'!H42","v":11.88},-5.8840500022933347E-2,{"$f":"'price data'!I42","v":240.32},0.12566815282907989,{"$f":"'price data'!J42","v":74.790000000000006},-1.8701581726431105E-3,{"$f":"'price data'!K42","v":118.34},7.6177167272645688E-2,{"$f":"'price data'!L42","v":41.352400000000003},0.19090531716285891,{"$f":"'price data'!M42","v":87},5.0204957621318373E-2,{"$f":"'price data'!N42","v":218.8},-4.486499885250185E-2,{"$f":"'price data'!O42","v":395.86},0.14210642550693256,{"$f":"'price data'!P42","v":169.68},2.8575080690873691E-2,{"$f":"'price data'!Q42","v":138.24},5.9075077898930899E-2,{"$f":"'price data'!R42","v":88.808400000000006},1.050444095152552E-2,{"$f":"'price data'!S42","v":380.03},4.4718523502585941E-2,{"$f":"'price data'!T42","v":107.34},3.4209997304946116E-2,{"$f":"'price data'!U42","v":38.89},-4.794493324246004E-2,{"$f":"'price data'!V42","v":140.58000000000001},6.2368922135886712E-2,{"$f":"'price data'!W42","v":98.17},-2.7627454068426937E-2,{"$f":"'price data'!X42","v":300.54000000000002},1.8198803309160256E-2,{"$f":"'price data'!Y42","v":126.41},-3.6353517702251717E-2,{"$f":"'price data'!Z42","v":48.63},-1.5102327855077008E-2,{"$f":"'price data'!AA42","v":17.670000000000002},-8.5642774402188079E-2,{"$f":"'price data'!AB42","v":307.26},6.3692690058157392E-2,{"$f":"'price data'!AC42","v":295.75},5.6118727759293871E-2,{"$f":"'price data'!AD42","v":50.322800000000001},2.3591581121844007E-2,{"$f":"'price data'!AE42","v":64.150000000000006},3.3605952076619323E-2,null,{"$f":"'price data'!AF42","v":417.66},1.5879861651757834E-2]
["2023-05-01",{"$f":"'price data'!B43","v":80.97},0.21309784681637542,{"$f":"'price data'!C43","v":203.93},0.21602191024051604,{"$f":"'price data'!D43","v":47.465000000000003},8.0358779951361411E-2,{"$f":"'price data'!E43","v":205.7},-5.2366294996356285E-3,{"$f":"'price data'!F43","v":37.834000000000003},0.3100083657363778,{"$f":"'price data'!G43","v":31.11},-0.17608765870384382,{"$f":"'price data'!H43","v":12},1.0050335853501286E-2,{"$f":"'price data'!I43","v":264.72000000000003},9.670129503758694E-2,{"$f":"'price data'!J43","v":70.11},-6.4618748984700006E-2,{"$f":"'price data'!K43","v":102.18},-0.14682587334589603,{"$f":"'price data'!L43","v":41.529800000000002},4.2807809374210571E-3,{"$f":"'price data'!M43","v":78.69},-0.10039203610769178,{"$f":"'price data'!N43","v":205.75},-6.1496230990647043E-2,{"$f":"'price data'!O43","v":429.46},8.146799214639712E-2,{"$f":"'price data'!P43","v":177.25},4.3646855155809787E-2,{"$f":"'price data'!Q43","v":135.71},-1.8471048962466177E-2,{"$f":"'price data'!R43","v":78.014600000000002},-0.12958525145805572,{"$f":"'price data'!S43","v":365.02},-4.0298050370798422E-2,{"$f":"'price data'!T43","v":122.87},0.13512551913079712,{"$f":"'price data'!U43","v":38.020000000000003},-2.262481110737273E-2,{"$f":"'price data'!V43","v":128.69},-8.837031024218589E-2,{"$f":"'price data'!W43","v":103.15},4.9483569812830766E-2,{"$f":"'price data'!X43","v":283.45},-5.8545115827267874E-2,{"$f":"'price data'!Y43","v":128.59},1.7098455774881369E-2,{"$f":"'price data'!Z43","v":45.33},-7.0271559462936603E-2,{"$f":"'price data'!AA43","v":15.73},-0.11629856926141861,{"$f":"'price data'!AB43","v":328.39},6.6507631742213483E-2,{"$f":"'price data'!AC43","v":285.11},-3.6639432142861583E-2,{"$f":"'price data'!AD43","v":48.956200000000003},-2.7532233910461213E-2,{"$f":"'price data'!AE43","v":59.66},-7.256231197504312E-2,null,{"$f":"'price data'!AF43","v":419.43},4.2289422592128138E-3]
["2023-06-01",{"$f":"'price data'!B44","v":103.74},0.24780905322523114,{"$f":"'price data'!C44","v":261.77},0.24968945791439814,{"$f":"'price data'!D44","v":54.87},0.14497415373712214,{"$f":"'price data'!E44","v":211.16},2.6197343296504021E-2,{"$f":"'price data'!F44","v":42.302},0.11162619701491115,{"$f":"'price data'!G44","v":35.21},0.12380082225741544,{"$f":"'price data'!H44","v":15.13},0.23177287801226434,{"$f":"'price data'!I44","v":286.98},8.073986330690372E-2,{"$f":"'price data'!J44","v":73.83},5.1699715852197986E-2,{"$f":"'price data'!K44","v":107.25},4.8426593905474463E-2,{"$f":"'price data'!L44","v":42.78},2.9659461819003637E-2,{"$f":"'price data'!M44","v":88.22},0.11431761212990178,{"$f":"'price data'!N44","v":246.05},0.17887292775480801,{"$f":"'price data'!O44","v":468.98},8.803151807477444E-2,{"$f":"'price data'!P44","v":193.97},9.0142342517963436E-2,{"$f":"'price data'!Q44","v":145.44},6.9243374335889354E-2,{"$f":"'price data'!R44","v":83.683199999999999},7.0142251842352718E-2,{"$f":"'price data'!S44","v":393.3},7.4620532835889403E-2,{"$f":"'price data'!T44","v":119.7},-2.6138273315552414E-2,{"$f":"'price data'!U44","v":36.68},-3.5880689672019142E-2,{"$f":"'price data'!V44","v":138.55000000000001},7.3824859803413953E-2,{"$f":"'price data'!W44","v":104.29},1.0991240615860714E-2,{"$f":"'price data'!X44","v":310.64},9.1598944653099257E-2,{"$f":"'price data'!Y44","v":133.81},3.9791835034549736E-2,{"$f":"'price data'!Z44","v":47},3.6178536757300629E-2,{"$f":"'price data'!AA44","v":15.95},1.3889112160667093E-2,{"$f":"'price data'!AB44","v":340.54},3.6330666547770604E-2,{"$f":"'price data'!AC44","v":298.41000000000003},4.5593309116797889E-2,{"$f":"'price data'!AD44","v":52.392800000000001},6.7843156493135715E-2,{"$f":"'price data'!AE44","v":60.22},9.3427439669854038E-3,null,{"$f":"'price data'!AF44","v":445.71},6.0771869649528194E-2]
["2023-07-01",{"$f":"'price data'!B45","v":109.11},5.0468778743753349E-2,{"$f":"'price data'!C45","v":267.43},2.139159422964413E-2,{"$f":"'price data'!D45","v":54.31},-1.0258379024129974E-2,{"$f":"'price data'!E45","v":238.85},0.12321959988055536,{"$f":"'price data'!F45","v":46.728999999999999},9.9530590695768528E-2,{"$f":"'price data'!G45","v":38.61},9.2181177109183748E-2,{"$f":"'price data'!H45","v":13.21},-0.13570540926603064,{"$f":"'price data'!I45","v":318.60000000000002},0.10452387055568763,{"$f":"'price data'!J45","v":82.7},0.11345444895857144,{"$f":"'price data'!K45","v":107.24},-9.3244440367901328E-5,{"$f":"'price data'!L45","v":39.245600000000003},-8.6231367620558885E-2,{"$f":"'price data'!M45","v":96.49},8.9605681355498706E-2,{"$f":"'price data'!N45","v":265.17},7.4836362428979133E-2,{"$f":"'price data'!O45","v":454.55},-3.1252205045893308E-2,{"$f":"'price data'!P45","v":196.45},1.2704438074268271E-2,{"$f":"'price data'!Q45","v":157.96},8.2578205989279937E-2,{"$f":"'price data'!R45","v":93.222899999999996},0.10795515916151749,{"$f":"'price data'!S45","v":394.28},2.48863735947424E-3,{"$f":"'price data'!T45","v":132.72},0.10325303331826149,{"$f":"'price data'!U45","v":36.06},-1.7047429613092781E-2,{"$f":"'price data'!V45","v":137.66999999999999},-6.3717542341357215E-3,{"$f":"'price data'!W45","v":105.89},1.522533930924156E-2,{"$f":"'price data'!X45","v":333.84},7.2027150859885203E-2,{"$f":"'price data'!Y45","v":144.18},7.4641635659535063E-2,{"$f":"'price data'!Z45","v":48.64},3.4298635947852964E-2,{"$f":"'price data'!AA45","v":14.52},-9.3931819834203498E-2,{"$f":"'price data'!AB45","v":335.92},-1.3659556616560049E-2,{"$f":"'price data'!AC45","v":293.2},-1.7613409819936018E-2,{"$f":"'price data'!AD45","v":53.286099999999998},1.6906331862232123E-2,{"$f":"'price data'!AE45","v":61.93},2.8000191896381737E-2,null,{"$f":"'price data'!AF45","v":460.18},3.1949200974015553E-2]
["2023-08-01",{"$f":"'price data'!B46","v":98.94},-9.7842941867444883E-2,{"$f":"'price data'!C46","v":258.08},-3.5588235471399533E-2,{"$f":"'price data'!D46","v":49.81},-8.6492604961561831E-2,{"$f":"'price data'!E46","v":224.03},-6.4055768377132907E-2,{"$f":"'price data'!F46","v":49.354999999999997},5.4674120915700085E-2,{"$f":"'price data'!G46","v":33.75},-0.13453089295760612,{"$f":"'price data'!H46","v":12.13},-8.5292395578275199E-2,{"$f":"'price data'!I46","v":295.89},-7.3948633841936381E-2,{"$f":"'price data'!J46","v":75.7},-8.8441441586242522E-2,{"$f":"'price data'!K46","v":111.19},3.6171136347399289E-2,{"$f":"'price data'!L46","v":38.532800000000002},-1.8329509389768229E-2,{"$f":"'price data'!M46","v":94.67},-1.904221589149252E-2,{"$f":"'price data'!N46","v":281.13},5.8446066062875682E-2,{"$f":"'price data'!O46","v":554.20000000000005},0.19821771386101078,{"$f":"'price data'!P46","v":187.87},-4.4657711725261062E-2,{"$f":"'price data'!Q46","v":146.33000000000001},-7.6477491314113563E-2,{"$f":"'price data'!R46","v":89.184700000000007},-4.4283899454497865E-2,{"$f":"'price data'!S46","v":412.64},4.55142253357965E-2,{"$f":"'price data'!T46","v":136.16999999999999},2.5662459254294893E-2,{"$f":"'price data'!U46","v":35.380000000000003},-1.9037529043531978E-2,{"$f":"'price data'!V46","v":129.38},-6.2105706459012353E-2,{"$f":"'price data'!W46","v":106.02},1.2269361172968524E-3,{"$f":"'price data'!X46","v":330.3},-1.0660503886553025E-2,{"$f":"'price data'!Y46","v":146.83000000000001},1.8212935998413757E-2,{"$f":"'price data'!Z46","v":46.39},-4.7362318894259244E-2,{"$f":"'price data'!AA46","v":14.79},1.8424267326058286E-2,{"$f":"'price data'!AB46","v":327.76},-2.4591403137322321E-2,{"$f":"'price data'!AC46","v":281.14999999999998},-4.1966635274285798E-2,{"$f":"'price data'!AD46","v":54.202800000000003},1.7057058459645433E-2,{"$f":"'price data'!AE46","v":59.83},-3.4497507548029098E-2,null,{"$f":"'price data'!AF46","v":452.69},-1.641015277757191E-2]
["2023-09-01",{"$f":"'price data'!B47","v":92.14},-7.1204446291791595E-2,{"$f":"'price data'!C47","v":250.22},-3.0929083487644692E-2,{"$f":"'price data'!D47","v":42.3},-0.16342868103295979,{"$f":"'price data'!E47","v":191.68},-0.15595265653175347,{"$f":"'price data'!F47","v":43.499000000000002},-0.12630112854519968,{"$f":"'price data'!G47","v":33.06},-2.0656324925660642E-2,{"$f":"'price data'!H47","v":12.42},2.3626353549373799E-2,{"$f":"'price data'!I47","v":300.20999999999998},1.4494466136462441E-2,{"$f":"'price data'!J47","v":68.22},-0.10404038345290346,{"$f":"'price data'!K47","v":117.58},5.5878503258951009E-2,{"$f":"'price data'!L47","v":36.636600000000001},-5.0462085903528284E-2,{"$f":"'price data'!M47","v":94.89},2.3211658448672231E-3,{"$f":"'price data'!N47","v":273},-2.934540061888222E-2,{"$f":"'price data'!O47","v":537.13},-3.1285481556938645E-2,{"$f":"'price data'!P47","v":171.21},-9.2859361062481216E-2,{"$f":"'price data'!Q47","v":145.02000000000001},-8.9926811608884646E-3,{"$f":"'price data'!R47","v":78.273799999999994},-0.1304965636806088,{"$f":"'price data'!S47","v":395.91},-4.1388629436186736E-2,{"$f":"'price data'!T47","v":130.86000000000001},-3.9776055694891073E-2,{"$f":"'price data'!U47","v":33.17},-6.4500835772678219E-2,{"$f":"'price data'!V47","v":124.94},-3.4920188550415461E-2,{"$f":"'price data'!W47","v":105.2},-7.7644552560505063E-3,{"$f":"'price data'!X47","v":302.16000000000003},-8.9044653992542466E-2,{"$f":"'price data'!Y47","v":140.30000000000001},-4.5492467866430943E-2,{"$f":"'price data'!Z47","v":44.75},-3.5992474042787992E-2,{"$f":"'price data'!AA47","v":15.02},1.5431369613280269E-2,{"$f":"'price data'!AB47","v":315.75},-3.7330872008015124E-2,{"$f":"'price data'!AC47","v":263.44},-6.5062696670101741E-2,{"$f":"'price data'!AD47","v":53.3095},-1.6618015940519374E-2,{"$f":"'price data'!AE47","v":55.98},-6.6512723314632982E-2,null,{"$f":"'price data'!AF47","v":429.43},-5.2748816581768214E-2]
["2023-10-01",{"$f":"'price data'!B48","v":84.73},-8.3839429297398169E-2,{"$f":"'price data'!C48","v":200.84},-0.21983195972274922,{"$f":"'price data'!D48","v":35.01},-0.18915335108565795,{"$f":"'price data'!E48","v":186.82},-2.5681728482381913E-2,{"$f":"'price data'!F48","v":40.78},-6.4546184178342444E-2,{"$f":"'price data'!G48","v":26.85},-0.20805827143800448,{"$f":"'price data'!H48","v":9.75},-0.24204079149557683,{"$f":"'price data'!I48","v":301.27},3.5246428721627909E-3,{"$f":"'price data'!J48","v":65.02},-4.8042862114740424E-2,{"$f":"'price data'!K48","v":105.85},-0.10509595539323481,{"$f":"'price data'!L48","v":38.844000000000001},5.8505883991703422E-2,{"$f":"'price data'!M48","v":91.44},-3.7035306499112006E-2,{"$f":"'price data'!N48","v":226.05},-0.1887155814443455,{"$f":"'price data'!O48","v":553.92999999999995},3.0798174101417886E-2,{"$f":"'price data'!P48","v":170.77},-2.5732513175787818E-3,{"$f":"'price data'!Q48","v":139.06},-4.1966169272574932E-2,{"$f":"'price data'!R48","v":76.041499999999999},-2.8933692644218037E-2,{"$f":"'price data'!S48","v":376.35},-5.066735121630675E-2,{"$f":"'price data'!T48","v":124.08},-5.3201530573309425E-2,{"$f":"'price data'!U48","v":30.56},-8.1953888660641377E-2,{"$f":"'price data'!V48","v":120.86},-3.3200771132011357E-2,{"$f":"'price data'!W48","v":102.53},-2.570786162160961E-2,{"$f":"'price data'!X48","v":284.69},-5.9555809429755024E-2,{"$f":"'price data'!Y48","v":144.63999999999999},3.0464909535450991E-2,{"$f":"'price data'!Z48","v":45.37},1.3759648955008206E-2,{"$f":"'price data'!AA48","v":15.4},2.4984863083594766E-2,{"$f":"'price data'!AB48","v":338.11},6.8420525094058146E-2,{"$f":"'price data'!AC48","v":262.17},-4.8324897605461188E-3,{"$f":"'price data'!AD48","v":54.469499999999996},2.1526360301336471E-2,{"$f":"'price data'!AE48","v":56.49},9.0691472498633692E-3,null,{"$f":"'price data'!AF48","v":419.94},-2.2346904002543255E-2]
["2023-11-01",{"$f":"'price data'!B49","v":107.46},0.23764895509030259,{"$f":"'price data'!C49","v":240.08},0.17846362996560694,{"$f":"'price data'!D49","v":39.4},0.11813208133731389,{"$f":"'price data'!E49","v":231.63},0.21499568454413154,{"$f":"'price data'!F49","v":46.77},0.13705020659148581,{"$f":"'price data'!G49","v":29.99},0.11059817180604402,{"$f":"'price data'!H49","v":10.26},5.0985554732867741E-2,{"$f":"'price data'!I49","v":327.14999999999998},8.2411908673110434E-2,{"$f":"'price data'!J49","v":65.239999999999995},3.3778628770537813E-3,{"$f":"'price data'!K49","v":102.74},-2.9821472541752349E-2,{"$f":"'price data'!L49","v":44.045000000000002},0.12565821382965145,{"$f":"'price data'!M49","v":97.78},6.7037037663944282E-2,{"$f":"'price data'!N49","v":250.72},0.10358056486709639,{"$f":"'price data'!O49","v":591.04},6.484537203751771E-2,{"$f":"'price data'!P49","v":189.95},0.10644325773448686,{"$f":"'price data'!Q49","v":156.08000000000001},0.11546320164398398,{"$f":"'price data'!R49","v":82.830399999999997},8.5515899881265803E-2,{"$f":"'price data'!S49","v":413.83},9.4935699994677908E-2,{"$f":"'price data'!T49","v":132.53},6.5882516024303936E-2,{"$f":"'price data'!U49","v":30.47},-2.9493713007021079E-3,{"$f":"'price data'!V49","v":125.55},3.8071234670181489E-2,{"$f":"'price data'!W49","v":122.24},0.17583088673621036,{"$f":"'price data'!X49","v":313.49},9.6366592663144596E-2,{"$f":"'price data'!Y49","v":158.56},9.1885173937811607E-2,{"$f":"'price data'!Z49","v":44.27},-2.4543846931822738E-2,{"$f":"'price data'!AA49","v":16.57},7.3226322018888124E-2,{"$f":"'price data'!AB49","v":378.91},0.11392742353954131,{"$f":"'price data'!AC49","v":281.83999999999997},7.2346385725419515E-2,{"$f":"'price data'!AD49","v":51.896099999999997},-4.8397269148982056E-2,{"$f":"'price data'!AE49","v":58.44},3.3936955545327878E-2,null,{"$f":"'price data'!AF49","v":458.42},8.7673950536716935E-2]
["2023-12-01",{"$f":"'price data'!B50","v":129.49},0.18648497278007339,{"$f":"'price data'!C50","v":248.48},3.439015826826522E-2,{"$f":"'price data'!D50","v":41.26},4.6127691339217652E-2,{"$f":"'price data'!E50","v":260.66000000000003},0.11807560511373966,{"$f":"'price data'!F50","v":49.521999999999998},5.7175043545116162E-2,{"$f":"'price data'!G50","v":36.840000000000003},0.2057202186261885,{"$f":"'price data'!H50","v":12.19},0.17236310375055669,{"$f":"'price data'!I50","v":353.96},7.8765131083401774E-2,{"$f":"'price data'!J50","v":76.23},0.15568230824736939,{"$f":"'price data'!K50","v":99.98},-2.7231359053697352E-2,{"$f":"'price data'!L50","v":45.739199999999997},3.7743859718137249E-2,{"$f":"'price data'!M50","v":103.71},5.8878485451143214E-2,{"$f":"'price data'!N50","v":295.67},0.16490718892736755,{"$f":"'price data'!O50","v":582.91999999999996},-1.383374134537927E-2,{"$f":"'price data'!P50","v":192.53},1.3491106107609537E-2,{"$f":"'price data'!Q50","v":170.1},8.6017803086960151E-2,{"$f":"'price data'!R50","v":91.400300000000001},9.8453616963740762E-2,{"$f":"'price data'!S50","v":426.51},3.0180551840497186E-2,{"$f":"'price data'!T50","v":139.69},5.2616646846872117E-2,{"$f":"'price data'!U50","v":28.79},-5.6714488373533115E-2,{"$f":"'price data'!V50","v":130.66},3.9894443809010229E-2,{"$f":"'price data'!W50","v":128.54},5.0253814524929663E-2,{"$f":"'price data'!X50","v":346.55},0.10025964672640268,{"$f":"'price data'!Y50","v":163.55000000000001},3.0985683402715201E-2,{"$f":"'price data'!Z50","v":45.71},3.2009845599603265E-2,{"$f":"'price data'!AA50","v":16.78},1.2593869600588533E-2,{"$f":"'price data'!AB50","v":376.04},-7.6031891538497461E-3,{"$f":"'price data'!AC50","v":296.51},5.0741410648878132E-2,{"$f":"'price data'!AD50","v":52.549500000000002},1.2511939690153205E-2,{"$f":"'price data'!AE50","v":58.93},8.3497119673233075E-3,null,{"$f":"'price data'!AF50","v":477.63},4.1050579709802706E-2]
["2024-01-01",{"$f":"'price data'!B51","v":127.5},-1.5487293482267898E-2,{"$f":"'price data'!C51","v":187.29},-0.28270414165861452,{"$f":"'price data'!D51","v":41.38},2.9041646742912785E-3,{"$f":"'price data'!E51","v":211.04},-0.21116918713356939,{"$f":"'price data'!F51","v":61.527000000000001},0.21705908757679437,{"$f":"'price data'!G51","v":32.450000000000003},-0.12688376823700714,{"$f":"'price data'!H51","v":11.72},-3.9319159344313508E-2,{"$f":"'price data'!I51","v":390.14},9.7321736667637146E-2,{"$f":"'price data'!J51","v":73.48},-3.6741825653257468E-2,{"$f":"'price data'!K51","v":102.81},2.7912458569202735E-2,{"$f":"'price data'!L51","v":48.175400000000003},5.1892819047817514E-2,{"$f":"'price data'!M51","v":104.93},1.1694918568176876E-2,{"$f":"'price data'!N51","v":300.31},1.5571306933072635E-2,{"$f":"'price data'!O51","v":645.61},0.10214565063744499,{"$f":"'price data'!P51","v":184.4},-4.3144674618750656E-2,{"$f":"'price data'!Q51","v":174.36},2.4735627968375778E-2,{"$f":"'price data'!R51","v":78.884100000000004},-0.14726907409921522,{"$f":"'price data'!S51","v":449.23},5.1899192714786498E-2,{"$f":"'price data'!T51","v":140.1},2.9307716035017329E-3,{"$f":"'price data'!U51","v":27.08},-6.1232656580010328E-2,{"$f":"'price data'!V51","v":129.49},-8.9948713318555029E-3,{"$f":"'price data'!W51","v":119.49},-7.300745408147756E-2,{"$f":"'price data'!X51","v":352.96},1.8327627701143948E-2,{"$f":"'price data'!Y51","v":183.66},0.11596746820098305,{"$f":"'price data'!Z51","v":46.14},9.3631604019545449E-3,{"$f":"'price data'!AA51","v":17.690000000000001},5.2811807132633698E-2,{"$f":"'price data'!AB51","v":397.58},5.570065099602501E-2,{"$f":"'price data'!AC51","v":292.72000000000003},-1.286442397090865E-2,{"$f":"'price data'!AD51","v":55.082799999999999},4.7081925187430637E-2,{"$f":"'price data'!AE51","v":59.49},9.4579323499923516E-3,null,{"$f":"'price data'!AF51","v":485.2},1.5724802893872111E-2]
["2024-02-01",{"$f":"'price data'!B52","v":123.35},-3.3090521623115175E-2,{"$f":"'price data'!C52","v":201.88},7.5015243730299289E-2,{"$f":"'price data'!D52","v":45.49},9.4694849264515768E-2,{"$f":"'price data'!E52","v":203.72},-3.5301186952600615E-2,{"$f":"'price data'!F52","v":79.111999999999995},0.25138846710798413,{"$f":"'price data'!G52","v":36.270000000000003},0.11129051014471206,{"$f":"'price data'!H52","v":12.44},5.9620303162166641E-2,{"$f":"'price data'!I52","v":490.13},0.22816501297288891,{"$f":"'price data'!J52","v":71.89},-2.1876087351144727E-2,{"$f":"'price data'!K52","v":104.52},1.6495816097784593E-2,{"$f":"'price data'!L52","v":53.775399999999998},0.10996759619915883,{"$f":"'price data'!M52","v":108.99},3.7962673731400533E-2,{"$f":"'price data'!N52","v":333.96},0.10620595085764879,{"$f":"'price data'!O52","v":753.68},0.15477226843747136,{"$f":"'price data'!P52","v":180.75},-1.9992450083619367E-2,{"$f":"'price data'!Q52","v":186.06},6.4947074970220633E-2,{"$f":"'price data'!R52","v":77.0197},-2.3918453344220464E-2,{"$f":"'price data'!S52","v":474.76},5.527440715780154E-2,{"$f":"'price data'!T52","v":138.46},-1.1774978093081898E-2,{"$f":"'price data'!U52","v":26.56},-1.9389123435841153E-2,{"$f":"'price data'!V52","v":138.41999999999999},6.6688883332968393E-2,{"$f":"'price data'!W52","v":137.35},0.13929972667962037,{"$f":"'price data'!X52","v":380.61},7.5420492755479046E-2,{"$f":"'price data'!Y52","v":185.03},7.4317519082487188E-3,{"$f":"'price data'!Z52","v":49.61},7.2512173567349944E-2,{"$f":"'price data'!AA52","v":16.93},-4.3912312026650087E-2,{"$f":"'price data'!AB52","v":413.64},3.9599858610399115E-2,{"$f":"'price data'!AC52","v":292.27999999999997},-1.5042737879344497E-3,{"$f":"'price data'!AD52","v":58.61},6.2067822771071854E-2,{"$f":"'price data'!AE52","v":60.02},8.8696088124067679E-3,null,{"$f":"'price data'!AF52","v":510.45},5.0731512545129288E-2]
["2024-03-01",{"$f":"'price data'!B53","v":139.01},0.11952003001363547,{"$f":"'price data'!C53","v":175.79},-0.13838336066026199,{"$f":"'price data'!D53","v":47.88},5.1205359107859671E-2,{"$f":"'price data'!E53","v":192.99},-5.4108127925385156E-2,{"$f":"'price data'!F53","v":90.355999999999995},0.13289285327733893,{"$f":"'price data'!G53","v":43.74},0.18727206195381083,{"$f":"'price data'!H53","v":13.28},6.5342056737254406E-2,{"$f":"'price data'!I53","v":485.58},-9.3266093040099748E-3,{"$f":"'price data'!J53","v":66.599999999999994},-7.6432595449436785E-2,{"$f":"'price data'!K53","v":116.24},0.1062785786096158,{"$f":"'price data'!L53","v":58.135399999999997},7.7958659106709793E-2,{"$f":"'price data'!M53","v":117.4},7.4330772492775962E-2,{"$f":"'price data'!N53","v":366.43},9.2786281851634969E-2,{"$f":"'price data'!O53","v":777.96},3.1707234234492322E-2,{"$f":"'price data'!P53","v":171.48},-5.2648219309097806E-2,{"$f":"'price data'!Q53","v":200.3},7.3747040331360078E-2,{"$f":"'price data'!R53","v":88.683000000000007},0.14100698038823656,{"$f":"'price data'!S53","v":481.57},1.4242186507253252E-2,{"$f":"'price data'!T53","v":150.93},8.6234677921457406E-2,{"$f":"'price data'!U53","v":27.75},4.382951558421036E-2,{"$f":"'price data'!V53","v":138.65},1.6602306480698588E-3,{"$f":"'price data'!W53","v":148.87},8.0541029347682994E-2,{"$f":"'price data'!X53","v":383.6},7.8251141886665175E-3,{"$f":"'price data'!Y53","v":190.96},3.1546007936949901E-2,{"$f":"'price data'!Z53","v":57.13},0.14113694642341373,{"$f":"'price data'!AA53","v":17.600000000000001},3.8811705899062326E-2,{"$f":"'price data'!AB53","v":420.72},1.697149896431446E-2,{"$f":"'price data'!AC53","v":281.95},-3.5982496669825885E-2,{"$f":"'price data'!AD53","v":60.17},2.6268558743922525E-2,{"$f":"'price data'!AE53","v":61.18},1.9142498710536242E-2,null,{"$f":"'price data'!AF53","v":525.73},2.949508335025066E-2]
["2024-04-01",{"$f":"'price data'!B54","v":139.63},4.4501939651020164E-3,{"$f":"'price data'!C54","v":183.28},4.172493733344055E-2,{"$f":"'price data'!D54","v":51.46},7.2106926163825677E-2,{"$f":"'price data'!E54","v":167.84},-0.13962722944303166,{"$f":"'price data'!F54","v":86.402000000000001},-4.4746599554784765E-2,{"$f":"'price data'!G54","v":34.39},-0.24049719080444704,{"$f":"'price data'!H54","v":12.15},-8.8929974261730271E-2,{"$f":"'price data'!I54","v":430.17},-0.12116357334060791,{"$f":"'price data'!J54","v":61.69},-7.6582734324796162E-2,{"$f":"'price data'!K54","v":118.27},1.7313127000998078E-2,{"$f":"'price data'!L54","v":63.192},8.3402938228535478E-2,{"$f":"'price data'!M54","v":110.48},-6.075239829295942E-2,{"$f":"'price data'!N54","v":334.57},-9.0961381939025976E-2,{"$f":"'price data'!O54","v":781.1},4.0280736413470753E-3,{"$f":"'price data'!P54","v":170.33},-6.7289098572903012E-3,{"$f":"'price data'!Q54","v":191.74},-4.3675955022922035E-2,{"$f":"'price data'!R54","v":96.51},8.4578416243815041E-2,{"$f":"'price data'!S54","v":451.2},-6.5140899511708567E-2,{"$f":"'price data'!T54","v":162.78},7.5583442727558375E-2,{"$f":"'price data'!U54","v":25.62},-7.9862543723855317E-2,{"$f":"'price data'!V54","v":141.25},1.8578597964763202E-2,{"$f":"'price data'!W54","v":144.47},-3.0001568347675936E-2,{"$f":"'price data'!X54","v":334.22},-0.13780088423404657,{"$f":"'price data'!Y54","v":166.2},-0.13887209960922692,{"$f":"'price data'!Z54","v":55.38},-3.1110854993555419E-2,{"$f":"'price data'!AA54","v":16.89},-4.1177171224397451E-2,{"$f":"'price data'!AB54","v":389.33},-7.7540216241512847E-2,{"$f":"'price data'!AC54","v":273.04000000000002},-3.211144565473939E-2,{"$f":"'price data'!AD54","v":59.35},-1.3721768176583327E-2,{"$f":"'price data'!AE54","v":61.77},9.5974709850504304E-3,null,{"$f":"'price data'!AF54","v":504.44},-4.1338869877601256E-2]
["2024-05-01",{"$f":"'price data'!B55","v":147.68},{"$f":"LN(B57/B56)","v":5.6051703800438779E-2},{"$f":"'price data'!C55","v":178.08},-2.8782150618005268E-2,{"$f":"'price data'!D55","v":52.99},2.9298409651072704E-2,{"$f":"'price data'!E55","v":177.61},5.6578990631248535E-2,{"$f":"'price data'!F55","v":109.633},0.23812760039421249,{"$f":"'price data'!G55","v":35.880000000000003},4.2414212746420522E-2,{"$f":"'price data'!H55","v":12.13},-1.6474468305987156E-3,{"$f":"'price data'!I55","v":466.83},8.178468630447068E-2,{"$f":"'price data'!J55","v":46.46},-0.28353011587928417,{"$f":"'price data'!K55","v":117.26},-8.5764547269564298E-3,{"$f":"'price data'!L55","v":62.590400000000002},-9.565799148676897E-3,{"$f":"'price data'!M55","v":120.35},8.5569655128044264E-2,{"$f":"'price data'!N55","v":338.52},1.173704956349654E-2,{"$f":"'price data'!O55","v":820.34},4.9015705851405189E-2,{"$f":"'price data'!P55","v":192.25},0.12105887651326751,{"$f":"'price data'!Q55","v":202.63},5.5241368228387204E-2,{"$f":"'price data'!R55","v":100.14},3.6922576982754036E-2,{"$f":"'price data'!S55","v":447.07},-9.1955182781375926E-3,{"$f":"'price data'!T55","v":172.5},5.7997640572519008E-2,{"$f":"'price data'!U55","v":28.66},0.11212912593143752,{"$f":"'price data'!V55","v":137.43},-2.7416673459789865E-2,{"$f":"'price data'!W55","v":163.85},0.12587950160353362,{"$f":"'price data'!X55","v":334.87},1.9429380336863141E-3,{"$f":"'price data'!Y55","v":166.85},3.903322776035327E-3,{"$f":"'price data'!Z55","v":52.37},-5.5884609451419522E-2,{"$f":"'price data'!AA55","v":18.22},7.5798161012103404E-2,{"$f":"'price data'!AB55","v":415.13},6.4164411149689585E-2,{"$f":"'price data'!AC55","v":258.89},-5.3215043538641274E-2,{"$f":"'price data'!AD55","v":65.760000000000005},0.10255962969224756,{"$f":"'price data'!AE55","v":62.93},1.8605187831034486E-2,null,{"$f":"'price data'!AF55","v":529.96},4.9352628912248675E-2]
["2024-06-01",{"$f":"'price data'!B56","v":159.43},7.655718366473184E-2,{"$f":"'price data'!C56","v":197.88},0.10542789883227302,{"$f":"'price data'!D56","v":48.66},-8.5245879149294324E-2,{"$f":"'price data'!E56","v":182.01},2.4471495343080706E-2,{"$f":"'price data'!F56","v":123.54},0.11942656618329682,{"$f":"'price data'!G56","v":33.54},-6.7441280795532646E-2,{"$f":"'price data'!H56","v":12.54},3.3241812248815679E-2,{"$f":"'price data'!I56","v":504.22},7.7047515066473907E-2,{"$f":"'price data'!J56","v":46.98},1.1130251888503565E-2,{"$f":"'price data'!K56","v":115.12},-1.8418628956956618E-2,{"$f":"'price data'!L56","v":62.65},9.5176962863626911E-4,{"$f":"'price data'!M56","v":117.19},-2.6607614958569985E-2,{"$f":"'price data'!N56","v":333.1},-1.6140429602271147E-2,{"$f":"'price data'!O56","v":905.38},9.8635856606103287E-2,{"$f":"'price data'!P56","v":210.62},9.1258953566697706E-2,{"$f":"'price data'!Q56","v":202.26},-1.8276574032134445E-3,{"$f":"'price data'!R56","v":102.19},2.0264618722318908E-2,{"$f":"'price data'!S56","v":441.16},-1.3307560467765369E-2,{"$f":"'price data'!T56","v":182.15},5.4433286983158372E-2,{"$f":"'price data'!U56","v":27.98},-2.4012453162690701E-2,{"$f":"'price data'!V56","v":132.46},-3.6833983509927094E-2,{"$f":"'price data'!W56","v":162.91999999999999},-5.6920923646118417E-3,{"$f":"'price data'!X56","v":344.24},2.759669172142136E-2,{"$f":"'price data'!Y56","v":172.95},3.5907330185794638E-2,{"$f":"'price data'!Z56","v":49.93},-4.7711883778878326E-2,{"$f":"'price data'!AA56","v":19.11},4.7691866420369454E-2,{"$f":"'price data'!AB56","v":446.95},7.385500734459606E-2,{"$f":"'price data'!AC56","v":254.84},-1.5767363811522984E-2,{"$f":"'price data'!AD56","v":67.709999999999994},2.9222128749629418E-2,{"$f":"'price data'!AE56","v":63.65},1.1376327464573373E-2,null,{"$f":"'price data'!AF56","v":547.23},3.2067657367010456E-2]
["2024-07-01",{"$f":"'price data'!B57","v":156.72},-1.7144180782988627E-2,{"$f":"'price data'!C57","v":232.07},0.15937826393515947,{"$f":"'price data'!D57","v":45.42},-6.8904800677964034E-2,{"$f":"'price data'!E57","v":190.6},4.6115360597785642E-2,{"$f":"'price data'!F57","v":117.02},-5.4220129907663124E-2,{"$f":"'price data'!G57","v":37.5},0.11160217658130243,{"$f":"'price data'!H57","v":10.82},-0.14752726178643907,{"$f":"'price data'!I57","v":474.83},-6.0055835527809284E-2,{"$f":"'price data'!J57","v":44.23},-6.0318687350531329E-2,{"$f":"'price data'!K57","v":118.59},2.9697103397591355E-2,{"$f":"'price data'!L57","v":54.32},-0.14267119809163664,{"$f":"'price data'!M57","v":125.32},6.7073916813480031E-2,{"$f":"'price data'!N57","v":346.2},3.8573897542474894E-2,{"$f":"'price data'!O57","v":804.27},-0.11841971137448726,{"$f":"'price data'!P57","v":222.08},5.298211536598859E-2,{"$f":"'price data'!Q57","v":212.8},5.079875899346499E-2,{"$f":"'price data'!R57","v":127.55},0.22167461896370269,{"$f":"'price data'!S57","v":463.71},4.9851735394390702E-2,{"$f":"'price data'!T57","v":171.54},-6.0014047892297452E-2,{"$f":"'price data'!U57","v":30.54},8.754733055315124E-2,{"$f":"'price data'!V57","v":132.83000000000001},2.7894020875785922E-3,{"$f":"'price data'!W57","v":171.25},4.986519436212293E-2,{"$f":"'price data'!X57","v":368.16},6.7178537756711523E-2,{"$f":"'price data'!Y57","v":192.14},0.10522173759841472,{"$f":"'price data'!Z57","v":54.5},8.7578677156680509E-2,{"$f":"'price data'!AA57","v":19.25},7.2993024816115351E-3,{"$f":"'price data'!AB57","v":418.35},-6.6128328792253901E-2,{"$f":"'price data'!AC57","v":265.39999999999998},4.0602224649819607E-2,{"$f":"'price data'!AD57","v":68.64},1.3641575682152971E-2,{"$f":"'price data'!AE57","v":66.739999999999995},4.7405148319812282E-2,null,{"$f":"'price data'!AF57","v":553.32000000000005},1.1067306639681753E-2]
["2024-08-01",{"$f":"'price data'!B58","v":164.62},4.917901390821254E-2,{"$f":"'price data'!C58","v":214.11},-8.0549148643581495E-2,{"$f":"'price data'!D58","v":44.04},-3.0854224822933259E-2,{"$f":"'price data'!E58","v":173.74},-9.261706238832719E-2,{"$f":"'price data'!F58","v":119.37},1.9883052746857009E-2,{"$f":"'price data'!G58","v":37.44},-1.6012813669738792E-3,{"$f":"'price data'!H58","v":11.19},3.3624248905498283E-2,{"$f":"'price data'!I58","v":521.30999999999995},9.3388029164079678E-2,{"$f":"'price data'!J58","v":47.37},6.8585825055425001E-2,{"$f":"'price data'!K58","v":117.94},-5.4961454043457696E-3,{"$f":"'price data'!L58","v":56.08},3.1886759475893853E-2,{"$f":"'price data'!M58","v":121.16},-3.375847992495442E-2,{"$f":"'price data'!N58","v":356.1},2.8194947541623362E-2,{"$f":"'price data'!O58","v":960.02},0.17701908387893153,{"$f":"'price data'!P58","v":229},3.0684326235799947E-2,{"$f":"'price data'!Q58","v":224.8},5.4858360552046764E-2,{"$f":"'price data'!R58","v":134.69},5.4467397022903034E-2,{"$f":"'price data'!S58","v":483.34},4.1460982922497884E-2,{"$f":"'price data'!T58","v":163.38},-4.8737699648552235E-2,{"$f":"'price data'!U58","v":29.01},-5.1396701657173666E-2,{"$f":"'price data'!V58","v":134.91999999999999},1.5611895049037466E-2,{"$f":"'price data'!W58","v":183.29},6.7945120841421694E-2,{"$f":"'price data'!X58","v":368.5},9.2308534233555837E-4,{"$f":"'price data'!Y58","v":202.13},5.0686781777314192E-2,{"$f":"'price data'!Z58","v":53.21},-2.3954353060920482E-2,{"$f":"'price data'!AA58","v":19.899999999999999},3.3208670996653387E-2,{"$f":"'price data'!AB58","v":417.14},-2.896505873118735E-3,{"$f":"'price data'!AC58","v":288.66000000000003},8.4011403041310412E-2,{"$f":"'price data'!AD58","v":77.23},0.11791252740146578,{"$f":"'price data'!AE58","v":72.47},8.236820979796218E-2,null,{"$f":"'price data'!AF58","v":566.75},2.3981793381023853E-2]
["2024-09-01",{"$f":"'price data'!B59","v":177.36},7.4541777763558109E-2,{"$f":"'price data'!C59","v":261.63},0.20044139025591809,{"$f":"'price data'!D59","v":57.06},0.25900503393087471,{"$f":"'price data'!E59","v":152.04},-0.13341628471072653,{"$f":"'price data'!F59","v":121.44},1.7192400540372771E-2,{"$f":"'price data'!G59","v":38.53},2.8697507028674928E-2,{"$f":"'price data'!H59","v":10.56},-5.7947244045718375E-2,{"$f":"'price data'!I59","v":572.44000000000005},9.3563052040402453E-2,{"$f":"'price data'!J59","v":53.87},0.12858461975678198,{"$f":"'price data'!K59","v":117.22},-6.123509524074853E-3,{"$f":"'price data'!L59","v":57.62},2.7090486930047744E-2,{"$f":"'price data'!M59","v":121.1},-4.9533559998996002E-4,{"$f":"'price data'!N59","v":391.12},9.3802827986658066E-2,{"$f":"'price data'!O59","v":885.94},-8.0304889356525633E-2,{"$f":"'price data'!P59","v":233},1.7316450011460958E-2,{"$f":"'price data'!Q59","v":210.86},-6.4016711870732407E-2,{"$f":"'price data'!R59","v":136.69999999999999},1.4812902119180427E-2,{"$f":"'price data'!S59","v":493.8},2.1410237156244558E-2,{"$f":"'price data'!T59","v":165.85},1.5004989479338158E-2,{"$f":"'price data'!U59","v":28.94},-2.415876929974887E-3,{"$f":"'price data'!V59","v":139.71},3.4886835468946206E-2,{"$f":"'price data'!W59","v":176.03},-4.0415162925875582E-2,{"$f":"'price data'!X59","v":405.2},9.4940060745136987E-2,{"$f":"'price data'!Y59","v":221.08},8.9613572206155762E-2,{"$f":"'price data'!Z59","v":57.3},7.4054275112415871E-2,{"$f":"'price data'!AA59","v":22},0.10032272162786926,{"$f":"'price data'!AB59","v":430.3},3.1060742976065054E-2,{"$f":"'price data'!AC59","v":304.51},5.3454402393785426E-2,{"$f":"'price data'!AD59","v":80.75},4.4569979521593271E-2,{"$f":"'price data'!AE59","v":71.86},-8.4529014358173393E-3,null,{"$f":"'price data'!AF59","v":576.82000000000005},1.7611970045769861E-2]
["2024-10-01",{"$f":"'price data'!B60","v":206.35},0.15139219089053463,{"$f":"'price data'!C60","v":249.85},-4.6070554116789973E-2,{"$f":"'price data'!D60","v":78.260000000000005},0.31593327099691249,{"$f":"'price data'!E60","v":149.31},-1.8118962582475414E-2,{"$f":"'price data'!F60","v":132.76},8.9122673204453953E-2,{"$f":"'price data'!G60","v":31.95},-0.18726497781452245,{"$f":"'price data'!H60","v":10.29},-2.5900728432157353E-2,{"$f":"'price data'!I60","v":567.58000000000004},-8.5262178593404712E-3,{"$f":"'price data'!J60","v":52.39},-2.7858003272313962E-2,{"$f":"'price data'!K60","v":116.78},-3.7606881928916517E-3,{"$f":"'price data'!L60","v":55.77},-3.2633639254919994E-2,{"$f":"'price data'!M60","v":122.48},1.1331100790381779E-2,{"$f":"'price data'!N60","v":376.2},-3.8893501403460096E-2,{"$f":"'price data'!O60","v":829.74},-6.5536829517056666E-2,{"$f":"'price data'!P60","v":225.91},-3.09017636965697E-2,{"$f":"'price data'!Q60","v":221.92},5.1122550417717641E-2,{"$f":"'price data'!R60","v":128.47},-6.2093329686385472E-2,{"$f":"'price data'!S60","v":499.59},1.1657185127210166E-2,{"$f":"'price data'!T60","v":171.11},3.1222859150817666E-2,{"$f":"'price data'!U60","v":28.3},-2.2362916554145844E-2,{"$f":"'price data'!V60","v":131.16},-6.3150893685948131E-2,{"$f":"'price data'!W60","v":198.35},0.11937871190245816,{"$f":"'price data'!X60","v":393.75},-2.8664582234685453E-2,{"$f":"'price data'!Y60","v":206.72},-6.7159406370825181E-2,{"$f":"'price data'!Z60","v":55.77},-2.7064533319231438E-2,{"$f":"'price data'!AA60","v":22.54},2.4249055253314271E-2,{"$f":"'price data'!AB60","v":406.35},-5.7267782645340139E-2,{"$f":"'price data'!AC60","v":292.11},-4.1573483674428299E-2,{"$f":"'price data'!AD60","v":81.95},1.4751343087072764E-2,{"$f":"'price data'!AE60","v":65.31},-9.557461777080685E-2,null,{"$f":"'price data'!AF60","v":571.24},-9.7208228486758055E-3]
["2024-11-01",{"$f":"'price data'!B61","v":244.06},0.16784034050510258,{"$f":"'price data'!C61","v":345.16},0.32314733984989286,{"$f":"'price data'!D61","v":96.83},0.21292024684117319,{"$f":"'price data'!E61","v":155.44},4.0235123530612149E-2,{"$f":"'price data'!F61","v":138.25},4.0520653550670291E-2,{"$f":"'price data'!G61","v":33.630000000000003},5.1246344928634426E-2,{"$f":"'price data'!H61","v":11.13},7.8471615441495307E-2,{"$f":"'price data'!I61","v":574.32000000000005},1.1805023684893027E-2,{"$f":"'price data'!J61","v":49.83},-5.0098521126815218E-2,{"$f":"'price data'!K61","v":117.96},1.0053761091683825E-2,{"$f":"'price data'!L61","v":61.52},9.8126234795926193E-2,{"$f":"'price data'!M61","v":129.41},5.503790748415037E-2,{"$f":"'price data'!N61","v":406.11},7.6503141998874508E-2,{"$f":"'price data'!O61","v":795.35},-4.2330129360252503E-2,{"$f":"'price data'!P61","v":237.33},4.9314887832283751E-2,{"$f":"'price data'!Q61","v":249.72},0.11802333362702197,{"$f":"'price data'!R61","v":133.53},3.8630757652354374E-2,{"$f":"'price data'!S61","v":532.94000000000005},6.462108543456456E-2,{"$f":"'price data'!T61","v":168.95},-1.2703811383580262E-2,{"$f":"'price data'!U61","v":26.21},-7.6720787313876965E-2,{"$f":"'price data'!V61","v":138.94},5.7624233288287259E-2,{"$f":"'price data'!W61","v":212.6},6.9379318947508498E-2,{"$f":"'price data'!X61","v":429.13},8.6043713186795601E-2,{"$f":"'price data'!Y61","v":227.41},9.5389335129100805E-2,{"$f":"'price data'!Z61","v":61.08},9.094838994896931E-2,{"$f":"'price data'!AA61","v":23.16},2.7135144093164226E-2,{"$f":"'price data'!AB61","v":423.46},4.1244201428576231E-2,{"$f":"'price data'!AC61","v":296.01},1.3262793878410386E-2,{"$f":"'price data'!AD61","v":92.5},0.12109933932854074,{"$f":"'price data'!AE61","v":64.08},-1.9012861154462081E-2,null,{"$f":"'price data'!AF61","v":605.07000000000005},5.7534717232432281E-2]
["2024-12-01",{"$f":"'price data'!B62","v":230.69},{"$f":"LN(B64/B63)","v":-5.6339278800699645E-2},{"$f":"'price data'!C62","v":403.84},{"$f":"LN(D64/D63)","v":0.15701068227268675},{"$f":"'price data'!D62","v":97.1},{"$f":"LN(F64/F63)","v":2.7845116738394286E-3},{"$f":"'price data'!E62","v":177},{"$f":"LN(H64/H63)","v":0.12988992750464451},{"$f":"'price data'!F62","v":134.29},{"$f":"LN(J64/J63)","v":-2.906199980936032E-2},{"$f":"'price data'!G62","v":30.13},{"$f":"LN(L64/L63)","v":-0.10989717260996851},{"$f":"'price data'!H62","v":9.9},{"$f":"LN(N64/N63)","v":-0.11710940814690926},{"$f":"'price data'!I62","v":585.51},{"$f":"LN(P64/P63)","v":1.929653004299255E-2},{"$f":"'price data'!J62","v":41.07},{"$f":"LN(R64/R63)","v":-0.19333928432484598},{"$f":"'price data'!K62","v":107.57},{"$f":"LN(T64/T63)","v":-9.220378550316144E-2},{"$f":"'price data'!L62","v":60.3},{"$f":"LN(V64/V63)","v":-2.0030221464248914E-2},{"$f":"'price data'!M62","v":118.53},{"$f":"LN(X64/X63)","v":-8.7819565742169647E-2},{"$f":"'price data'!N62","v":362.76},{"$f":"LN(Z64/Z63)","v":-0.11288260028643757},{"$f":"'price data'!O62","v":772},{"$f":"LN(AB64/AB63)","v":-2.9797719319593317E-2},{"$f":"'price data'!P62","v":250.42},{"$f":"LN(AD64/AD63)","v":5.3687930539386738E-2},{"$f":"'price data'!Q62","v":239.71},{"$f":"LN(AF64/AF63)","v":-4.0910430808224575E-2},{"$f":"'price data'!R62","v":129.09},{"$f":"LN(AH64/AH63)","v":-3.3816336177254616E-2},{"$f":"'price data'!S62","v":526.57000000000005},{"$f":"LN(AJ64/AJ63)","v":-1.202457127006544E-2},{"$f":"'price data'!T62","v":189.3},{"$f":"LN(AL64/AL63)","v":0.11373024505497835},{"$f":"'price data'!U62","v":26.53},{"$f":"LN(AN64/AN63)","v":1.213515081433331E-2},{"$f":"'price data'!V62","v":134.16},{"$f":"LN(AP64/AP63)","v":-3.5009067749781499E-2},{"$f":"'price data'!W62","v":206.26},{"$f":"LN(AR64/AR63)","v":-3.0274957019924637E-2},{"$f":"'price data'!X62","v":388.99},{"$f":"LN(AT64/AT63)","v":-9.8206266979495166E-2},{"$f":"'price data'!Y62","v":219.83},{"$f":"LN(AV64/AV63)","v":-3.3900035351312252E-2},{"$f":"'price data'!Z62","v":61.15},{"$f":"LN(AX64/AX63)","v":1.1453817827496073E-3},{"$f":"'price data'!AA62","v":22.77},{"$f":"LN(AZ64/AZ63)","v":-1.6982772629146305E-2},{"$f":"'price data'!AB62","v":421.5},{"$f":"LN(BB64/BB63)","v":-4.6392811858800946E-3},{"$f":"'price data'!AC62","v":289.89},{"$f":"LN(BD64/BD63)","v":-2.0891696857858109E-2},{"$f":"'price data'!AD62","v":90.35},{"$f":"LN(BF64/BF63)","v":-2.3517627480142109E-2},{"$f":"'price data'!AE62","v":62.26},{"$f":"LN(BH64/BH63)","v":-2.8813137746641685E-2},null,{"$f":"'price data'!AF62","v":588.67999999999995},{"$f":"LN(BK64/BK63)","v":-2.7461411521252803E-2}]
[]
["Stand Dev",null,{"$f":"STDEV(_1)","v":0.20906461170239107},null,{"$f":"STDEV(_2)","v":0.20135967037901595},null,{"$f":"STDEV(_3)","v":0.15836761512795969},null,{"$f":"STDEV(_4)","v":0.1440637758628594},null,{"$f":"STDEV(_5)","v":0.13994437340495425},null,{"$f":"STDEV(_6)","v":0.13876950035595559},null,{"$f":"STDEV(_7)","v":0.13379442521846763},null,{"$f":"STDEV(_8)","v":0.12218072111324599},null,{"$f":"STDEV(_9)","v":0.10716517764702532},null,{"$f":"STDEV(_10)","v":9.7405101993056561E-2},null,{"$f":"STDEV(_11)","v":9.5141880020765221E-2},null,{"$f":"STDEV(_12)","v":9.1465109088268048E-2},null,{"$f":"STDEV(_13)","v":9.0509637286434144E-2},null,{"$f":"STDEV(_14)","v":8.677015508168226E-2},null,{"$f":"STDEV(_15)","v":8.1666601488429955E-2},null,{"$f":"STDEV(_16)","v":7.9975687394482187E-2},null,{"$f":"STDEV(_17)","v":7.87370800755052E-2},null,{"$f":"STDEV(_18)","v":7.8174009572100328E-2},null,{"$f":"STDEV(_19)","v":7.7932531395829799E-2},null,{"$f":"STDEV(_20)","v":7.7686583325361755E-2},null,{"$f":"STDEV(_21)","v":7.5550833975187665E-2},null,{"$f":"STDEV(_22)","v":7.4899186869719886E-2},null,{"$f":"STDEV(_23)","v":7.4339716519146656E-2},null,{"$f":"STDEV(_24)","v":6.8988998023966894E-2},null,{"$f":"STDEV(_25)","v":6.7040475893232615E-2},null,{"$f":"STDEV(_26)","v":6.6814279619682088E-2},null,{"$f":"STDEV(_27)","v":6.3321309841557955E-2},null,{"$f":"STDEV(_28)","v":5.5866335117150341E-2},null,{"$f":"STDEV(_29)","v":5.5842308723867633E-2},null,{"$f":"STDEV(_30)","v":5.573924908828156E-2},null,null,{"$f":"STDEV(BL5:BL64)","v":5.3217839859778335E-2}]

{"sheet":"Corr. Matrix","index":3,"n_rows":69,"n_cols":32,"rows_kept":69,"cut":false,"hidden":false,"merged":[[38,1,38,2]]}
[]
["Correlation Matrix"]
[]
[null,null,"_1","_2","_3","_4","_5","_6","_7","_8","_9","_10","_11","_12","_13","_14","_15","_16","_17","_18","_19","_20","_21","_22","_23","_24","_25","_26","_27","_28","_29","_30"]
[null,null,{"$f":"'Returns & Stand Dev'!B2","v":"rcl"},{"$f":"'Returns & Stand Dev'!D2","v":"tsla"},{"$f":"'Returns & Stand Dev'!F2","v":"ual"},{"$f":"'Returns & Stand Dev'!H2","v":"ba"},{"$f":"'Returns & Stand Dev'!J2","v":"nvda"},{"$f":"'Returns & Stand Dev'!L2","v":"hog"},{"$f":"'Returns & Stand Dev'!N2","v":"f"},{"$f":"'Returns & Stand Dev'!P2","v":"meta"},{"$f":"'Returns & Stand Dev'!R2","v":"pzza"},{"$f":"'Returns & Stand Dev'!T2","v":"xom"},{"$f":"'Returns & Stand Dev'!V2","v":"cmg"},{"$f":"'Returns & Stand Dev'!X2","v":"pru"},{"$f":"'Returns & Stand Dev'!Z2","v":"cat"},{"$f":"'Returns & Stand Dev'!AB2","v":"lly"},{"$f":"'Returns & Stand Dev'!AD2","v":"aapl"},{"$f":"'Returns & Stand Dev'!AF2","v":"jpm"},{"$f":"'Returns & Stand Dev'!AH2","v":"mmm"},{"$f":"'Returns & Stand Dev'!AJ2","v":"ma"},{"$f":"'Returns & Stand Dev'!AL2","v":"googl"},{"$f":"'Returns & Stand Dev'!AN2","v":"pfe"},{"$f":"'Returns & Stand Dev'!AP2","v":"yum"},{"$f":"'Returns & Stand Dev'!AR2","v":"grmn"},{"$f":"'Returns & Stand Dev'!AT2","v":"hd"},{"$f":"'Returns & Stand Dev'!AV2","v":"ibm"},{"$f":"'Returns & Stand Dev'!AX2","v":"kr"},{"$f":"'Returns & Stand Dev'!AZ2","v":"t"},{"$f":"'Returns & Stand Dev'!BB2","v":"msft"},{"$f":"'Returns & Stand Dev'!BD2","v":"mcd"},{"$f":"'Returns & Stand Dev'!BF2","v":"wmt"},{"$f":"'Returns & Stand Dev'!BH2","v":"ko"}]
["_1",{"$f":"C5","v":"rcl"},{"$f":"CORREL(_1,_1)","v":0.99999999999999989},{"$f":"TRANSPOSE(C7:C35)","v":0.39455515231756527},0.8144007673737097,0.6088315178460022,0.34383008772335921,0.52646479141897351,0.58200963276779694,0.29990317307643399,0.27588894356227917,0.56542298643506606,0.46704237894312067,0.77896348749259947,0.51407584142796103,-2.5690450456015944E-2,0.4401898612686202,0.73720450909243807,0.41254912884343181,0.67163573354365758,0.45300748830432147,4.3803700185134666E-2,0.60014530476471306,0.56708194211898189,0.42546582723847087,0.45042931414219189,7.5883093041424432E-2,0.41906408961731001,0.30488941640258982,0.53496339088800848,0.32509729325710535,0.45165478615377885]
["_2",{"$f":"D5","v":"tsla"},{"$f":"CORREL(_2,_1)","v":0.39455515231756527},{"$f":"CORREL(_2,_2)","v":0.99999999999999978},{"$f":"TRANSPOSE(D8:D35)","v":0.29881889338969414},0.29042913563455175,0.41042119116865033,0.31638196071247315,0.36433329740876264,0.3037221785432529,0.38384094917030714,6.7577631475944172E-2,0.43328670916032386,0.31288093296857333,0.16811873565457514,-2.1448286151087969E-3,0.69442684440113744,0.21786027647618367,0.24367423543485206,0.34041822562665724,0.46058322004986724,8.9170597781591449E-2,0.32259356793555122,0.28472616590384603,0.39866651258559699,0.12658454153536003,0.15498162534787105,3.4308344589427345E-2,0.49979039282445059,0.34508987387260392,0.25464243639544831,0.12169290597830441]
["_3",{"$f":"E5","v":"ual"},{"$f":"CORREL(_3,_1)","v":0.8144007673737097},{"$f":"CORREL(_3,_2)","v":0.29881889338969414},{"$f":"CORREL(_3,_3)","v":1.0000000000000002},{"$f":"TRANSPOSE(E9:E35)","v":0.5799352083289101},0.24690391987434818,0.49446649120406228,0.5231762919001729,0.1470957581413361,9.8157531042998722E-2,0.51649811841524484,0.26020336986741111,0.67032148586608797,0.54994556372216108,-0.11416872514317211,0.25718207501616241,0.65946101522776168,0.3365928283047871,0.51514490296711157,0.27991991555200307,-7.3083942082149453E-2,0.44396130042201537,0.51246590236634915,0.32725095545959998,0.32850690786810405,7.5626627421760365E-2,0.45587926526376465,0.11710618966783157,0.3939820815526332,0.19766158759547559,0.30152769880832891]
["_4",{"$f":"F5","v":"ba"},{"$f":"CORREL(_4,_1)","v":0.6088315178460022},{"$f":"CORREL(_4,_2)","v":0.29042913563455175},{"$f":"CORREL(_4,_3)","v":0.5799352083289101},{"$f":"CORREL(_4,_4)","v":1},{"$f":"TRANSPOSE(F10:F35)","v":0.26838430627990312},0.50887900133528119,0.4983370781760989,0.22298280586187566,0.1821244587154752,0.38180187194762433,0.27247453843868036,0.57865041982622689,0.37674409997962,-5.674897098971779E-2,0.41840806325924823,0.60008273844548077,0.39760265159673824,0.52422653402074137,0.39911233389226303,8.3738902535736681E-2,0.45350091012178562,0.52881223706812786,0.38219423985047468,0.40375772774072144,5.3318186388718165E-2,0.35619966477248904,0.34046062148764539,0.4425883482685376,7.2277748923257695E-2,0.4865866680963008]
["_5",{"$f":"G5","v":"nvda"},{"$f":"CORREL(_5,_1)","v":0.34383008772335921},{"$f":"CORREL(_5,_2)","v":0.41042119116865033},{"$f":"CORREL(_5,_3)","v":0.24690391987434818},{"$f":"CORREL(_5,_4)","v":0.26838430627990312},{"$f":"CORREL(_5,_5)","v":1.0000000000000002},{"$f":"TRANSPOSE(G11:G35)","v":0.21316428111156147},0.4254989551742504,0.49315071872555322,0.27585268847834921,1.9667622628427778E-2,0.39776731596272447,0.23313005001550902,0.35093869317878118,0.18231976450996318,0.53235464918469322,0.35444887547489334,0.20339506985601619,0.28888236342880463,0.57224429270378152,0.21246557789121201,0.19359822662381693,0.44019797136680905,0.38703060075524415,8.9023079816915235E-2,0.2913154720828468,3.9372029009989519E-2,0.65849782099114706,0.15905026617453727,0.30041297115125065,4.155593595403366E-2]
["_6",{"$f":"H5","v":"hog"},{"$f":"CORREL(_6,_1)","v":0.52646479141897351},{"$f":"CORREL(_6,_2)","v":0.31638196071247315},{"$f":"CORREL(_6,_3)","v":0.49446649120406228},{"$f":"CORREL(_6,_4)","v":0.50887900133528119},{"$f":"CORREL(_6,_5)","v":0.21316428111156147},{"$f":"CORREL(_6,_6)","v":0.99999999999999978},{"$f":"TRANSPOSE(H12:H35)","v":0.57712567438211648},0.15572193823617489,0.37237169910246321,0.45264527298386714,0.28825334043316508,0.73154503307564422,0.55647614066043283,-0.13446250159964984,0.33710601953680175,0.61500587603276302,0.51328380559566356,0.34612306206792715,0.29410287003898072,0.20031652917689144,0.55869659999104093,0.44164765815095747,0.54432435233911525,0.36230677559060842,0.26085165015442435,0.32475632162438117,0.20197807753034519,0.44909478452553053,0.26010476839762808,0.37823291899304451]
["_7",{"$f":"I5","v":"f"},{"$f":"CORREL(_7,_1)","v":0.58200963276779694},{"$f":"CORREL(_7,_2)","v":0.36433329740876264},{"$f":"CORREL(_7,_3)","v":0.5231762919001729},{"$f":"CORREL(_7,_4)","v":0.4983370781760989},{"$f":"CORREL(_7,_5)","v":0.4254989551742504},{"$f":"CORREL(_7,_6)","v":0.57712567438211648},{"$f":"CORREL(_7,_7)","v":0.99999999999999978},{"$f":"TRANSPOSE(I13:I35)","v":0.27273301894346758},0.38539844672781792,0.52592275365328311,0.414653668079768,0.59504200744806068,0.60011986556377017,9.8320477027347933E-2,0.46415202204387629,0.61886840500270279,0.37325317197758034,0.43687548526766357,0.44551912304851304,0.14167445033398759,0.48536725379939405,0.43349955724024308,0.53605889730169909,0.21223073813014817,0.14314308139037599,0.28219735368674587,0.40410458917093706,0.47768871132195778,0.2675279330979935,0.29569716153574066]
["_8",{"$f":"J5","v":"meta"},{"$f":"CORREL(_8,_1)","v":0.29990317307643399},{"$f":"CORREL(_8,_2)","v":0.3037221785432529},{"$f":"CORREL(_8,_3)","v":0.1470957581413361},{"$f":"CORREL(_8,_4)","v":0.22298280586187566},{"$f":"CORREL(_8,_5)","v":0.49315071872555322},{"$f":"CORREL(_8,_6)","v":0.15572193823617489},{"$f":"CORREL(_8,_7)","v":0.27273301894346758},{"$f":"CORREL(_8,_8)","v":1},{"$f":"TRANSPOSE(J14:J35)","v":0.37671096193559911},-1.709640542300115E-2,0.43972618715608719,0.18588293052994592,0.16596303060194567,-3.804485990634206E-3,0.3928556546692521,0.26886306738228871,0.16137715824808382,0.33596673891264117,0.43344791598340926,0.18813467634006537,0.35201776607420093,0.47840003290383215,0.45694027424030476,0.27009731793670949,0.18215958728184839,0.14816530277959739,0.54272425926921475,0.24052558062214588,0.27930287403337528,0.20830647577782313]
["_9",{"$f":"K5","v":"pzza"},{"$f":"CORREL(_9,_1)","v":0.27588894356227917},{"$f":"CORREL(_9,_2)","v":0.38384094917030714},{"$f":"CORREL(_9,_3)","v":9.8157531042998722E-2},{"$f":"CORREL(_9,_4)","v":0.1821244587154752},{"$f":"CORREL(_9,_5)","v":0.27585268847834921},{"$f":"CORREL(_9,_6)","v":0.37237169910246321},{"$f":"CORREL(_9,_7)","v":0.38539844672781792},{"$f":"CORREL(_9,_8)","v":0.37671096193559911},{"$f":"CORREL(_9,_9)","v":1},{"$f":"TRANSPOSE(K15:K35)","v":0.25261420939222773},0.52110407994075125,0.40302987531824708,0.31332791823733425,0.19717902624097644,0.47755420282620759,0.31738185556163767,0.36602723705770734,0.4033884772493303,0.37180337555568488,0.29710510935130291,0.53563398053301758,0.29746704572804933,0.59045327642075551,0.33278790117068824,0.2700001238744576,0.19341861974223026,0.4397920185233018,0.51221196845831896,0.23235241269012546,0.24103606682749065]
["_10",{"$f":"L5","v":"xom"},{"$f":"CORREL(_10,_1)","v":0.56542298643506606},{"$f":"CORREL(_10,_2)","v":6.7577631475944172E-2},{"$f":"CORREL(_10,_3)","v":0.51649811841524484},{"$f":"CORREL(_10,_4)","v":0.38180187194762433},{"$f":"CORREL(_10,_5)","v":1.9667622628427778E-2},{"$f":"CORREL(_10,_6)","v":0.45264527298386714},{"$f":"CORREL(_10,_7)","v":0.52592275365328311},{"$f":"CORREL(_10,_8)","v":-1.709640542300115E-2},{"$f":"CORREL(_10,_9)","v":0.25261420939222773},{"$f":"CORREL(_10,_10)","v":0.99999999999999978},{"$f":"TRANSPOSE(L16:L35)","v":0.26538429693874804},0.72052327369716562,0.47027352444654946,0.15222318142374131,0.19913027244470169,0.59684865828735134,0.39949702286716232,0.56286214939464652,0.22844467861188347,0.10941560574594361,0.49529970742807455,0.25264470528396782,0.2800089768847478,0.36331023535239637,8.5635672202055008E-2,0.49615494625325679,0.13608764807027893,0.39991040675927914,9.6211858261094227E-2,0.4131842051190569]
["_11",{"$f":"M5","v":"cmg"},{"$f":"CORREL(_11,_1)","v":0.46704237894312067},{"$f":"CORREL(_11,_2)","v":0.43328670916032386},{"$f":"CORREL(_11,_3)","v":0.26020336986741111},{"$f":"CORREL(_11,_4)","v":0.27247453843868036},{"$f":"CORREL(_11,_5)","v":0.39776731596272447},{"$f":"CORREL(_11,_6)","v":0.28825334043316508},{"$f":"CORREL(_11,_7)","v":0.414653668079768},{"$f":"CORREL(_11,_8)","v":0.43972618715608719},{"$f":"CORREL(_11,_9)","v":0.52110407994075125},{"$f":"CORREL(_11,_10)","v":0.26538429693874804},{"$f":"CORREL(_11,_11)","v":1},{"$f":"TRANSPOSE(M17:M35)","v":0.38256167024192284},0.16301560574339496,0.35005276675547353,0.6024060041187389,0.33623217071232847,0.27158451195997585,0.50849624115525094,0.61178795353649329,0.12463976738741754,0.65143757806009284,0.44923320633298802,0.4477281920910467,0.22915396091186474,0.2949851159987904,0.24307960858708666,0.65529949418381073,0.50574762171013676,0.35680644176525189,0.34436315199061523]
["_12",{"$f":"N5","v":"pru"},{"$f":"CORREL(_12,_1)","v":0.77896348749259947},{"$f":"CORREL(_12,_2)","v":0.31288093296857333},{"$f":"CORREL(_12,_3)","v":0.67032148586608797},{"$f":"CORREL(_12,_4)","v":0.57865041982622689},{"$f":"CORREL(_12,_5)","v":0.23313005001550902},{"$f":"CORREL(_12,_6)","v":0.73154503307564422},{"$f":"CORREL(_12,_7)","v":0.59504200744806068},{"$f":"CORREL(_12,_8)","v":0.18588293052994592},{"$f":"CORREL(_12,_9)","v":0.40302987531824708},{"$f":"CORREL(_12,_10)","v":0.72052327369716562},{"$f":"CORREL(_12,_11)","v":0.38256167024192284},{"$f":"CORREL(_12,_12)","v":1},{"$f":"TRANSPOSE(N18:N35)","v":0.63433334117991003},4.9647489377770714E-2,0.41580768285147007,0.8329558355131812,0.57151807405010036,0.63989972587339361,0.4228506058147819,0.28175069655442248,0.70381704190323757,0.58295683752614591,0.54334201490634271,0.57078947821829118,0.17404063846990817,0.51501762581640731,0.29418252178729148,0.58562392974723554,0.3321244155394264,0.56823903855374014]
["_13",{"$f":"O5","v":"cat"},{"$f":"CORREL(_13,_1)","v":0.51407584142796103},{"$f":"CORREL(_13,_2)","v":0.16811873565457514},{"$f":"CORREL(_13,_3)","v":0.54994556372216108},{"$f":"CORREL(_13,_4)","v":0.37674409997962},{"$f":"CORREL(_13,_5)","v":0.35093869317878118},{"$f":"CORREL(_13,_6)","v":0.55647614066043283},{"$f":"CORREL(_13,_7)","v":0.60011986556377017},{"$f":"CORREL(_13,_8)","v":0.16596303060194567},{"$f":"CORREL(_13,_9)","v":0.31332791823733425},{"$f":"CORREL(_13,_10)","v":0.47027352444654946},{"$f":"CORREL(_13,_11)","v":0.16301560574339496},{"$f":"CORREL(_13,_12)","v":0.63433334117991003},{"$f":"CORREL(_13,_13)","v":1},{"$f":"TRANSPOSE(O19:O35)","v":0.12878520053672912},0.27563553084186471,0.65023797036006681,0.60729404786165309,0.5210555202571,0.23192520877487455,0.21334904909158933,0.43449723662754736,0.52435827830221959,0.52085072346578232,0.41684522033175342,0.37873728107595162,0.39037271424209058,0.22224423680459854,0.43508664296808974,0.39728916380155366,0.36119663518368433]
["_14",{"$f":"P5","v":"lly"},{"$f":"CORREL(_14,_1)","v":-2.5690450456015944E-2},{"$f":"CORREL(_14,_2)","v":-2.1448286151087969E-3},{"$f":"CORREL(_14,_3)","v":-0.11416872514317211},{"$f":"CORREL(_14,_4)","v":-5.674897098971779E-2},{"$f":"CORREL(_14,_5)","v":0.18231976450996318},{"$f":"CORREL(_14,_6)","v":-0.13446250159964984},{"$f":"CORREL(_14,_7)","v":9.8320477027347933E-2},{"$f":"CORREL(_14,_8)","v":-3.804485990634206E-3},{"$f":"CORREL(_14,_9)","v":0.19717902624097644},{"$f":"CORREL(_14,_10)","v":0.15222318142374131},{"$f":"CORREL(_14,_11)","v":0.35005276675547353},{"$f":"CORREL(_14,_12)","v":4.9647489377770714E-2},{"$f":"CORREL(_14,_13)","v":0.12878520053672912},{"$f":"CORREL(_14,_14)","v":1},{"$f":"TRANSPOSE(P20:P35)","v":0.17987774854672317},6.1372645283380656E-2,6.8804142391265519E-2,0.11131817250605094,0.14268228231899868,0.15258528374788138,0.16273176435672032,0.14147910772522665,5.6638235529434471E-2,0.15335815591233412,0.13354484871870045,4.2416189758075998E-2,0.42310240993520859,0.10647314601030763,0.20335487479221753,0.11411573804052343]
["_15",{"$f":"Q5","v":"aapl"},{"$f":"CORREL(_15,_1)","v":0.4401898612686202},{"$f":"CORREL(_15,_2)","v":0.69442684440113744},{"$f":"CORREL(_15,_3)","v":0.25718207501616241},{"$f":"CORREL(_15,_4)","v":0.41840806325924823},{"$f":"CORREL(_15,_5)","v":0.53235464918469322},{"$f":"CORREL(_15,_6)","v":0.33710601953680175},{"$f":"CORREL(_15,_7)","v":0.46415202204387629},{"$f":"CORREL(_15,_8)","v":0.3928556546692521},{"$f":"CORREL(_15,_9)","v":0.47755420282620759},{"$f":"CORREL(_15,_10)","v":0.19913027244470169},{"$f":"CORREL(_15,_11)","v":0.6024060041187389},{"$f":"CORREL(_15,_12)","v":0.41580768285147007},{"$f":"CORREL(_15,_13)","v":0.27563553084186471},{"$f":"CORREL(_15,_14)","v":0.17987774854672317},{"$f":"CORREL(_15,_15)","v":1},{"$f":"TRANSPOSE(Q21:Q35)","v":0.3242344442693571},0.45059874630198432,0.54535858982619001,0.54619760688744345,0.3297749805148521,0.49865011727001812,0.46642617555041649,0.49275439655008468,0.29756546492080715,0.30219554230081885,0.23542017947084273,0.69917255803249245,0.57499158460940047,0.4221021207043677,0.39156846038561843]
["_16",{"$f":"R5","v":"jpm"},{"$f":"CORREL(_16,_1)","v":0.73720450909243807},{"$f":"CORREL(_16,_2)","v":0.21786027647618367},{"$f":"CORREL(_16,_3)","v":0.65946101522776168},{"$f":"CORREL(_16,_4)","v":0.60008273844548077},{"$f":"CORREL(_16,_5)","v":0.35444887547489334},{"$f":"CORREL(_16,_6)","v":0.61500587603276302},{"$f":"CORREL(_16,_7)","v":0.61886840500270279},{"$f":"CORREL(_16,_8)","v":0.26886306738228871},{"$f":"CORREL(_16,_9)","v":0.31738185556163767},{"$f":"CORREL(_16,_10)","v":0.59684865828735134},{"$f":"CORREL(_16,_11)","v":0.33623217071232847},{"$f":"CORREL(_16,_12)","v":0.8329558355131812},{"$f":"CORREL(_16,_13)","v":0.65023797036006681},{"$f":"CORREL(_16,_14)","v":6.1372645283380656E-2},{"$f":"CORREL(_16,_15)","v":0.3242344442693571},{"$f":"CORREL(_16,_16)","v":1},{"$f":"TRANSPOSE(R22:R35)","v":0.56237676957216232},0.57229415909595216,0.40305633268645535,0.21647858588990471,0.61966337602420996,0.64457684958570738,0.50641991857340174,0.48627637812045871,0.10703659725631445,0.44344792468105482,0.29809537697478961,0.48063968233412219,0.22991241235888912,0.45740725365867757]
["_17",{"$f":"S5","v":"mmm"},{"$f":"CORREL(_17,_1)","v":0.41254912884343181},{"$f":"CORREL(_17,_2)","v":0.24367423543485206},{"$f":"CORREL(_17,_3)","v":0.3365928283047871},{"$f":"CORREL(_17,_4)","v":0.39760265159673824},{"$f":"CORREL(_17,_5)","v":0.20339506985601619},{"$f":"CORREL(_17,_6)","v":0.51328380559566356},{"$f":"CORREL(_17,_7)","v":0.37325317197758034},{"$f":"CORREL(_17,_8)","v":0.16137715824808382},{"$f":"CORREL(_17,_9)","v":0.36602723705770734},{"$f":"CORREL(_17,_10)","v":0.39949702286716232},{"$f":"CORREL(_17,_11)","v":0.27158451195997585},{"$f":"CORREL(_17,_12)","v":0.57151807405010036},{"$f":"CORREL(_17,_13)","v":0.60729404786165309},{"$f":"CORREL(_17,_14)","v":6.8804142391265519E-2},{"$f":"CORREL(_17,_15)","v":0.45059874630198432},{"$f":"CORREL(_17,_16)","v":0.56237676957216232},{"$f":"CORREL(_17,_17)","v":1},{"$f":"TRANSPOSE(S23:S35)","v":0.48075775152360184},0.32828498492627278,0.37302159106085325,0.54644457954182057,0.52236775421931914,0.57033465725032317,0.40829949388814685,0.39573799729910064,0.37276511736106294,0.25891807586674859,0.54123732351509168,0.35963377578694905,0.50579024443231313]
["_18",{"$f":"T5","v":"ma"},{"$f":"CORREL(_18,_1)","v":0.67163573354365758},{"$f":"CORREL(_18,_2)","v":0.34041822562665724},{"$f":"CORREL(_18,_3)","v":0.51514490296711157},{"$f":"CORREL(_18,_4)","v":0.52422653402074137},{"$f":"CORREL(_18,_5)","v":0.28888236342880463},{"$f":"CORREL(_18,_6)","v":0.34612306206792715},{"$f":"CORREL(_18,_7)","v":0.43687548526766357},{"$f":"CORREL(_18,_8)","v":0.33596673891264117},{"$f":"CORREL(_18,_9)","v":0.4033884772493303},{"$f":"CORREL(_18,_10)","v":0.56286214939464652},{"$f":"CORREL(_18,_11)","v":0.50849624115525094},{"$f":"CORREL(_18,_12)","v":0.63989972587339361},{"$f":"CORREL(_18,_13)","v":0.5210555202571},{"$f":"CORREL(_18,_14)","v":0.11131817250605094},{"$f":"CORREL(_18,_15)","v":0.54535858982619001},{"$f":"CORREL(_18,_16)","v":0.57229415909595216},{"$f":"CORREL(_18,_17)","v":0.48075775152360184},{"$f":"CORREL(_18,_18)","v":1.0000000000000002},{"$f":"TRANSPOSE(T24:T35)","v":0.35897427870782056},0.2116166778048981,0.69647672475404254,0.49678672240093147,0.56575912031000564,0.6174250057945655,0.1147663054725092,0.54844748289787437,0.40160609156433374,0.70230542956580255,0.34125871473337199,0.65571038362347744]
["_19",{"$f":"U5","v":"googl"},{"$f":"CORREL(_19,_1)","v":0.45300748830432147},{"$f":"CORREL(_19,_2)","v":0.46058322004986724},{"$f":"CORREL(_19,_3)","v":0.27991991555200307},{"$f":"CORREL(_19,_4)","v":0.39911233389226303},{"$f":"CORREL(_19,_5)","v":0.57224429270378152},{"$f":"CORREL(_19,_6)","v":0.29410287003898072},{"$f":"CORREL(_19,_7)","v":0.44551912304851304},{"$f":"CORREL(_19,_8)","v":0.43344791598340926},{"$f":"CORREL(_19,_9)","v":0.37180337555568488},{"$f":"CORREL(_19,_10)","v":0.22844467861188347},{"$f":"CORREL(_19,_11)","v":0.61178795353649329},{"$f":"CORREL(_19,_12)","v":0.4228506058147819},{"$f":"CORREL(_19,_13)","v":0.23192520877487455},{"$f":"CORREL(_19,_14)","v":0.14268228231899868},{"$f":"CORREL(_19,_15)","v":0.54619760688744345},{"$f":"CORREL(_19,_16)","v":0.40305633268645535},{"$f":"CORREL(_19,_17)","v":0.32828498492627278},{"$f":"CORREL(_19,_18)","v":0.35897427870782056},{"$f":"CORREL(_19,_19)","v":1},{"$f":"TRANSPOSE(U25:U35)","v":0.2680729223228116},0.49501495871057832,0.54284085149582362,0.33794182827056296,0.18152605514660525,0.2300436322917086,0.17921695725174799,0.64658622022684109,0.32479946517346692,0.18340114484039055,0.30242858364409309]
["_20",{"$f":"V5","v":"pfe"},{"$f":"CORREL(_20,_1)","v":4.3803700185134666E-2},{"$f":"CORREL(_20,_2)","v":8.9170597781591449E-2},{"$f":"CORREL(_20,_3)","v":-7.3083942082149453E-2},{"$f":"CORREL(_20,_4)","v":8.3738902535736681E-2},{"$f":"CORREL(_20,_5)","v":0.21246557789121201},{"$f":"CORREL(_20,_6)","v":0.20031652917689144},{"$f":"CORREL(_20,_7)","v":0.14167445033398759},{"$f":"CORREL(_20,_8)","v":0.18813467634006537},{"$f":"CORREL(_20,_9)","v":0.29710510935130291},{"$f":"CORREL(_20,_10)","v":0.10941560574594361},{"$f":"CORREL(_20,_11)","v":0.12463976738741754},{"$f":"CORREL(_20,_12)","v":0.28175069655442248},{"$f":"CORREL(_20,_13)","v":0.21334904909158933},{"$f":"CORREL(_20,_14)","v":0.15258528374788138},{"$f":"CORREL(_20,_15)","v":0.3297749805148521},{"$f":"CORREL(_20,_16)","v":0.21647858588990471},{"$f":"CORREL(_20,_17)","v":0.37302159106085325},{"$f":"CORREL(_20,_18)","v":0.2116166778048981},{"$f":"CORREL(_20,_19)","v":0.2680729223228116},{"$f":"CORREL(_20,_20)","v":0.99999999999999989},{"$f":"TRANSPOSE(V26:V35)","v":0.43902486489778453},0.30810238546397839,0.42724269867006492,0.37266528021468698,0.32591851768343888,0.20847783660507771,0.22575345762940338,0.3360217523827822,0.245964765070735,0.30215982346403952]
["_21",{"$f":"W5","v":"yum"},{"$f":"CORREL(_21,_1)","v":0.60014530476471306},{"$f":"CORREL(_21,_2)","v":0.32259356793555122},{"$f":"CORREL(_21,_3)","v":0.44396130042201537},{"$f":"CORREL(_21,_4)","v":0.45350091012178562},{"$f":"CORREL(_21,_5)","v":0.19359822662381693},{"$f":"CORREL(_21,_6)","v":0.55869659999104093},{"$f":"CORREL(_21,_7)","v":0.48536725379939405},{"$f":"CORREL(_21,_8)","v":0.35201776607420093},{"$f":"CORREL(_21,_9)","v":0.53563398053301758},{"$f":"CORREL(_21,_10)","v":0.49529970742807455},{"$f":"CORREL(_21,_11)","v":0.65143757806009284},{"$f":"CORREL(_21,_12)","v":0.70381704190323757},{"$f":"CORREL(_21,_13)","v":0.43449723662754736},{"$f":"CORREL(_21,_14)","v":0.16273176435672032},{"$f":"CORREL(_21,_15)","v":0.49865011727001812},{"$f":"CORREL(_21,_16)","v":0.61966337602420996},{"$f":"CORREL(_21,_17)","v":0.54644457954182057},{"$f":"CORREL(_21,_18)","v":0.69647672475404254},{"$f":"CORREL(_21,_19)","v":0.49501495871057832},{"$f":"CORREL(_21,_20)","v":0.43902486489778453},{"$f":"CORREL(_21,_21)","v":1.0000000000000002},{"$f":"TRANSPOSE(W27:W35)","v":0.54822405923927431},0.65591360584884539,0.53332188879734255,0.19455142553188656,0.44944765259198916,0.45791194967604582,0.78382550684779717,0.32655253126929595,0.7197194881359037]
["_22",{"$f":"X5","v":"grmn"},{"$f":"CORREL(_22,_1)","v":0.56708194211898189},{"$f":"CORREL(_22,_2)","v":0.28472616590384603},{"$f":"CORREL(_22,_3)","v":0.51246590236634915},{"$f":"CORREL(_22,_4)","v":0.52881223706812786},{"$f":"CORREL(_22,_5)","v":0.44019797136680905},{"$f":"CORREL(_22,_6)","v":0.44164765815095747},{"$f":"CORREL(_22,_7)","v":0.43349955724024308},{"$f":"CORREL(_22,_8)","v":0.47840003290383215},{"$f":"CORREL(_22,_9)","v":0.29746704572804933},{"$f":"CORREL(_22,_10)","v":0.25264470528396782},{"$f":"CORREL(_22,_11)","v":0.44923320633298802},{"$f":"CORREL(_22,_12)","v":0.58295683752614591},{"$f":"CORREL(_22,_13)","v":0.52435827830221959},{"$f":"CORREL(_22,_14)","v":0.14147910772522665},{"$f":"CORREL(_22,_15)","v":0.46642617555041649},{"$f":"CORREL(_22,_16)","v":0.64457684958570738},{"$f":"CORREL(_22,_17)","v":0.52236775421931914},{"$f":"CORREL(_22,_18)","v":0.49678672240093147},{"$f":"CORREL(_22,_19)","v":0.54284085149582362},{"$f":"CORREL(_22,_20)","v":0.30810238546397839},{"$f":"CORREL(_22,_21)","v":0.54822405923927431},{"$f":"CORREL(_22,_22)","v":1},{"$f":"TRANSPOSE(X28:X35)","v":0.43985568324464608},0.41964899637636255,0.26007093558647626,0.42169489586114922,0.43264118501522814,0.39648042825606172,0.33480321133486945,0.37445989003644442]
["_23",{"$f":"Y5","v":"hd"},{"$f":"CORREL(_23,_1)","v":0.42546582723847087},{"$f":"CORREL(_23,_2)","v":0.39866651258559699},{"$f":"CORREL(_23,_3)","v":0.32725095545959998},{"$f":"CORREL(_23,_4)","v":0.38219423985047468},{"$f":"CORREL(_23,_5)","v":0.38703060075524415},{"$f":"CORREL(_23,_6)","v":0.54432435233911525},{"$f":"CORREL(_23,_7)","v":0.53605889730169909},{"$f":"CORREL(_23,_8)","v":0.45694027424030476},{"$f":"CORREL(_23,_9)","v":0.59045327642075551},{"$f":"CORREL(_23,_10)","v":0.2800089768847478},{"$f":"CORREL(_23,_11)","v":0.4477281920910467},{"$f":"CORREL(_23,_12)","v":0.54334201490634271},{"$f":"CORREL(_23,_13)","v":0.52085072346578232},{"$f":"CORREL(_23,_14)","v":5.6638235529434471E-2},{"$f":"CORREL(_23,_15)","v":0.49275439655008468},{"$f":"CORREL(_23,_16)","v":0.50641991857340174},{"$f":"CORREL(_23,_17)","v":0.57033465725032317},{"$f":"CORREL(_23,_18)","v":0.56575912031000564},{"$f":"CORREL(_23,_19)","v":0.33794182827056296},{"$f":"CORREL(_23,_20)","v":0.42724269867006492},{"$f":"CORREL(_23,_21)","v":0.65591360584884539},{"$f":"CORREL(_23,_22)","v":0.43985568324464608},{"$f":"CORREL(_23,_23)","v":0.99999999999999989},{"$f":"TRANSPOSE(Y29:Y35)","v":0.53699008872481457},0.27225603077999622,0.37475015984246612,0.50277099778551437,0.67126169722787055,0.39243803770369895,0.43627862675904738]
["_24",{"$f":"Z5","v":"ibm"},{"$f":"CORREL(_24,_1)","v":0.45042931414219189},{"$f":"CORREL(_24,_2)","v":0.12658454153536003},{"$f":"CORREL(_24,_3)","v":0.32850690786810405},{"$f":"CORREL(_24,_4)","v":0.40375772774072144},{"$f":"CORREL(_24,_5)","v":8.9023079816915235E-2},{"$f":"CORREL(_24,_6)","v":0.36230677559060842},{"$f":"CORREL(_24,_7)","v":0.21223073813014817},{"$f":"CORREL(_24,_8)","v":0.27009731793670949},{"$f":"CORREL(_24,_9)","v":0.33278790117068824},{"$f":"CORREL(_24,_10)","v":0.36331023535239637},{"$f":"CORREL(_24,_11)","v":0.22915396091186474},{"$f":"CORREL(_24,_12)","v":0.57078947821829118},{"$f":"CORREL(_24,_13)","v":0.41684522033175342},{"$f":"CORREL(_24,_14)","v":0.15335815591233412},{"$f":"CORREL(_24,_15)","v":0.29756546492080715},{"$f":"CORREL(_24,_16)","v":0.48627637812045871},{"$f":"CORREL(_24,_17)","v":0.40829949388814685},{"$f":"CORREL(_24,_18)","v":0.6174250057945655},{"$f":"CORREL(_24,_19)","v":0.18152605514660525},{"$f":"CORREL(_24,_20)","v":0.37266528021468698},{"$f":"CORREL(_24,_21)","v":0.53332188879734255},{"$f":"CORREL(_24,_22)","v":0.41964899637636255},{"$f":"CORREL(_24,_23)","v":0.53699008872481457},{"$f":"CORREL(_24,_24)","v":1},{"$f":"TRANSPOSE(Z30:Z35)","v":0.27012377724068931},0.67441851129005959,0.27640684183148978,0.64035042669373576,0.30403049967444151,0.58041722063255297]
["_25",{"$f":"AA5","v":"kr"},{"$f":"CORREL(_25,_1)","v":7.5883093041424432E-2},{"$f":"CORREL(_25,_2)","v":0.15498162534787105},{"$f":"CORREL(_25,_3)","v":7.5626627421760365E-2},{"$f":"CORREL(_25,_4)","v":5.3318186388718165E-2},{"$f":"CORREL(_25,_5)","v":0.2913154720828468},{"$f":"CORREL(_25,_6)","v":0.26085165015442435},{"$f":"CORREL(_25,_7)","v":0.14314308139037599},{"$f":"CORREL(_25,_8)","v":0.18215958728184839},{"$f":"CORREL(_25,_9)","v":0.2700001238744576},{"$f":"CORREL(_25,_10)","v":8.5635672202055008E-2},{"$f":"CORREL(_25,_11)","v":0.2949851159987904},{"$f":"CORREL(_25,_12)","v":0.17404063846990817},{"$f":"CORREL(_25,_13)","v":0.37873728107595162},{"$f":"CORREL(_25,_14)","v":0.13354484871870045},{"$f":"CORREL(_25,_15)","v":0.30219554230081885},{"$f":"CORREL(_25,_16)","v":0.10703659725631445},{"$f":"CORREL(_25,_17)","v":0.39573799729910064},{"$f":"CORREL(_25,_18)","v":0.1147663054725092},{"$f":"CORREL(_25,_19)","v":0.2300436322917086},{"$f":"CORREL(_25,_20)","v":0.32591851768343888},{"$f":"CORREL(_25,_21)","v":0.19455142553188656},{"$f":"CORREL(_25,_22)","v":0.26007093558647626},{"$f":"CORREL(_25,_23)","v":0.27225603077999622},{"$f":"CORREL(_25,_24)","v":0.27012377724068931},{"$f":"CORREL(_25,_25)","v":1.0000000000000002},{"$f":"TRANSPOSE(AA31:AA35)","v":0.17340079860158136},0.31112097972277808,0.1932478817548825,0.43374270061634579,0.12944729794262366]
["_26",{"$f":"AB5","v":"t"},{"$f":"CORREL(_26,_1)","v":0.41906408961731001},{"$f":"CORREL(_26,_2)","v":3.4308344589427345E-2},{"$f":"CORREL(_26,_3)","v":0.45587926526376465},{"$f":"CORREL(_26,_4)","v":0.35619966477248904},{"$f":"CORREL(_26,_5)","v":3.9372029009989519E-2},{"$f":"CORREL(_26,_6)","v":0.32475632162438117},{"$f":"CORREL(_26,_7)","v":0.28219735368674587},{"$f":"CORREL(_26,_8)","v":0.14816530277959739},{"$f":"CORREL(_26,_9)","v":0.19341861974223026},{"$f":"CORREL(_26,_10)","v":0.49615494625325679},{"$f":"CORREL(_26,_11)","v":0.24307960858708666},{"$f":"CORREL(_26,_12)","v":0.51501762581640731},{"$f":"CORREL(_26,_13)","v":0.39037271424209058},{"$f":"CORREL(_26,_14)","v":4.2416189758075998E-2},{"$f":"CORREL(_26,_15)","v":0.23542017947084273},{"$f":"CORREL(_26,_16)","v":0.44344792468105482},{"$f":"CORREL(_26,_17)","v":0.37276511736106294},{"$f":"CORREL(_26,_18)","v":0.54844748289787437},{"$f":"CORREL(_26,_19)","v":0.17921695725174799},{"$f":"CORREL(_26,_20)","v":0.20847783660507771},{"$f":"CORREL(_26,_21)","v":0.44944765259198916},{"$f":"CORREL(_26,_22)","v":0.42169489586114922},{"$f":"CORREL(_26,_23)","v":0.37475015984246612},{"$f":"CORREL(_26,_24)","v":0.67441851129005959},{"$f":"CORREL(_26,_25)","v":0.17340079860158136},{"$f":"CORREL(_26,_26)","v":1.0000000000000002},{"$f":"TRANSPOSE(AB32:AB35)","v":0.17467877823826944},0.51268238416364531,0.18265266663372354,0.45169007090709967]
["_27",{"$f":"AC5","v":"msft"},{"$f":"CORREL(_27,_1)","v":0.30488941640258982},{"$f":"CORREL(_27,_2)","v":0.49979039282445059},{"$f":"CORREL(_27,_3)","v":0.11710618966783157},{"$f":"CORREL(_27,_4)","v":0.34046062148764539},{"$f":"CORREL(_27,_5)","v":0.65849782099114706},{"$f":"CORREL(_27,_6)","v":0.20197807753034519},{"$f":"CORREL(_27,_7)","v":0.40410458917093706},{"$f":"CORREL(_27,_8)","v":0.54272425926921475},{"$f":"CORREL(_27,_9)","v":0.4397920185233018},{"$f":"CORREL(_27,_10)","v":0.13608764807027893},{"$f":"CORREL(_27,_11)","v":0.65529949418381073},{"$f":"CORREL(_27,_12)","v":0.29418252178729148},{"$f":"CORREL(_27,_13)","v":0.22224423680459854},{"$f":"CORREL(_27,_14)","v":0.42310240993520859},{"$f":"CORREL(_27,_15)","v":0.69917255803249245},{"$f":"CORREL(_27,_16)","v":0.29809537697478961},{"$f":"CORREL(_27,_17)","v":0.25891807586674859},{"$f":"CORREL(_27,_18)","v":0.40160609156433374},{"$f":"CORREL(_27,_19)","v":0.64658622022684109},{"$f":"CORREL(_27,_20)","v":0.22575345762940338},{"$f":"CORREL(_27,_21)","v":0.45791194967604582},{"$f":"CORREL(_27,_22)","v":0.43264118501522814},{"$f":"CORREL(_27,_23)","v":0.50277099778551437},{"$f":"CORREL(_27,_24)","v":0.27640684183148978},{"$f":"CORREL(_27,_25)","v":0.31112097972277808},{"$f":"CORREL(_27,_26)","v":0.17467877823826944},{"$f":"CORREL(_27,_27)","v":1},{"$f":"TRANSPOSE(AC33:AC35)","v":0.41909234487758351},0.35991306017897773,0.32780859526616696]
["_28",{"$f":"AD5","v":"mcd"},{"$f":"CORREL(_28,_1)","v":0.53496339088800848},{"$f":"CORREL(_28,_2)","v":0.34508987387260392},{"$f":"CORREL(_28,_3)","v":0.3939820815526332},{"$f":"CORREL(_28,_4)","v":0.4425883482685376},{"$f":"CORREL(_28,_5)","v":0.15905026617453727},{"$f":"CORREL(_28,_6)","v":0.44909478452553053},{"$f":"CORREL(_28,_7)","v":0.47768871132195778},{"$f":"CORREL(_28,_8)","v":0.24052558062214588},{"$f":"CORREL(_28,_9)","v":0.51221196845831896},{"$f":"CORREL(_28,_10)","v":0.39991040675927914},{"$f":"CORREL(_28,_11)","v":0.50574762171013676},{"$f":"CORREL(_28,_12)","v":0.58562392974723554},{"$f":"CORREL(_28,_13)","v":0.43508664296808974},{"$f":"CORREL(_28,_14)","v":0.10647314601030763},{"$f":"CORREL(_28,_15)","v":0.57499158460940047},{"$f":"CORREL(_28,_16)","v":0.48063968233412219},{"$f":"CORREL(_28,_17)","v":0.54123732351509168},{"$f":"CORREL(_28,_18)","v":0.70230542956580255},{"$f":"CORREL(_28,_19)","v":0.32479946517346692},{"$f":"CORREL(_28,_20)","v":0.3360217523827822},{"$f":"CORREL(_28,_21)","v":0.78382550684779717},{"$f":"CORREL(_28,_22)","v":0.39648042825606172},{"$f":"CORREL(_28,_23)","v":0.67126169722787055},{"$f":"CORREL(_28,_24)","v":0.64035042669373576},{"$f":"CORREL(_28,_25)","v":0.1932478817548825},{"$f":"CORREL(_28,_26)","v":0.51268238416364531},{"$f":"CORREL(_28,_27)","v":0.41909234487758351},{"$f":"CORREL(_28,_28)","v":1},{"$f":"TRANSPOSE(AD34:AD35)","v":0.33689507074617647},0.69971285958991847]
["_29",{"$f":"AE5","v":"wmt"},{"$f":"CORREL(_29,_1)","v":0.32509729325710535},{"$f":"CORREL(_29,_2)","v":0.25464243639544831},{"$f":"CORREL(_29,_3)","v":0.19766158759547559},{"$f":"CORREL(_29,_4)","v":7.2277748923257695E-2},{"$f":"CORREL(_29,_5)","v":0.30041297115125065},{"$f":"CORREL(_29,_6)","v":0.26010476839762808},{"$f":"CORREL(_29,_7)","v":0.2675279330979935},{"$f":"CORREL(_29,_8)","v":0.27930287403337528},{"$f":"CORREL(_29,_9)","v":0.23235241269012546},{"$f":"CORREL(_29,_10)","v":9.6211858261094227E-2},{"$f":"CORREL(_29,_11)","v":0.35680644176525189},{"$f":"CORREL(_29,_12)","v":0.3321244155394264},{"$f":"CORREL(_29,_13)","v":0.39728916380155366},{"$f":"CORREL(_29,_14)","v":0.20335487479221753},{"$f":"CORREL(_29,_15)","v":0.4221021207043677},{"$f":"CORREL(_29,_16)","v":0.22991241235888912},{"$f":"CORREL(_29,_17)","v":0.35963377578694905},{"$f":"CORREL(_29,_18)","v":0.34125871473337199},{"$f":"CORREL(_29,_19)","v":0.18340114484039055},{"$f":"CORREL(_29,_20)","v":0.245964765070735},{"$f":"CORREL(_29,_21)","v":0.32655253126929595},{"$f":"CORREL(_29,_22)","v":0.33480321133486945},{"$f":"CORREL(_29,_23)","v":0.39243803770369895},{"$f":"CORREL(_29,_24)","v":0.30403049967444151},{"$f":"CORREL(_29,_25)","v":0.43374270061634579},{"$f":"CORREL(_29,_26)","v":0.18265266663372354},{"$f":"CORREL(_29,_27)","v":0.35991306017897773},{"$f":"CORREL(_29,_28)","v":0.33689507074617647},{"$f":"CORREL(_29,_29)","v":1},{"$f":"AE35","v":0.33977591343609997}]
["_30",{"$f":"AF5","v":"ko"},{"$f":"CORREL(_30,_1)","v":0.45165478615377885},{"$f":"CORREL(_30,_2)","v":0.12169290597830441},{"$f":"CORREL(_30,_3)","v":0.30152769880832891},{"$f":"CORREL(_30,_4)","v":0.4865866680963008},{"$f":"CORREL(_30,_5)","v":4.155593595403366E-2},{"$f":"CORREL(_30,_6)","v":0.37823291899304451},{"$f":"CORREL(_30,_7)","v":0.29569716153574066},{"$f":"CORREL(_30,_8)","v":0.20830647577782313},{"$f":"CORREL(_30,_9)","v":0.24103606682749065},{"$f":"CORREL(_30,_10)","v":0.4131842051190569},{"$f":"CORREL(_30,_11)","v":0.34436315199061523},{"$f":"CORREL(_30,_12)","v":0.56823903855374014},{"$f":"CORREL(_30,_13)","v":0.36119663518368433},{"$f":"CORREL(_30,_14)","v":0.11411573804052343},{"$f":"CORREL(_30,_15)","v":0.39156846038561843},{"$f":"CORREL(_30,_16)","v":0.45740725365867757},{"$f":"CORREL(_30,_17)","v":0.50579024443231313},{"$f":"CORREL(_30,_18)","v":0.65571038362347744},{"$f":"CORREL(_30,_19)","v":0.30242858364409309},{"$f":"CORREL(_30,_20)","v":0.30215982346403952},{"$f":"CORREL(_30,_21)","v":0.7197194881359037},{"$f":"CORREL(_30,_22)","v":0.37445989003644442},{"$f":"CORREL(_30,_23)","v":0.43627862675904738},{"$f":"CORREL(_30,_24)","v":0.58041722063255297},{"$f":"CORREL(_30,_25)","v":0.12944729794262366},{"$f":"CORREL(_30,_26)","v":0.45169007090709967},{"$f":"CORREL(_30,_27)","v":0.32780859526616696},{"$f":"CORREL(_30,_28)","v":0.69971285958991847},{"$f":"CORREL(_30,_29)","v":0.33977591343609997},{"$f":"CORREL(_30,_30)","v":1}]
[]
[]
[]
[null,"Standard Deviations"]
[null,{"$f":"'Returns & Stand Dev'!C66","v":0.20906461170239107},{"$f":"'Returns & Stand Dev'!BL$66","v":5.3217839859778335E-2}]
[null,{"$f":"'Returns & Stand Dev'!E66","v":0.20135967037901595},{"$f":"'Returns & Stand Dev'!BL$66","v":5.3217839859778335E-2}]
[null,{"$f":"'Returns & Stand Dev'!G66","v":0.15836761512795969},{"$f":"'Returns & Stand Dev'!BL$66","v":5.3217839859778335E-2}]
[null,{"$f":"'Returns & Stand Dev'!I66","v":0.1440637758628594},{"$f":"'Returns & Stand Dev'!BL$66","v":5.3217839859778335E-2}]
[null,{"$f":"'Returns & Stand Dev'!K66","v":0.13994437340495425},{"$f":"'Returns & Stand Dev'!BL$66","v":5.3217839859778335E-2}]
[null,{"$f":"'Returns & Stand Dev'!M66","v":0.13876950035595559},{"$f":"'Returns & Stand Dev'!BL$66","v":5.3217839859778335E-2}]
[null,{"$f":"'Returns & Stand Dev'!O66","v":0.13379442521846763},{"$f":"'Returns & Stand Dev'!BL$66","v":5.3217839859778335E-2}]
[null,{"$f":"'Returns & Stand Dev'!Q66","v":0.12218072111324599},{"$f":"'Returns & Stand Dev'!BL$66","v":5.3217839859778335E-2}]
[null,{"$f":"'Returns & Stand Dev'!S66","v":0.10716517764702532},{"$f":"'Returns & Stand Dev'!BL$66","v":5.3217839859778335E-2}]
[null,{"$f":"'Returns & Stand Dev'!U66","v":9.7405101993056561E-2},{"$f":"'Returns & Stand Dev'!BL$66","v":5.3217839859778335E-2}]
[null,{"$f":"'Returns & Stand Dev'!W66","v":9.5141880020765221E-2},{"$f":"'Returns & Stand Dev'!BL$66","v":5.3217839859778335E-2}]
[null,{"$f":"'Returns & Stand Dev'!Y66","v":9.1465109088268048E-2},{"$f":"'Returns & Stand Dev'!BL$66","v":5.3217839859778335E-2}]
[null,{"$f":"'Returns & Stand Dev'!AA66","v":9.0509637286434144E-2},{"$f":"'Returns & Stand Dev'!BL$66","v":5.3217839859778335E-2}]
[null,{"$f":"'Returns & Stand Dev'!AC66","v":8.677015508168226E-2},{"$f":"'Returns & Stand Dev'!BL$66","v":5.3217839859778335E-2}]
[null,{"$f":"'Returns & Stand Dev'!AE66","v":8.1666601488429955E-2},{"$f":"'Returns & Stand Dev'!BL$66","v":5.3217839859778335E-2}]
[null,{"$f":"'Returns & Stand Dev'!AG66","v":7.9975687394482187E-2},{"$f":"'Returns & Stand Dev'!BL$66","v":5.3217839859778335E-2}]
[null,{"$f":"'Returns & Stand Dev'!AI66","v":7.87370800755052E-2},{"$f":"'Returns & Stand Dev'!BL$66","v":5.3217839859778335E-2}]
[null,{"$f":"'Returns & Stand Dev'!AK66","v":7.8174009572100328E-2},{"$f":"'Returns & Stand Dev'!BL$66","v":5.3217839859778335E-2}]
[null,{"$f":"'Returns & Stand Dev'!AM66","v":7.7932531395829799E-2},{"$f":"'Returns & Stand Dev'!BL$66","v":5.3217839859778335E-2}]
[null,{"$f":"'Returns & Stand Dev'!AO66","v":7.7686583325361755E-2},{"$f":"'Returns & Stand Dev'!BL$66","v":5.3217839859778335E-2}]
[null,{"$f":"'Returns & Stand Dev'!AQ66","v":7.5550833975187665E-2},{"$f":"'Returns & Stand Dev'!BL$66","v":5.3217839859778335E-2}]
[null,{"$f":"'Returns & Stand Dev'!AS66","v":7.4899186869719886E-2},{"$f":"'Returns & Stand Dev'!BL$66","v":5.3217839859778335E-2}]
[null,{"$f":"'Returns & Stand Dev'!AU66","v":7.4339716519146656E-2},{"$f":"'Returns & Stand Dev'!BL$66","v":5.3217839859778335E-2}]
[null,{"$f":"'Returns & Stand Dev'!AW66","v":6.8988998023966894E-2},{"$f":"'Returns & Stand Dev'!BL$66","v":5.3217839859778335E-2}]
[null,{"$f":"'Returns & Stand Dev'!AY66","v":6.7040475893232615E-2},{"$f":"'Returns & Stand Dev'!BL$66","v":5.3217839859778335E-2}]
[null,{"$f":"'Returns & Stand Dev'!BA66","v":6.6814279619682088E-2},{"$f":"'Returns & Stand Dev'!BL$66","v":5.3217839859778335E-2}]
[null,{"$f":"'Returns & Stand Dev'!BC66","v":6.3321309841557955E-2},{"$f":"'Returns & Stand Dev'!BL$66","v":5.3217839859778335E-2}]
[null,{"$f":"'Returns & Stand Dev'!BE66","v":5.5866335117150341E-2},{"$f":"'Returns & Stand Dev'!BL$66","v":5.3217839859778335E-2}]
[null,{"$f":"'Returns & Stand Dev'!BG66","v":5.5842308723867633E-2},{"$f":"'Returns & Stand Dev'!BL$66","v":5.3217839859778335E-2}]
[null,{"$f":"'Returns & Stand Dev'!BI66","v":5.573924908828156E-2},{"$f":"'Returns & Stand Dev'!BL$66","v":5.3217839859778335E-2}]

{"sheet":"Var-Cov Matrix","index":4,"n_rows":67,"n_cols":31,"rows_kept":67,"cut":false,"hidden":false,"merged":[[35,0,35,5]]}
[]
["Variance/Covariance Matrix"]
[]
[null,{"$f":"'Corr. Matrix'!C5","v":"rcl"},{"$f":"'Corr. Matrix'!D5","v":"tsla"},{"$f":"'Corr. Matrix'!E5","v":"ual"},{"$f":"'Corr. Matrix'!F5","v":"ba"},{"$f":"'Corr. Matrix'!G5","v":"nvda"},{"$f":"'Corr. Matrix'!H5","v":"hog"},{"$f":"'Corr. Matrix'!I5","v":"f"},{"$f":"'Corr. Matrix'!J5","v":"meta"},{"$f":"'Corr. Matrix'!K5","v":"pzza"},{"$f":"'Corr. Matrix'!L5","v":"xom"},{"$f":"'Corr. Matrix'!M5","v":"cmg"},{"$f":"'Corr. Matrix'!N5","v":"pru"},{"$f":"'Corr. Matrix'!O5","v":"cat"},{"$f":"'Corr. Matrix'!P5","v":"lly"},{"$f":"'Corr. Matrix'!Q5","v":"aapl"},{"$f":"'Corr. Matrix'!R5","v":"jpm"},{"$f":"'Corr. Matrix'!S5","v":"mmm"},{"$f":"'Corr. Matrix'!T5","v":"ma"},{"$f":"'Corr. Matrix'!U5","v":"googl"},{"$f":"'Corr. Matrix'!V5","v":"pfe"},{"$f":"'Corr. Matrix'!W5","v":"yum"},{"$f":"'Corr. Matrix'!X5","v":"grmn"},{"$f":"'Corr. Matrix'!Y5","v":"hd"},{"$f":"'Corr. Matrix'!Z5","v":"ibm"},{"$f":"'Corr. Matrix'!AA5","v":"kr"},{"$f":"'Corr. Matrix'!AB5","v":"t"},{"$f":"'Corr. Matrix'!AC5","v":"msft"},{"$f":"'Corr. Matrix'!AD5","v":"mcd"},{"$f":"'Corr. Matrix'!AE5","v":"wmt"},{"$f":"'Corr. Matrix'!AF5","v":"ko"}]
[{"$f":"'Corr. Matrix'!B6","v":"rcl"},{"$f":"'Corr. Matrix'!B40*'Corr. Matrix'!B$40*'Corr. Matrix'!C6","v":4.3708011866271546E-2},{"$f":"TRANSPOSE(B6:B34)","v":1.6609659780084142E-2},2.6964047098460356E-2,1.8337175700041657E-2,1.0059579939353594E-2,1.5273686870270656E-2,1.6279786946427791E-2,7.6606261906174691E-3,6.1811390077809543E-3,1.1514250980466377E-2,9.2898466459739818E-3,1.48954313483942E-2,9.7275292567185999E-3,-4.6603938347390396E-4,7.515623999521286E-3,1.232612281428919E-2,6.791027759059245E-3,1.0976824179399856E-2,7.3808212965610536E-3,7.114384701439805E-4,9.4792985508855322E-3,8.879805373741079E-3,6.6125064820833548E-3,6.4966132033683153E-3,1.0635615771281584E-3,5.8536973329286531E-3,4.0362008088646673E-3,6.2481978248179514E-3,3.7953973065056007E-3,5.2631804061719E-3]
[{"$f":"'Corr. Matrix'!B7","v":"tsla"},{"$f":"'Corr. Matrix'!B41*'Corr. Matrix'!B$40*'Corr. Matrix'!C7","v":1.6609659780084142E-2},{"$f":"'Corr. Matrix'!B$41*'Corr. Matrix'!B41*'Corr. Matrix'!D7","v":4.0545716855145943E-2},{"$f":"TRANSPOSE(C7:C34)","v":9.5289911018106958E-3},8.4249526209173881E-3,1.1565321499431619E-2,8.840528516796094E-3,9.8154309945202127E-3,7.4722549595145574E-3,8.2828059040199985E-3,1.3254311198509891E-3,8.3007930797568304E-3,5.7624483567164583E-3,3.0639623988642397E-3,-3.7474466638231772E-5,1.1419404992916988E-2,3.5083953247666715E-3,3.8633264623722649E-3,5.3585548802794151E-3,7.2276878259423466E-3,1.3948907398851048E-3,4.907580794725472E-3,4.294147663225922E-3,5.9676473248840506E-3,1.7584620579417921E-3,2.0921354158382681E-3,4.6157422091828965E-4,6.3725064722879214E-3,3.8819942660217126E-3,2.8632985796313726E-3,1.3658369807078023E-3]
[{"$f":"'Corr. Matrix'!B8","v":"ual"},{"$f":"'Corr. Matrix'!B42*'Corr. Matrix'!B$40*'Corr. Matrix'!C8","v":2.6964047098460356E-2},{"$f":"'Corr. Matrix'!B$41*'Corr. Matrix'!B42*'Corr. Matrix'!D8","v":9.5289911018106958E-3},{"$f":"'Corr. Matrix'!B$42*'Corr. Matrix'!B42*'Corr. Matrix'!E8","v":2.5080301521317572E-2},{"$f":"TRANSPOSE(D8:D34)","v":1.3231243009295459E-2},5.4720468058423438E-3,1.086668973117297E-2,1.1085427609432808E-2,2.8462248735731527E-3,1.6658799107443346E-3,7.9674037531070642E-3,3.9205863394395123E-3,9.7096812583150425E-3,7.8828071932630257E-3,-1.5688589582797618E-3,3.3262244817094588E-3,8.3524423180143421E-3,4.1971118228763329E-3,6.3776131346479845E-3,3.45476855726457E-3,-8.9915458449786438E-4,5.3119105636054769E-3,6.0786684171029812E-3,3.8527266814501813E-3,3.5891426568831985E-3,8.0293094989915259E-4,4.8237579420781817E-3,1.174346119436292E-3,3.4857242618279425E-3,1.7480426362293665E-3,2.6616730275287443E-3]
[{"$f":"'Corr. Matrix'!B9","v":"ba"},{"$f":"'Corr. Matrix'!B43*'Corr. Matrix'!B$40*'Corr. Matrix'!C9","v":1.8337175700041657E-2},{"$f":"'Corr. Matrix'!B$41*'Corr. Matrix'!B43*'Corr. Matrix'!D9","v":8.4249526209173881E-3},{"$f":"'Corr. Matrix'!B$42*'Corr. Matrix'!B43*'Corr. Matrix'!E9","v":1.3231243009295459E-2},{"$f":"'Corr. Matrix'!B$43*'Corr. Matrix'!B43*'Corr. Matrix'!F9","v":2.0754371515864192E-2},{"$f":"TRANSPOSE(E9:E34)","v":5.4108731442354821E-3},1.0173335057756402E-2,9.6054123412919138E-3,3.9249023246764204E-3,2.8117503350081545E-3,5.3576526293413092E-3,3.7346718465350159E-3,7.6247660453330479E-3,4.9124266361618143E-3,-7.0938688975588963E-4,4.9226541158641892E-3,6.9139129811984284E-3,4.510070913391671E-3,5.9038617643681832E-3,4.4809358406620566E-3,9.371909358473694E-4,4.9359666757577665E-3,5.706021354379448E-3,4.0931704614865401E-3,4.0128735822270722E-3,5.1495259418273009E-4,3.4286060724127857E-3,3.1057863066570731E-3,3.5620905221248186E-3,5.8146392652546339E-4,3.9072941988218769E-3]
[{"$f":"'Corr. Matrix'!B10","v":"nvda"},{"$f":"'Corr. Matrix'!B44*'Corr. Matrix'!B$40*'Corr. Matrix'!C10","v":1.0059579939353594E-2},{"$f":"'Corr. Matrix'!B$41*'Corr. Matrix'!B44*'Corr. Matrix'!D10","v":1.1565321499431619E-2},{"$f":"'Corr. Matrix'!B$42*'Corr. Matrix'!B44*'Corr. Matrix'!E10","v":5.4720468058423438E-3},{"$f":"'Corr. Matrix'!B$43*'Corr. Matrix'!B44*'Corr. Matrix'!F10","v":5.4108731442354821E-3},{"$f":"'Corr. Matrix'!B$44*'Corr. Matrix'!B44*'Corr. Matrix'!G10","v":1.9584427647705269E-2},{"$f":"TRANSPOSE(F10:F34)","v":4.1396526360386399E-3},7.9669475513834426E-3,8.4321397627716566E-3,4.1370079087178647E-3,2.6809518497335471E-4,5.2961010839773495E-3,2.9840710232464712E-3,4.4450998500059052E-3,2.2139079857747992E-3,6.0841648986504678E-3,3.9670440813643695E-3,2.2411719011927126E-3,3.160376749595825E-3,6.2410217345518501E-3,2.309883317615816E-3,2.0468974240481579E-3,4.614031781400723E-3,4.0264438459972768E-3,8.5948419383713155E-4,2.7331035202997596E-3,3.6813959367937727E-4,5.8352527783666732E-3,1.243483492685094E-3,2.3476723650878947E-3,3.2415268543679502E-4]
[{"$f":"'Corr. Matrix'!B11","v":"hog"},{"$f":"'Corr. Matrix'!B45*'Corr. Matrix'!B$40*'Corr. Matrix'!C11","v":1.5273686870270656E-2},{"$f":"'Corr. Matrix'!B$41*'Corr. Matrix'!B45*'Corr. Matrix'!D11","v":8.840528516796094E-3},{"$f":"'Corr. Matrix'!B$42*'Corr. Matrix'!B45*'Corr. Matrix'!E11","v":1.086668973117297E-2},{"$f":"'Corr. Matrix'!B$43*'Corr. Matrix'!B45*'Corr. Matrix'!F11","v":1.0173335057756402E-2},{"$f":"'Corr. Matrix'!B$44*'Corr. Matrix'!B45*'Corr. Matrix'!G11","v":4.1396526360386399E-3},{"$f":"'Corr. Matrix'!B$45*'Corr. Matrix'!B45*'Corr. Matrix'!H11","v":1.9256974229041556E-2},{"$f":"TRANSPOSE(G11:G34)","v":1.071525319957939E-2},2.6402588636124606E-3,5.5376356679498837E-3,6.1183415786007153E-3,3.8057486530112569E-3,9.285184702956896E-3,6.989327607674495E-3,-1.6190698482898918E-3,3.8203663859719475E-3,6.8254497142247851E-3,5.6082955457558625E-3,3.7548012122211112E-3,3.180622086658215E-3,2.1595180222501991E-3,5.8574597869031821E-3,4.5903633071401563E-3,5.6152964593765503E-3,3.4685688376939966E-3,2.4267481182801203E-3,3.0110705315137625E-3,1.7747948045773977E-3,3.4816268126543317E-3,2.0156062851260596E-3,2.9255967349859969E-3]
[{"$f":"'Corr. Matrix'!B12","v":"f"},{"$f":"'Corr. Matrix'!B46*'Corr. Matrix'!B$40*'Corr. Matrix'!C12","v":1.6279786946427791E-2},{"$f":"'Corr. Matrix'!B$41*'Corr. Matrix'!B46*'Corr. Matrix'!D12","v":9.8154309945202127E-3},{"$f":"'Corr. Matrix'!B$42*'Corr. Matrix'!B46*'Corr. Matrix'!E12","v":1.1085427609432808E-2},{"$f":"'Corr. Matrix'!B$43*'Corr. Matrix'!B46*'Corr. Matrix'!F12","v":9.6054123412919138E-3},{"$f":"'Corr. Matrix'!B$44*'Corr. Matrix'!B46*'Corr. Matrix'!G12","v":7.9669475513834426E-3},{"$f":"'Corr. Matrix'!B$45*'Corr. Matrix'!B46*'Corr. Matrix'!H12","v":1.071525319957939E-2},{"$f":"'Corr. Matrix'!B$46*'Corr. Matrix'!B46*'Corr. Matrix'!I12","v":1.7900948219540122E-2},{"$f":"TRANSPOSE(H12:H34)","v":4.458393757819222E-3},5.5258827588483255E-3,6.8539618733045654E-3,5.2783144419533256E-3,7.2818394773726319E-3,7.2672624726895802E-3,1.1414381106282974E-3,5.0715737809762969E-3,6.6220782911416828E-3,3.9320662858389624E-3,4.5693884678640623E-3,4.6454003825145713E-3,1.4725687368058451E-3,4.9062283015303852E-3,4.3441396631838363E-3,5.3317702551015159E-3,1.958962579609314E-3,1.2839421860463222E-3,2.5226688541773478E-3,3.4235895382071922E-3,3.5705340460582794E-3,1.9988054166785139E-3,2.2051913866157091E-3]
[{"$f":"'Corr. Matrix'!B13","v":"meta"},{"$f":"'Corr. Matrix'!B47*'Corr. Matrix'!B$40*'Corr. Matrix'!C13","v":7.6606261906174691E-3},{"$f":"'Corr. Matrix'!B$41*'Corr. Matrix'!B47*'Corr. Matrix'!D13","v":7.4722549595145574E-3},{"$f":"'Corr. Matrix'!B$42*'Corr. Matrix'!B47*'Corr. Matrix'!E13","v":2.8462248735731527E-3},{"$f":"'Corr. Matrix'!B$43*'Corr. Matrix'!B47*'Corr. Matrix'!F13","v":3.9249023246764204E-3},{"$f":"'Corr. Matrix'!B$44*'Corr. Matrix'!B47*'Corr. Matrix'!G13","v":8.4321397627716566E-3},{"$f":"'Corr. Matrix'!B$45*'Corr. Matrix'!B47*'Corr. Matrix'!H13","v":2.6402588636124606E-3},{"$f":"'Corr. Matrix'!B$46*'Corr. Matrix'!B47*'Corr. Matrix'!I13","v":4.458393757819222E-3},{"$f":"'Corr. Matrix'!B$47*'Corr. Matrix'!B47*'Corr. Matrix'!J13","v":1.4928128611752793E-2},{"$f":"TRANSPOSE(I13:I34)","v":4.9324720182484117E-3},-2.034647586348275E-4,5.1115986055982159E-3,2.0772924919436955E-3,1.8353076094257254E-3,-4.0333791310435873E-5,3.9199468245918676E-3,2.6271920100212716E-3,1.5524729888737343E-3,3.2089382170609158E-3,4.1272272889238022E-3,1.7857372423030807E-3,3.2494250883415795E-3,4.377951920469002E-3,4.1503337565318025E-3,2.2766841975157123E-3,1.4920789592842904E-3,1.2095351314587619E-3,4.1988640032874277E-3,1.6417768890236136E-3,1.9056426052078388E-3,1.4186216030024771E-3]
[{"$f":"'Corr. Matrix'!B14","v":"pzza"},{"$f":"'Corr. Matrix'!B48*'Corr. Matrix'!B$40*'Corr. Matrix'!C14","v":6.1811390077809543E-3},{"$f":"'Corr. Matrix'!B$41*'Corr. Matrix'!B48*'Corr. Matrix'!D14","v":8.2828059040199985E-3},{"$f":"'Corr. Matrix'!B$42*'Corr. Matrix'!B48*'Corr. Matrix'!E14","v":1.6658799107443346E-3},{"$f":"'Corr. Matrix'!B$43*'Corr. Matrix'!B48*'Corr. Matrix'!F14","v":2.8117503350081545E-3},{"$f":"'Corr. Matrix'!B$44*'Corr. Matrix'!B48*'Corr. Matrix'!G14","v":4.1370079087178647E-3},{"$f":"'Corr. Matrix'!B$45*'Corr. Matrix'!B48*'Corr. Matrix'!H14","v":5.5376356679498837E-3},{"$f":"'Corr. Matrix'!B$46*'Corr. Matrix'!B48*'Corr. Matrix'!I14","v":5.5258827588483255E-3},{"$f":"'Corr. Matrix'!B$47*'Corr. Matrix'!B48*'Corr. Matrix'!J14","v":4.9324720182484117E-3},{"$f":"'Corr. Matrix'!B$48*'Corr. Matrix'!B48*'Corr. Matrix'!K14","v":1.1484375300118496E-2},{"$f":"TRANSPOSE(J14:J34)","v":2.6368970196740389E-3},5.3131232513056103E-3,3.950448323696368E-3,3.0391183020621118E-3,1.8335163178103092E-3,4.1794664445545015E-3,2.7201557074387193E-3,3.0884914044126029E-3,3.3793997245804273E-3,3.1051729893615183E-3,2.4734881278621092E-3,4.3367168929618364E-3,2.3876444280331701E-3,4.7039221519777933E-3,2.4603735773020522E-3,1.9397901072968475E-3,1.3849090660152652E-3,2.9843580150228769E-3,3.0665750118031346E-3,1.3904783780418091E-3,1.4397823120564372E-3]
[{"$f":"'Corr. Matrix'!B15","v":"xom"},{"$f":"'Corr. Matrix'!B49*'Corr. Matrix'!B$40*'Corr. Matrix'!C15","v":1.1514250980466377E-2},{"$f":"'Corr. Matrix'!B$41*'Corr. Matrix'!B49*'Corr. Matrix'!D15","v":1.3254311198509891E-3},{"$f":"'Corr. Matrix'!B$42*'Corr. Matrix'!B49*'Corr. Matrix'!E15","v":7.9674037531070642E-3},{"$f":"'Corr. Matrix'!B$43*'Corr. Matrix'!B49*'Corr. Matrix'!F15","v":5.3576526293413092E-3},{"$f":"'Corr. Matrix'!B$44*'Corr. Matrix'!B49*'Corr. Matrix'!G15","v":2.6809518497335471E-4},{"$f":"'Corr. Matrix'!B$45*'Corr. Matrix'!B49*'Corr. Matrix'!H15","v":6.1183415786007153E-3},{"$f":"'Corr. Matrix'!B$46*'Corr. Matrix'!B49*'Corr. Matrix'!I15","v":6.8539618733045654E-3},{"$f":"'Corr. Matrix'!B$47*'Corr. Matrix'!B49*'Corr. Matrix'!J15","v":-2.034647586348275E-4},{"$f":"'Corr. Matrix'!B$48*'Corr. Matrix'!B49*'Corr. Matrix'!K15","v":2.6368970196740389E-3},{"$f":"'Corr. Matrix'!B$49*'Corr. Matrix'!B49*'Corr. Matrix'!L15","v":9.4877538942777489E-3},{"$f":"TRANSPOSE(K15:K34)","v":2.4593970964772154E-3},6.4192630946994416E-3,4.1459786310792963E-3,1.2865683796760272E-3,1.5840302697358809E-3,4.649474914618406E-3,3.0638997966956389E-3,4.2859405024844172E-3,1.7341295335545231E-3,8.2795550097478792E-4,3.6449287190209209E-3,1.8431853479075164E-3,2.0275639497409912E-3,2.4414013256396673E-3,5.592081664487819E-4,3.2290020518202381E-3,8.3936393291124975E-4,2.1761788915275848E-3,5.2332764067109644E-4,2.2432957336390577E-3]
[{"$f":"'Corr. Matrix'!B16","v":"cmg"},{"$f":"'Corr. Matrix'!B50*'Corr. Matrix'!B$40*'Corr. Matrix'!C16","v":9.2898466459739818E-3},{"$f":"'Corr. Matrix'!B$41*'Corr. Matrix'!B50*'Corr. Matrix'!D16","v":8.3007930797568304E-3},{"$f":"'Corr. Matrix'!B$42*'Corr. Matrix'!B50*'Corr. Matrix'!E16","v":3.9205863394395123E-3},{"$f":"'Corr. Matrix'!B$43*'Corr. Matrix'!B50*'Corr. Matrix'!F16","v":3.7346718465350159E-3},{"$f":"'Corr. Matrix'!B$44*'Corr. Matrix'!B50*'Corr. Matrix'!G16","v":5.2961010839773495E-3},{"$f":"'Corr. Matrix'!B$45*'Corr. Matrix'!B50*'Corr. Matrix'!H16","v":3.8057486530112569E-3},{"$f":"'Corr. Matrix'!B$46*'Corr. Matrix'!B50*'Corr. Matrix'!I16","v":5.2783144419533256E-3},{"$f":"'Corr. Matrix'!B$47*'Corr. Matrix'!B50*'Corr. Matrix'!J16","v":5.1115986055982159E-3},{"$f":"'Corr. Matrix'!B$48*'Corr. Matrix'!B50*'Corr. Matrix'!K16","v":5.3131232513056103E-3},{"$f":"'Corr. Matrix'!B$49*'Corr. Matrix'!B50*'Corr. Matrix'!L16","v":2.4593970964772154E-3},{"$f":"'Corr. Matrix'!B$50*'Corr. Matrix'!B50*'Corr. Matrix'!M16","v":9.051977333885684E-3},{"$f":"TRANSPOSE(L16:L34)","v":3.3291137958356577E-3},1.4037692844507624E-3,2.8898521041243559E-3,4.6806428453969977E-3,2.5584031131666699E-3,2.0344922191582221E-3,3.7820029518934933E-3,4.5361920518957504E-3,9.2124338031601672E-4,4.6825648286466194E-3,3.2012580432755969E-3,3.1667010861288073E-3,1.5041077006128665E-3,1.8815203541488147E-3,1.5452172493319184E-3,3.9478573489707975E-3,2.6881639971839191E-3,1.8956920147772298E-3,1.8262049552660708E-3]
[{"$f":"'Corr. Matrix'!B17","v":"pru"},{"$f":"'Corr. Matrix'!B51*'Corr. Matrix'!B$40*'Corr. Matrix'!C17","v":1.48954313483942E-2},{"$f":"'Corr. Matrix'!B$41*'Corr. Matrix'!B51*'Corr. Matrix'!D17","v":5.7624483567164583E-3},{"$f":"'Corr. Matrix'!B$42*'Corr. Matrix'!B51*'Corr. Matrix'!E17","v":9.7096812583150425E-3},{"$f":"'Corr. Matrix'!B$43*'Corr. Matrix'!B51*'Corr. Matrix'!F17","v":7.6247660453330479E-3},{"$f":"'Corr. Matrix'!B$44*'Corr. Matrix'!B51*'Corr. Matrix'!G17","v":2.9840710232464712E-3},{"$f":"'Corr. Matrix'!B$45*'Corr. Matrix'!B51*'Corr. Matrix'!H17","v":9.285184702956896E-3},{"$f":"'Corr. Matrix'!B$46*'Corr. Matrix'!B51*'Corr. Matrix'!I17","v":7.2818394773726319E-3},{"$f":"'Corr. Matrix'!B$47*'Corr. Matrix'!B51*'Corr. Matrix'!J17","v":2.0772924919436955E-3},{"$f":"'Corr. Matrix'!B$48*'Corr. Matrix'!B51*'Corr. Matrix'!K17","v":3.950448323696368E-3},{"$f":"'Corr. Matrix'!B$49*'Corr. Matrix'!B51*'Corr. Matrix'!L17","v":6.4192630946994416E-3},{"$f":"'Corr. Matrix'!B$50*'Corr. Matrix'!B51*'Corr. Matrix'!M17","v":3.3291137958356577E-3},{"$f":"'Corr. Matrix'!B$51*'Corr. Matrix'!B51*'Corr. Matrix'!N17","v":8.3658661805287738E-3},{"$f":"TRANSPOSE(M17:M34)","v":5.2513119758363629E-3},3.9402440500559322E-4,3.1059356186743637E-3,6.0930594190732592E-3,4.1158992097217462E-3,4.5754073810730187E-3,3.0141245686176365E-3,2.0020110793215282E-3,4.8635624619779664E-3,3.9936404280043504E-3,3.6944487496226057E-3,3.6017308268211359E-3,1.0671936023058455E-3,3.1473630321003335E-3,1.7038141203111537E-3,2.9924331239463194E-3,1.6963662568974163E-3,2.8969942765848912E-3]
[{"$f":"'Corr. Matrix'!B18","v":"cat"},{"$f":"'Corr. Matrix'!B52*'Corr. Matrix'!B$40*'Corr. Matrix'!C18","v":9.7275292567185999E-3},{"$f":"'Corr. Matrix'!B$41*'Corr. Matrix'!B52*'Corr. Matrix'!D18","v":3.0639623988642397E-3},{"$f":"'Corr. Matrix'!B$42*'Corr. Matrix'!B52*'Corr. Matrix'!E18","v":7.8828071932630257E-3},{"$f":"'Corr. Matrix'!B$43*'Corr. Matrix'!B52*'Corr. Matrix'!F18","v":4.9124266361618143E-3},{"$f":"'Corr. Matrix'!B$44*'Corr. Matrix'!B52*'Corr. Matrix'!G18","v":4.4450998500059052E-3},{"$f":"'Corr. Matrix'!B$45*'Corr. Matrix'!B52*'Corr. Matrix'!H18","v":6.989327607674495E-3},{"$f":"'Corr. Matrix'!B$46*'Corr. Matrix'!B52*'Corr. Matrix'!I18","v":7.2672624726895802E-3},{"$f":"'Corr. Matrix'!B$47*'Corr. Matrix'!B52*'Corr. Matrix'!J18","v":1.8353076094257254E-3},{"$f":"'Corr. Matrix'!B$48*'Corr. Matrix'!B52*'Corr. Matrix'!K18","v":3.0391183020621118E-3},{"$f":"'Corr. Matrix'!B$49*'Corr. Matrix'!B52*'Corr. Matrix'!L18","v":4.1459786310792963E-3},{"$f":"'Corr. Matrix'!B$50*'Corr. Matrix'!B52*'Corr. Matrix'!M18","v":1.4037692844507624E-3},{"$f":"'Corr. Matrix'!B$51*'Corr. Matrix'!B52*'Corr. Matrix'!N18","v":5.2513119758363629E-3},{"$f":"'Corr. Matrix'!B$52*'Corr. Matrix'!B52*'Corr. Matrix'!O18","v":8.1919944417218702E-3},{"$f":"TRANSPOSE(N18:N34)","v":1.0114191138618322E-3},2.0373915807343915E-3,4.7067933627933005E-3,4.3278595087511366E-3,3.6867289857306536E-3,1.6359181239101179E-3,1.5001391923495189E-3,2.9711262467572333E-3,3.5546762797994502E-3,3.5045236640971825E-3,2.6028520809204909E-3,2.298105542060877E-3,2.3607150517670501E-3,1.2737236777857213E-3,2.1999902567886947E-3,2.0080055529012007E-3,1.8222150701028123E-3]
[{"$f":"'Corr. Matrix'!B19","v":"lly"},{"$f":"'Corr. Matrix'!B53*'Corr. Matrix'!B$40*'Corr. Matrix'!C19","v":-4.6603938347390396E-4},{"$f":"'Corr. Matrix'!B$41*'Corr. Matrix'!B53*'Corr. Matrix'!D19","v":-3.7474466638231772E-5},{"$f":"'Corr. Matrix'!B$42*'Corr. Matrix'!B53*'Corr. Matrix'!E19","v":-1.5688589582797618E-3},{"$f":"'Corr. Matrix'!B$43*'Corr. Matrix'!B53*'Corr. Matrix'!F19","v":-7.0938688975588963E-4},{"$f":"'Corr. Matrix'!B$44*'Corr. Matrix'!B53*'Corr. Matrix'!G19","v":2.2139079857747992E-3},{"$f":"'Corr. Matrix'!B$45*'Corr. Matrix'!B53*'Corr. Matrix'!H19","v":-1.6190698482898918E-3},{"$f":"'Corr. Matrix'!B$46*'Corr. Matrix'!B53*'Corr. Matrix'!I19","v":1.1414381106282974E-3},{"$f":"'Corr. Matrix'!B$47*'Corr. Matrix'!B53*'Corr. Matrix'!J19","v":-4.0333791310435873E-5},{"$f":"'Corr. Matrix'!B$48*'Corr. Matrix'!B53*'Corr. Matrix'!K19","v":1.8335163178103092E-3},{"$f":"'Corr. Matrix'!B$49*'Corr. Matrix'!B53*'Corr. Matrix'!L19","v":1.2865683796760272E-3},{"$f":"'Corr. Matrix'!B$50*'Corr. Matrix'!B53*'Corr. Matrix'!M19","v":2.8898521041243559E-3},{"$f":"'Corr. Matrix'!B$51*'Corr. Matrix'!B53*'Corr. Matrix'!N19","v":3.9402440500559322E-4},{"$f":"'Corr. Matrix'!B$52*'Corr. Matrix'!B53*'Corr. Matrix'!O19","v":1.0114191138618322E-3},{"$f":"'Corr. Matrix'!B$53*'Corr. Matrix'!B53*'Corr. Matrix'!P19","v":7.5290598128991901E-3},{"$f":"TRANSPOSE(O19:O34)","v":1.2746539605634486E-3},4.2589564366366032E-4,4.7007187197533359E-4,7.550901921610343E-4,9.6484867425376255E-4,1.0285586118880012E-3,1.0667974514294433E-3,9.1947471032761431E-4,3.6534316726699118E-4,9.180304547216449E-4,7.768454074574575E-4,2.4590724102722185E-4,2.3246938282294226E-3,5.1613182931303466E-4,9.8534502154935138E-4,5.5192114219152811E-4]
[{"$f":"'Corr. Matrix'!B20","v":"aapl"},{"$f":"'Corr. Matrix'!B54*'Corr. Matrix'!B$40*'Corr. Matrix'!C20","v":7.515623999521286E-3},{"$f":"'Corr. Matrix'!B$41*'Corr. Matrix'!B54*'Corr. Matrix'!D20","v":1.1419404992916988E-2},{"$f":"'Corr. Matrix'!B$42*'Corr. Matrix'!B54*'Corr. Matrix'!E20","v":3.3262244817094588E-3},{"$f":"'Corr. Matrix'!B$43*'Corr. Matrix'!B54*'Corr. Matrix'!F20","v":4.9226541158641892E-3},{"$f":"'Corr. Matrix'!B$44*'Corr. Matrix'!B54*'Corr. Matrix'!G20","v":6.0841648986504678E-3},{"$f":"'Corr. Matrix'!B$45*'Corr. Matrix'!B54*'Corr. Matrix'!H20","v":3.8203663859719475E-3},{"$f":"'Corr. Matrix'!B$46*'Corr. Matrix'!B54*'Corr. Matrix'!I20","v":5.0715737809762969E-3},{"$f":"'Corr. Matrix'!B$47*'Corr. Matrix'!B54*'Corr. Matrix'!J20","v":3.9199468245918676E-3},{"$f":"'Corr. Matrix'!B$48*'Corr. Matrix'!B54*'Corr. Matrix'!K20","v":4.1794664445545015E-3},{"$f":"'Corr. Matrix'!B$49*'Corr. Matrix'!B54*'Corr. Matrix'!L20","v":1.5840302697358809E-3},{"$f":"'Corr. Matrix'!B$50*'Corr. Matrix'!B54*'Corr. Matrix'!M20","v":4.6806428453969977E-3},{"$f":"'Corr. Matrix'!B$51*'Corr. Matrix'!B54*'Corr. Matrix'!N20","v":3.1059356186743637E-3},{"$f":"'Corr. Matrix'!B$52*'Corr. Matrix'!B54*'Corr. Matrix'!O20","v":2.0373915807343915E-3},{"$f":"'Corr. Matrix'!B$53*'Corr. Matrix'!B54*'Corr. Matrix'!P20","v":1.2746539605634486E-3},{"$f":"'Corr. Matrix'!B$54*'Corr. Matrix'!B54*'Corr. Matrix'!Q20","v":6.6694337986700301E-3},{"$f":"TRANSPOSE(P20:P34)","v":2.1176862353932471E-3},2.8974354357284115E-3,3.4816814103376726E-3,3.4762664675982977E-3,2.0922241362210294E-3,3.0766611759407421E-3,2.8530179278196135E-3,2.9915474216110766E-3,1.6765126958055373E-3,1.6545108719729998E-3,1.2845690668914257E-3,3.6155864257527625E-3,2.6233494983194669E-3,1.9249762802256442E-3,1.7824333532354367E-3]
[{"$f":"'Corr. Matrix'!B21","v":"jpm"},{"$f":"'Corr. Matrix'!B55*'Corr. Matrix'!B$40*'Corr. Matrix'!C21","v":1.232612281428919E-2},{"$f":"'Corr. Matrix'!B$41*'Corr. Matrix'!B55*'Corr. Matrix'!D21","v":3.5083953247666715E-3},{"$f":"'Corr. Matrix'!B$42*'Corr. Matrix'!B55*'Corr. Matrix'!E21","v":8.3524423180143421E-3},{"$f":"'Corr. Matrix'!B$43*'Corr. Matrix'!B55*'Corr. Matrix'!F21","v":6.9139129811984284E-3},{"$f":"'Corr. Matrix'!B$44*'Corr. Matrix'!B55*'Corr. Matrix'!G21","v":3.9670440813643695E-3},{"$f":"'Corr. Matrix'!B$45*'Corr. Matrix'!B55*'Corr. Matrix'!H21","v":6.8254497142247851E-3},{"$f":"'Corr. Matrix'!B$46*'Corr. Matrix'!B55*'Corr. Matrix'!I21","v":6.6220782911416828E-3},{"$f":"'Corr. Matrix'!B$47*'Corr. Matrix'!B55*'Corr. Matrix'!J21","v":2.6271920100212716E-3},{"$f":"'Corr. Matrix'!B$48*'Corr. Matrix'!B55*'Corr. Matrix'!K21","v":2.7201557074387193E-3},{"$f":"'Corr. Matrix'!B$49*'Corr. Matrix'!B55*'Corr. Matrix'!L21","v":4.649474914618406E-3},{"$f":"'Corr. Matrix'!B$50*'Corr. Matrix'!B55*'Corr. Matrix'!M21","v":2.5584031131666699E-3},{"$f":"'Corr. Matrix'!B$51*'Corr. Matrix'!B55*'Corr. Matrix'!N21","v":6.0930594190732592E-3},{"$f":"'Corr. Matrix'!B$52*'Corr. Matrix'!B55*'Corr. Matrix'!O21","v":4.7067933627933005E-3},{"$f":"'Corr. Matrix'!B$53*'Corr. Matrix'!B55*'Corr. Matrix'!P21","v":4.2589564366366032E-4},{"$f":"'Corr. Matrix'!B$54*'Corr. Matrix'!B55*'Corr. Matrix'!Q21","v":2.1176862353932471E-3},{"$f":"'Corr. Matrix'!B$55*'Corr. Matrix'!B55*'Corr. Matrix'!R21","v":6.3961105742199372E-3},{"$f":"TRANSPOSE(Q21:Q34)","v":3.5413158192163113E-3},3.5779946154891698E-3,2.5121323359882479E-3,1.3449896592730081E-3,3.7441485663980852E-3,3.8610887818980861E-3,3.0108537554998961E-3,2.6830019746557762E-3,5.7388829142861078E-4,2.3695719411447316E-3,1.5096042585910458E-3,2.1474733732974589E-3,1.0267950471814918E-3,2.0390230847876123E-3]
[{"$f":"'Corr. Matrix'!B22","v":"mmm"},{"$f":"'Corr. Matrix'!B56*'Corr. Matrix'!B$40*'Corr. Matrix'!C22","v":6.791027759059245E-3},{"$f":"'Corr. Matrix'!B$41*'Corr. Matrix'!B56*'Corr. Matrix'!D22","v":3.8633264623722649E-3},{"$f":"'Corr. Matrix'!B$42*'Corr. Matrix'!B56*'Corr. Matrix'!E22","v":4.1971118228763329E-3},{"$f":"'Corr. Matrix'!B$43*'Corr. Matrix'!B56*'Corr. Matrix'!F22","v":4.510070913391671E-3},{"$f":"'Corr. Matrix'!B$44*'Corr. Matrix'!B56*'Corr. Matrix'!G22","v":2.2411719011927126E-3},{"$f":"'Corr. Matrix'!B$45*'Corr. Matrix'!B56*'Corr. Matrix'!H22","v":5.6082955457558625E-3},{"$f":"'Corr. Matrix'!B$46*'Corr. Matrix'!B56*'Corr. Matrix'!I22","v":3.9320662858389624E-3},{"$f":"'Corr. Matrix'!B$47*'Corr. Matrix'!B56*'Corr. Matrix'!J22","v":1.5524729888737343E-3},{"$f":"'Corr. Matrix'!B$48*'Corr. Matrix'!B56*'Corr. Matrix'!K22","v":3.0884914044126029E-3},{"$f":"'Corr. Matrix'!B$49*'Corr. Matrix'!B56*'Corr. Matrix'!L22","v":3.0638997966956389E-3},{"$f":"'Corr. Matrix'!B$50*'Corr. Matrix'!B56*'Corr. Matrix'!M22","v":2.0344922191582221E-3},{"$f":"'Corr. Matrix'!B$51*'Corr. Matrix'!B56*'Corr. Matrix'!N22","v":4.1158992097217462E-3},{"$f":"'Corr. Matrix'!B$52*'Corr. Matrix'!B56*'Corr. Matrix'!O22","v":4.3278595087511366E-3},{"$f":"'Corr. Matrix'!B$53*'Corr. Matrix'!B56*'Corr. Matrix'!P22","v":4.7007187197533359E-4},{"$f":"'Corr. Matrix'!B$54*'Corr. Matrix'!B56*'Corr. Matrix'!Q22","v":2.8974354357284115E-3},{"$f":"'Corr. Matrix'!B$55*'Corr. Matrix'!B56*'Corr. Matrix'!R22","v":3.5413158192163113E-3},{"$f":"'Corr. Matrix'!B$56*'Corr. Matrix'!B56*'Corr. Matrix'!S22","v":6.199527778816518E-3},{"$f":"TRANSPOSE(R22:R34)","v":2.9591568677852405E-3},2.0144157473150118E-3,2.2817039635854765E-3,3.2506086762129249E-3,3.0805819619788536E-3,3.3383354077214183E-3,2.2178796912735686E-3,2.0889312422649607E-3,1.9610282976632392E-3,1.2908969242394234E-3,2.3807688143002237E-3,1.5812594833776446E-3,2.2197847698694705E-3]
[{"$f":"'Corr. Matrix'!B23","v":"ma"},{"$f":"'Corr. Matrix'!B57*'Corr. Matrix'!B$40*'Corr. Matrix'!C23","v":1.0976824179399856E-2},{"$f":"'Corr. Matrix'!B$41*'Corr. Matrix'!B57*'Corr. Matrix'!D23","v":5.3585548802794151E-3},{"$f":"'Corr. Matrix'!B$42*'Corr. Matrix'!B57*'Corr. Matrix'!E23","v":6.3776131346479845E-3},{"$f":"'Corr. Matrix'!B$43*'Corr. Matrix'!B57*'Corr. Matrix'!F23","v":5.9038617643681832E-3},{"$f":"'Corr. Matrix'!B$44*'Corr. Matrix'!B57*'Corr. Matrix'!G23","v":3.160376749595825E-3},{"$f":"'Corr. Matrix'!B$45*'Corr. Matrix'!B57*'Corr. Matrix'!H23","v":3.7548012122211112E-3},{"$f":"'Corr. Matrix'!B$46*'Corr. Matrix'!B57*'Corr. Matrix'!I23","v":4.5693884678640623E-3},{"$f":"'Corr. Matrix'!B$47*'Corr. Matrix'!B57*'Corr. Matrix'!J23","v":3.2089382170609158E-3},{"$f":"'Corr. Matrix'!B$48*'Corr. Matrix'!B57*'Corr. Matrix'!K23","v":3.3793997245804273E-3},{"$f":"'Corr. Matrix'!B$49*'Corr. Matrix'!B57*'Corr. Matrix'!L23","v":4.2859405024844172E-3},{"$f":"'Corr. Matrix'!B$50*'Corr. Matrix'!B57*'Corr. Matrix'!M23","v":3.7820029518934933E-3},{"$f":"'Corr. Matrix'!B$51*'Corr. Matrix'!B57*'Corr. Matrix'!N23","v":4.5754073810730187E-3},{"$f":"'Corr. Matrix'!B$52*'Corr. Matrix'!B57*'Corr. Matrix'!O23","v":3.6867289857306536E-3},{"$f":"'Corr. Matrix'!B$53*'Corr. Matrix'!B57*'Corr. Matrix'!P23","v":7.550901921610343E-4},{"$f":"'Corr. Matrix'!B$54*'Corr. Matrix'!B57*'Corr. Matrix'!Q23","v":3.4816814103376726E-3},{"$f":"'Corr. Matrix'!B$55*'Corr. Matrix'!B57*'Corr. Matrix'!R23","v":3.5779946154891698E-3},{"$f":"'Corr. Matrix'!B$56*'Corr. Matrix'!B57*'Corr. Matrix'!S23","v":2.9591568677852405E-3},{"$f":"'Corr. Matrix'!B$57*'Corr. Matrix'!B57*'Corr. Matrix'!T23","v":6.111175772578835E-3},{"$f":"TRANSPOSE(S23:S34)","v":2.18697844366969E-3},1.2851632590238134E-3,4.113469275984721E-3,2.9087705898474237E-3,3.2878716239366579E-3,3.329863565751834E-3,6.0146987087361908E-4,2.8646180596124332E-3,1.9879825554943577E-3,3.0671752833195086E-3,1.4897366549982926E-3,2.8571665852146783E-3]
[{"$f":"'Corr. Matrix'!B24","v":"googl"},{"$f":"'Corr. Matrix'!B58*'Corr. Matrix'!B$40*'Corr. Matrix'!C24","v":7.3808212965610536E-3},{"$f":"'Corr. Matrix'!B$41*'Corr. Matrix'!B58*'Corr. Matrix'!D24","v":7.2276878259423466E-3},{"$f":"'Corr. Matrix'!B$42*'Corr. Matrix'!B58*'Corr. Matrix'!E24","v":3.45476855726457E-3},{"$f":"'Corr. Matrix'!B$43*'Corr. Matrix'!B58*'Corr. Matrix'!F24","v":4.4809358406620566E-3},{"$f":"'Corr. Matrix'!B$44*'Corr. Matrix'!B58*'Corr. Matrix'!G24","v":6.2410217345518501E-3},{"$f":"'Corr. Matrix'!B$45*'Corr. Matrix'!B58*'Corr. Matrix'!H24","v":3.180622086658215E-3},{"$f":"'Corr. Matrix'!B$46*'Corr. Matrix'!B58*'Corr. Matrix'!I24","v":4.6454003825145713E-3},{"$f":"'Corr. Matrix'!B$47*'Corr. Matrix'!B58*'Corr. Matrix'!J24","v":4.1272272889238022E-3},{"$f":"'Corr. Matrix'!B$48*'Corr. Matrix'!B58*'Corr. Matrix'!K24","v":3.1051729893615183E-3},{"$f":"'Corr. Matrix'!B$49*'Corr. Matrix'!B58*'Corr. Matrix'!L24","v":1.7341295335545231E-3},{"$f":"'Corr. Matrix'!B$50*'Corr. Matrix'!B58*'Corr. Matrix'!M24","v":4.5361920518957504E-3},{"$f":"'Corr. Matrix'!B$51*'Corr. Matrix'!B58*'Corr. Matrix'!N24","v":3.0141245686176365E-3},{"$f":"'Corr. Matrix'!B$52*'Corr. Matrix'!B58*'Corr. Matrix'!O24","v":1.6359181239101179E-3},{"$f":"'Corr. Matrix'!B$53*'Corr. Matrix'!B58*'Corr. Matrix'!P24","v":9.6484867425376255E-4},{"$f":"'Corr. Matrix'!B$54*'Corr. Matrix'!B58*'Corr. Matrix'!Q24","v":3.4762664675982977E-3},{"$f":"'Corr. Matrix'!B$55*'Corr. Matrix'!B58*'Corr. Matrix'!R24","v":2.5121323359882479E-3},{"$f":"'Corr. Matrix'!B$56*'Corr. Matrix'!B58*'Corr. Matrix'!S24","v":2.0144157473150118E-3},{"$f":"'Corr. Matrix'!B$57*'Corr. Matrix'!B58*'Corr. Matrix'!T24","v":2.18697844366969E-3},{"$f":"'Corr. Matrix'!B$58*'Corr. Matrix'!B58*'Corr. Matrix'!U24","v":6.0734794497619973E-3},{"$f":"TRANSPOSE(T24:T34)","v":1.6229971357032424E-3},2.9145826065819138E-3,3.1686072320447215E-3,1.9578599976715293E-3,9.7597252184987611E-4,1.2018937809927905E-3,9.3318376170244035E-4,3.1907671925389897E-3,1.414113508019876E-3,7.9814939870364655E-4,1.3137197602505284E-3]
[{"$f":"'Corr. Matrix'!B25","v":"pfe"},{"$f":"'Corr. Matrix'!B59*'Corr. Matrix'!B$40*'Corr. Matrix'!C25","v":7.114384701439805E-4},{"$f":"'Corr. Matrix'!B$41*'Corr. Matrix'!B59*'Corr. Matrix'!D25","v":1.3948907398851048E-3},{"$f":"'Corr. Matrix'!B$42*'Corr. Matrix'!B59*'Corr. Matrix'!E25","v":-8.9915458449786438E-4},{"$f":"'Corr. Matrix'!B$43*'Corr. Matrix'!B59*'Corr. Matrix'!F25","v":9.371909358473694E-4},{"$f":"'Corr. Matrix'!B$44*'Corr. Matrix'!B59*'Corr. Matrix'!G25","v":2.309883317615816E-3},{"$f":"'Corr. Matrix'!B$45*'Corr. Matrix'!B59*'Corr. Matrix'!H25","v":2.1595180222501991E-3},{"$f":"'Corr. Matrix'!B$46*'Corr. Matrix'!B59*'Corr. Matrix'!I25","v":1.4725687368058451E-3},{"$f":"'Corr. Matrix'!B$47*'Corr. Matrix'!B59*'Corr. Matrix'!J25","v":1.7857372423030807E-3},{"$f":"'Corr. Matrix'!B$48*'Corr. Matrix'!B59*'Corr. Matrix'!K25","v":2.4734881278621092E-3},{"$f":"'Corr. Matrix'!B$49*'Corr. Matrix'!B59*'Corr. Matrix'!L25","v":8.2795550097478792E-4},{"$f":"'Corr. Matrix'!B$50*'Corr. Matrix'!B59*'Corr. Matrix'!M25","v":9.2124338031601672E-4},{"$f":"'Corr. Matrix'!B$51*'Corr. Matrix'!B59*'Corr. Matrix'!N25","v":2.0020110793215282E-3},{"$f":"'Corr. Matrix'!B$52*'Corr. Matrix'!B59*'Corr. Matrix'!O25","v":1.5001391923495189E-3},{"$f":"'Corr. Matrix'!B$53*'Corr. Matrix'!B59*'Corr. Matrix'!P25","v":1.0285586118880012E-3},{"$f":"'Corr. Matrix'!B$54*'Corr. Matrix'!B59*'Corr. Matrix'!Q25","v":2.0922241362210294E-3},{"$f":"'Corr. Matrix'!B$55*'Corr. Matrix'!B59*'Corr. Matrix'!R25","v":1.3449896592730081E-3},{"$f":"'Corr. Matrix'!B$56*'Corr. Matrix'!B59*'Corr. Matrix'!S25","v":2.2817039635854765E-3},{"$f":"'Corr. Matrix'!B$57*'Corr. Matrix'!B59*'Corr. Matrix'!T25","v":1.2851632590238134E-3},{"$f":"'Corr. Matrix'!B$58*'Corr. Matrix'!B59*'Corr. Matrix'!U25","v":1.6229971357032424E-3},{"$f":"'Corr. Matrix'!B$59*'Corr. Matrix'!B59*'Corr. Matrix'!V25","v":6.0352052287683741E-3},{"$f":"TRANSPOSE(U25:U34)","v":2.5767625629636503E-3},1.7927436183015435E-3,2.4674114274217426E-3,1.9973068525027627E-3,1.697431066666712E-3,1.0821194508366669E-3,1.1105300689739578E-3,1.4583561453307382E-3,1.0670438936546513E-3,1.3084099955309781E-3]
[{"$f":"'Corr. Matrix'!B26","v":"yum"},{"$f":"'Corr. Matrix'!B60*'Corr. Matrix'!B$40*'Corr. Matrix'!C26","v":9.4792985508855322E-3},{"$f":"'Corr. Matrix'!B$41*'Corr. Matrix'!B60*'Corr. Matrix'!D26","v":4.907580794725472E-3},{"$f":"'Corr. Matrix'!B$42*'Corr. Matrix'!B60*'Corr. Matrix'!E26","v":5.3119105636054769E-3},{"$f":"'Corr. Matrix'!B$43*'Corr. Matrix'!B60*'Corr. Matrix'!F26","v":4.9359666757577665E-3},{"$f":"'Corr. Matrix'!B$44*'Corr. Matrix'!B60*'Corr. Matrix'!G26","v":2.0468974240481579E-3},{"$f":"'Corr. Matrix'!B$45*'Corr. Matrix'!B60*'Corr. Matrix'!H26","v":5.8574597869031821E-3},{"$f":"'Corr. Matrix'!B$46*'Corr. Matrix'!B60*'Corr. Matrix'!I26","v":4.9062283015303852E-3},{"$f":"'Corr. Matrix'!B$47*'Corr. Matrix'!B60*'Corr. Matrix'!J26","v":3.2494250883415795E-3},{"$f":"'Corr. Matrix'!B$48*'Corr. Matrix'!B60*'Corr. Matrix'!K26","v":4.3367168929618364E-3},{"$f":"'Corr. Matrix'!B$49*'Corr. Matrix'!B60*'Corr. Matrix'!L26","v":3.6449287190209209E-3},{"$f":"'Corr. Matrix'!B$50*'Corr. Matrix'!B60*'Corr. Matrix'!M26","v":4.6825648286466194E-3},{"$f":"'Corr. Matrix'!B$51*'Corr. Matrix'!B60*'Corr. Matrix'!N26","v":4.8635624619779664E-3},{"$f":"'Corr. Matrix'!B$52*'Corr. Matrix'!B60*'Corr. Matrix'!O26","v":2.9711262467572333E-3},{"$f":"'Corr. Matrix'!B$53*'Corr. Matrix'!B60*'Corr. Matrix'!P26","v":1.0667974514294433E-3},{"$f":"'Corr. Matrix'!B$54*'Corr. Matrix'!B60*'Corr. Matrix'!Q26","v":3.0766611759407421E-3},{"$f":"'Corr. Matrix'!B$55*'Corr. Matrix'!B60*'Corr. Matrix'!R26","v":3.7441485663980852E-3},{"$f":"'Corr. Matrix'!B$56*'Corr. Matrix'!B60*'Corr. Matrix'!S26","v":3.2506086762129249E-3},{"$f":"'Corr. Matrix'!B$57*'Corr. Matrix'!B60*'Corr. Matrix'!T26","v":4.113469275984721E-3},{"$f":"'Corr. Matrix'!B$58*'Corr. Matrix'!B60*'Corr. Matrix'!U26","v":2.9145826065819138E-3},{"$f":"'Corr. Matrix'!B$59*'Corr. Matrix'!B60*'Corr. Matrix'!V26","v":2.5767625629636503E-3},{"$f":"'Corr. Matrix'!B$60*'Corr. Matrix'!B60*'Corr. Matrix'!W26","v":5.7079285143463712E-3},{"$f":"TRANSPOSE(V26:V34)","v":3.1022333087030087E-3},3.6838912663150316E-3,2.7797677281660798E-3,9.8539593997507154E-4,2.268755365601421E-3,2.1906405864622123E-3,3.3083301043829246E-3,1.3777032488342257E-3,3.0308443860887981E-3]
[{"$f":"'Corr. Matrix'!B27","v":"grmn"},{"$f":"'Corr. Matrix'!B61*'Corr. Matrix'!B$40*'Corr. Matrix'!C27","v":8.879805373741079E-3},{"$f":"'Corr. Matrix'!B$41*'Corr. Matrix'!B61*'Corr. Matrix'!D27","v":4.294147663225922E-3},{"$f":"'Corr. Matrix'!B$42*'Corr. Matrix'!B61*'Corr. Matrix'!E27","v":6.0786684171029812E-3},{"$f":"'Corr. Matrix'!B$43*'Corr. Matrix'!B61*'Corr. Matrix'!F27","v":5.706021354379448E-3},{"$f":"'Corr. Matrix'!B$44*'Corr. Matrix'!B61*'Corr. Matrix'!G27","v":4.614031781400723E-3},{"$f":"'Corr. Matrix'!B$45*'Corr. Matrix'!B61*'Corr. Matrix'!H27","v":4.5903633071401563E-3},{"$f":"'Corr. Matrix'!B$46*'Corr. Matrix'!B61*'Corr. Matrix'!I27","v":4.3441396631838363E-3},{"$f":"'Corr. Matrix'!B$47*'Corr. Matrix'!B61*'Corr. Matrix'!J27","v":4.377951920469002E-3},{"$f":"'Corr. Matrix'!B$48*'Corr. Matrix'!B61*'Corr. Matrix'!K27","v":2.3876444280331701E-3},{"$f":"'Corr. Matrix'!B$49*'Corr. Matrix'!B61*'Corr. Matrix'!L27","v":1.8431853479075164E-3},{"$f":"'Corr. Matrix'!B$50*'Corr. Matrix'!B61*'Corr. Matrix'!M27","v":3.2012580432755969E-3},{"$f":"'Corr. Matrix'!B$51*'Corr. Matrix'!B61*'Corr. Matrix'!N27","v":3.9936404280043504E-3},{"$f":"'Corr. Matrix'!B$52*'Corr. Matrix'!B61*'Corr. Matrix'!O27","v":3.5546762797994502E-3},{"$f":"'Corr. Matrix'!B$53*'Corr. Matrix'!B61*'Corr. Matrix'!P27","v":9.1947471032761431E-4},{"$f":"'Corr. Matrix'!B$54*'Corr. Matrix'!B61*'Corr. Matrix'!Q27","v":2.8530179278196135E-3},{"$f":"'Corr. Matrix'!B$55*'Corr. Matrix'!B61*'Corr. Matrix'!R27","v":3.8610887818980861E-3},{"$f":"'Corr. Matrix'!B$56*'Corr. Matrix'!B61*'Corr. Matrix'!S27","v":3.0805819619788536E-3},{"$f":"'Corr. Matrix'!B$57*'Corr. Matrix'!B61*'Corr. Matrix'!T27","v":2.9087705898474237E-3},{"$f":"'Corr. Matrix'!B$58*'Corr. Matrix'!B61*'Corr. Matrix'!U27","v":3.1686072320447215E-3},{"$f":"'Corr. Matrix'!B$59*'Corr. Matrix'!B61*'Corr. Matrix'!V27","v":1.7927436183015435E-3},{"$f":"'Corr. Matrix'!B$60*'Corr. Matrix'!B61*'Corr. Matrix'!W27","v":3.1022333087030087E-3},{"$f":"'Corr. Matrix'!B$61*'Corr. Matrix'!B61*'Corr. Matrix'!X27","v":5.6098881937452199E-3},{"$f":"TRANSPOSE(W27:W34)","v":2.4491095471093714E-3},2.1684186261865502E-3,1.3058882414963685E-3,2.1103026172594884E-3,2.0518936728053648E-3,1.6590101338173169E-3,1.4003290008203274E-3,1.5633042982678021E-3]
[{"$f":"'Corr. Matrix'!B28","v":"hd"},{"$f":"'Corr. Matrix'!B62*'Corr. Matrix'!B$40*'Corr. Matrix'!C28","v":6.6125064820833548E-3},{"$f":"'Corr. Matrix'!B$41*'Corr. Matrix'!B62*'Corr. Matrix'!D28","v":5.9676473248840506E-3},{"$f":"'Corr. Matrix'!B$42*'Corr. Matrix'!B62*'Corr. Matrix'!E28","v":3.8527266814501813E-3},{"$f":"'Corr. Matrix'!B$43*'Corr. Matrix'!B62*'Corr. Matrix'!F28","v":4.0931704614865401E-3},{"$f":"'Corr. Matrix'!B$44*'Corr. Matrix'!B62*'Corr. Matrix'!G28","v":4.0264438459972768E-3},{"$f":"'Corr. Matrix'!B$45*'Corr. Matrix'!B62*'Corr. Matrix'!H28","v":5.6152964593765503E-3},{"$f":"'Corr. Matrix'!B$46*'Corr. Matrix'!B62*'Corr. Matrix'!I28","v":5.3317702551015159E-3},{"$f":"'Corr. Matrix'!B$47*'Corr. Matrix'!B62*'Corr. Matrix'!J28","v":4.1503337565318025E-3},{"$f":"'Corr. Matrix'!B$48*'Corr. Matrix'!B62*'Corr. Matrix'!K28","v":4.7039221519777933E-3},{"$f":"'Corr. Matrix'!B$49*'Corr. Matrix'!B62*'Corr. Matrix'!L28","v":2.0275639497409912E-3},{"$f":"'Corr. Matrix'!B$50*'Corr. Matrix'!B62*'Corr. Matrix'!M28","v":3.1667010861288073E-3},{"$f":"'Corr. Matrix'!B$51*'Corr. Matrix'!B62*'Corr. Matrix'!N28","v":3.6944487496226057E-3},{"$f":"'Corr. Matrix'!B$52*'Corr. Matrix'!B62*'Corr. Matrix'!O28","v":3.5045236640971825E-3},{"$f":"'Corr. Matrix'!B$53*'Corr. Matrix'!B62*'Corr. Matrix'!P28","v":3.6534316726699118E-4},{"$f":"'Corr. Matrix'!B$54*'Corr. Matrix'!B62*'Corr. Matrix'!Q28","v":2.9915474216110766E-3},{"$f":"'Corr. Matrix'!B$55*'Corr. Matrix'!B62*'Corr. Matrix'!R28","v":3.0108537554998961E-3},{"$f":"'Corr. Matrix'!B$56*'Corr. Matrix'!B62*'Corr. Matrix'!S28","v":3.3383354077214183E-3},{"$f":"'Corr. Matrix'!B$57*'Corr. Matrix'!B62*'Corr. Matrix'!T28","v":3.2878716239366579E-3},{"$f":"'Corr. Matrix'!B$58*'Corr. Matrix'!B62*'Corr. Matrix'!U28","v":1.9578599976715293E-3},{"$f":"'Corr. Matrix'!B$59*'Corr. Matrix'!B62*'Corr. Matrix'!V28","v":2.4674114274217426E-3},{"$f":"'Corr. Matrix'!B$60*'Corr. Matrix'!B62*'Corr. Matrix'!W28","v":3.6838912663150316E-3},{"$f":"'Corr. Matrix'!B$61*'Corr. Matrix'!B62*'Corr. Matrix'!X28","v":2.4491095471093714E-3},{"$f":"'Corr. Matrix'!B$62*'Corr. Matrix'!B62*'Corr. Matrix'!Y28","v":5.5263934521470855E-3},{"$f":"TRANSPOSE(X28:X34)","v":2.7540194814049007E-3},1.3568614312271178E-3,1.8613670326629954E-3,2.3666879968636174E-3,2.7878085744391466E-3,1.6291285754530928E-3,1.8077815586060799E-3]
[{"$f":"'Corr. Matrix'!B29","v":"ibm"},{"$f":"'Corr. Matrix'!B63*'Corr. Matrix'!B$40*'Corr. Matrix'!C29","v":6.4966132033683153E-3},{"$f":"'Corr. Matrix'!B$41*'Corr. Matrix'!B63*'Corr. Matrix'!D29","v":1.7584620579417921E-3},{"$f":"'Corr. Matrix'!B$42*'Corr. Matrix'!B63*'Corr. Matrix'!E29","v":3.5891426568831985E-3},{"$f":"'Corr. Matrix'!B$43*'Corr. Matrix'!B63*'Corr. Matrix'!F29","v":4.0128735822270722E-3},{"$f":"'Corr. Matrix'!B$44*'Corr. Matrix'!B63*'Corr. Matrix'!G29","v":8.5948419383713155E-4},{"$f":"'Corr. Matrix'!B$45*'Corr. Matrix'!B63*'Corr. Matrix'!H29","v":3.4685688376939966E-3},{"$f":"'Corr. Matrix'!B$46*'Corr. Matrix'!B63*'Corr. Matrix'!I29","v":1.958962579609314E-3},{"$f":"'Corr. Matrix'!B$47*'Corr. Matrix'!B63*'Corr. Matrix'!J29","v":2.2766841975157123E-3},{"$f":"'Corr. Matrix'!B$48*'Corr. Matrix'!B63*'Corr. Matrix'!K29","v":2.4603735773020522E-3},{"$f":"'Corr. Matrix'!B$49*'Corr. Matrix'!B63*'Corr. Matrix'!L29","v":2.4414013256396673E-3},{"$f":"'Corr. Matrix'!B$50*'Corr. Matrix'!B63*'Corr. Matrix'!M29","v":1.5041077006128665E-3},{"$f":"'Corr. Matrix'!B$51*'Corr. Matrix'!B63*'Corr. Matrix'!N29","v":3.6017308268211359E-3},{"$f":"'Corr. Matrix'!B$52*'Corr. Matrix'!B63*'Corr. Matrix'!O29","v":2.6028520809204909E-3},{"$f":"'Corr. Matrix'!B$53*'Corr. Matrix'!B63*'Corr. Matrix'!P29","v":9.180304547216449E-4},{"$f":"'Corr. Matrix'!B$54*'Corr. Matrix'!B63*'Corr. Matrix'!Q29","v":1.6765126958055373E-3},{"$f":"'Corr. Matrix'!B$55*'Corr. Matrix'!B63*'Corr. Matrix'!R29","v":2.6830019746557762E-3},{"$f":"'Corr. Matrix'!B$56*'Corr. Matrix'!B63*'Corr. Matrix'!S29","v":2.2178796912735686E-3},{"$f":"'Corr. Matrix'!B$57*'Corr. Matrix'!B63*'Corr. Matrix'!T29","v":3.329863565751834E-3},{"$f":"'Corr. Matrix'!B$58*'Corr. Matrix'!B63*'Corr. Matrix'!U29","v":9.7597252184987611E-4},{"$f":"'Corr. Matrix'!B$59*'Corr. Matrix'!B63*'Corr. Matrix'!V29","v":1.9973068525027627E-3},{"$f":"'Corr. Matrix'!B$60*'Corr. Matrix'!B63*'Corr. Matrix'!W29","v":2.7797677281660798E-3},{"$f":"'Corr. Matrix'!B$61*'Corr. Matrix'!B63*'Corr. Matrix'!X29","v":2.1684186261865502E-3},{"$f":"'Corr. Matrix'!B$62*'Corr. Matrix'!B63*'Corr. Matrix'!Y29","v":2.7540194814049007E-3},{"$f":"'Corr. Matrix'!B$63*'Corr. Matrix'!B63*'Corr. Matrix'!Z29","v":4.7594818483509081E-3},{"$f":"TRANSPOSE(Y29:Y34)","v":1.2493373964874719E-3},3.1086985448890983E-3,1.2074760244403199E-3,2.4680145905381879E-3,1.1712789977122483E-3,2.2319334463325917E-3]
[{"$f":"'Corr. Matrix'!B30","v":"kr"},{"$f":"'Corr. Matrix'!B64*'Corr. Matrix'!B$40*'Corr. Matrix'!C30","v":1.0635615771281584E-3},{"$f":"'Corr. Matrix'!B$41*'Corr. Matrix'!B64*'Corr. Matrix'!D30","v":2.0921354158382681E-3},{"$f":"'Corr. Matrix'!B$42*'Corr. Matrix'!B64*'Corr. Matrix'!E30","v":8.0293094989915259E-4},{"$f":"'Corr. Matrix'!B$43*'Corr. Matrix'!B64*'Corr. Matrix'!F30","v":5.1495259418273009E-4},{"$f":"'Corr. Matrix'!B$44*'Corr. Matrix'!B64*'Corr. Matrix'!G30","v":2.7331035202997596E-3},{"$f":"'Corr. Matrix'!B$45*'Corr. Matrix'!B64*'Corr. Matrix'!H30","v":2.4267481182801203E-3},{"$f":"'Corr. Matrix'!B$46*'Corr. Matrix'!B64*'Corr. Matrix'!I30","v":1.2839421860463222E-3},{"$f":"'Corr. Matrix'!B$47*'Corr. Matrix'!B64*'Corr. Matrix'!J30","v":1.4920789592842904E-3},{"$f":"'Corr. Matrix'!B$48*'Corr. Matrix'!B64*'Corr. Matrix'!K30","v":1.9397901072968475E-3},{"$f":"'Corr. Matrix'!B$49*'Corr. Matrix'!B64*'Corr. Matrix'!L30","v":5.592081664487819E-4},{"$f":"'Corr. Matrix'!B$50*'Corr. Matrix'!B64*'Corr. Matrix'!M30","v":1.8815203541488147E-3},{"$f":"'Corr. Matrix'!B$51*'Corr. Matrix'!B64*'Corr. Matrix'!N30","v":1.0671936023058455E-3},{"$f":"'Corr. Matrix'!B$52*'Corr. Matrix'!B64*'Corr. Matrix'!O30","v":2.298105542060877E-3},{"$f":"'Corr. Matrix'!B$53*'Corr. Matrix'!B64*'Corr. Matrix'!P30","v":7.768454074574575E-4},{"$f":"'Corr. Matrix'!B$54*'Corr. Matrix'!B64*'Corr. Matrix'!Q30","v":1.6545108719729998E-3},{"$f":"'Corr. Matrix'!B$55*'Corr. Matrix'!B64*'Corr. Matrix'!R30","v":5.7388829142861078E-4},{"$f":"'Corr. Matrix'!B$56*'Corr. Matrix'!B64*'Corr. Matrix'!S30","v":2.0889312422649607E-3},{"$f":"'Corr. Matrix'!B$57*'Corr. Matrix'!B64*'Corr. Matrix'!T30","v":6.0146987087361908E-4},{"$f":"'Corr. Matrix'!B$58*'Corr. Matrix'!B64*'Corr. Matrix'!U30","v":1.2018937809927905E-3},{"$f":"'Corr. Matrix'!B$59*'Corr. Matrix'!B64*'Corr. Matrix'!V30","v":1.697431066666712E-3},{"$f":"'Corr. Matrix'!B$60*'Corr. Matrix'!B64*'Corr. Matrix'!W30","v":9.8539593997507154E-4},{"$f":"'Corr. Matrix'!B$61*'Corr. Matrix'!B64*'Corr. Matrix'!X30","v":1.3058882414963685E-3},{"$f":"'Corr. Matrix'!B$62*'Corr. Matrix'!B64*'Corr. Matrix'!Y30","v":1.3568614312271178E-3},{"$f":"'Corr. Matrix'!B$63*'Corr. Matrix'!B64*'Corr. Matrix'!Z30","v":1.2493373964874719E-3},{"$f":"'Corr. Matrix'!B$64*'Corr. Matrix'!B64*'Corr. Matrix'!AA30","v":4.4944254079911043E-3},{"$f":"TRANSPOSE(Z30:Z34)","v":7.7670745226075745E-4},1.3207367918954475E-3,7.2377239163193155E-4,1.6238003586883133E-3,4.8371682283403862E-4]
[{"$f":"'Corr. Matrix'!B31","v":"t"},{"$f":"'Corr. Matrix'!B65*'Corr. Matrix'!B$40*'Corr. Matrix'!C31","v":5.8536973329286531E-3},{"$f":"'Corr. Matrix'!B$41*'Corr. Matrix'!B65*'Corr. Matrix'!D31","v":4.6157422091828965E-4},{"$f":"'Corr. Matrix'!B$42*'Corr. Matrix'!B65*'Corr. Matrix'!E31","v":4.8237579420781817E-3},{"$f":"'Corr. Matrix'!B$43*'Corr. Matrix'!B65*'Corr. Matrix'!F31","v":3.4286060724127857E-3},{"$f":"'Corr. Matrix'!B$44*'Corr. Matrix'!B65*'Corr. Matrix'!G31","v":3.6813959367937727E-4},{"$f":"'Corr. Matrix'!B$45*'Corr. Matrix'!B65*'Corr. Matrix'!H31","v":3.0110705315137625E-3},{"$f":"'Corr. Matrix'!B$46*'Corr. Matrix'!B65*'Corr. Matrix'!I31","v":2.5226688541773478E-3},{"$f":"'Corr. Matrix'!B$47*'Corr. Matrix'!B65*'Corr. Matrix'!J31","v":1.2095351314587619E-3},{"$f":"'Corr. Matrix'!B$48*'Corr. Matrix'!B65*'Corr. Matrix'!K31","v":1.3849090660152652E-3},{"$f":"'Corr. Matrix'!B$49*'Corr. Matrix'!B65*'Corr. Matrix'!L31","v":3.2290020518202381E-3},{"$f":"'Corr. Matrix'!B$50*'Corr. Matrix'!B65*'Corr. Matrix'!M31","v":1.5452172493319184E-3},{"$f":"'Corr. Matrix'!B$51*'Corr. Matrix'!B65*'Corr. Matrix'!N31","v":3.1473630321003335E-3},{"$f":"'Corr. Matrix'!B$52*'Corr. Matrix'!B65*'Corr. Matrix'!O31","v":2.3607150517670501E-3},{"$f":"'Corr. Matrix'!B$53*'Corr. Matrix'!B65*'Corr. Matrix'!P31","v":2.4590724102722185E-4},{"$f":"'Corr. Matrix'!B$54*'Corr. Matrix'!B65*'Corr. Matrix'!Q31","v":1.2845690668914257E-3},{"$f":"'Corr. Matrix'!B$55*'Corr. Matrix'!B65*'Corr. Matrix'!R31","v":2.3695719411447316E-3},{"$f":"'Corr. Matrix'!B$56*'Corr. Matrix'!B65*'Corr. Matrix'!S31","v":1.9610282976632392E-3},{"$f":"'Corr. Matrix'!B$57*'Corr. Matrix'!B65*'Corr. Matrix'!T31","v":2.8646180596124332E-3},{"$f":"'Corr. Matrix'!B$58*'Corr. Matrix'!B65*'Corr. Matrix'!U31","v":9.3318376170244035E-4},{"$f":"'Corr. Matrix'!B$59*'Corr. Matrix'!B65*'Corr. Matrix'!V31","v":1.0821194508366669E-3},{"$f":"'Corr. Matrix'!B$60*'Corr. Matrix'!B65*'Corr. Matrix'!W31","v":2.268755365601421E-3},{"$f":"'Corr. Matrix'!B$61*'Corr. Matrix'!B65*'Corr. Matrix'!X31","v":2.1103026172594884E-3},{"$f":"'Corr. Matrix'!B$62*'Corr. Matrix'!B65*'Corr. Matrix'!Y31","v":1.8613670326629954E-3},{"$f":"'Corr. Matrix'!B$63*'Corr. Matrix'!B65*'Corr. Matrix'!Z31","v":3.1086985448890983E-3},{"$f":"'Corr. Matrix'!B$64*'Corr. Matrix'!B65*'Corr. Matrix'!AA31","v":7.7670745226075745E-4},{"$f":"'Corr. Matrix'!B$65*'Corr. Matrix'!B65*'Corr. Matrix'!AB31","v":4.4641479610970664E-3},{"$f":"TRANSPOSE(AA31:AA34)","v":7.3902533313212348E-4},1.9136736093221544E-3,6.8148872134208389E-4,1.6821741229783387E-3]
[{"$f":"'Corr. Matrix'!B32","v":"msft"},{"$f":"'Corr. Matrix'!B66*'Corr. Matrix'!B$40*'Corr. Matrix'!C32","v":4.0362008088646673E-3},{"$f":"'Corr. Matrix'!B$41*'Corr. Matrix'!B66*'Corr. Matrix'!D32","v":6.3725064722879214E-3},{"$f":"'Corr. Matrix'!B$42*'Corr. Matrix'!B66*'Corr. Matrix'!E32","v":1.174346119436292E-3},{"$f":"'Corr. Matrix'!B$43*'Corr. Matrix'!B66*'Corr. Matrix'!F32","v":3.1057863066570731E-3},{"$f":"'Corr. Matrix'!B$44*'Corr. Matrix'!B66*'Corr. Matrix'!G32","v":5.8352527783666732E-3},{"$f":"'Corr. Matrix'!B$45*'Corr. Matrix'!B66*'Corr. Matrix'!H32","v":1.7747948045773977E-3},{"$f":"'Corr. Matrix'!B$46*'Corr. Matrix'!B66*'Corr. Matrix'!I32","v":3.4235895382071922E-3},{"$f":"'Corr. Matrix'!B$47*'Corr. Matrix'!B66*'Corr. Matrix'!J32","v":4.1988640032874277E-3},{"$f":"'Corr. Matrix'!B$48*'Corr. Matrix'!B66*'Corr. Matrix'!K32","v":2.9843580150228769E-3},{"$f":"'Corr. Matrix'!B$49*'Corr. Matrix'!B66*'Corr. Matrix'!L32","v":8.3936393291124975E-4},{"$f":"'Corr. Matrix'!B$50*'Corr. Matrix'!B66*'Corr. Matrix'!M32","v":3.9478573489707975E-3},{"$f":"'Corr. Matrix'!B$51*'Corr. Matrix'!B66*'Corr. Matrix'!N32","v":1.7038141203111537E-3},{"$f":"'Corr. Matrix'!B$52*'Corr. Matrix'!B66*'Corr. Matrix'!O32","v":1.2737236777857213E-3},{"$f":"'Corr. Matrix'!B$53*'Corr. Matrix'!B66*'Corr. Matrix'!P32","v":2.3246938282294226E-3},{"$f":"'Corr. Matrix'!B$54*'Corr. Matrix'!B66*'Corr. Matrix'!Q32","v":3.6155864257527625E-3},{"$f":"'Corr. Matrix'!B$55*'Corr. Matrix'!B66*'Corr. Matrix'!R32","v":1.5096042585910458E-3},{"$f":"'Corr. Matrix'!B$56*'Corr. Matrix'!B66*'Corr. Matrix'!S32","v":1.2908969242394234E-3},{"$f":"'Corr. Matrix'!B$57*'Corr. Matrix'!B66*'Corr. Matrix'!T32","v":1.9879825554943577E-3},{"$f":"'Corr. Matrix'!B$58*'Corr. Matrix'!B66*'Corr. Matrix'!U32","v":3.1907671925389897E-3},{"$f":"'Corr. Matrix'!B$59*'Corr. Matrix'!B66*'Corr. Matrix'!V32","v":1.1105300689739578E-3},{"$f":"'Corr. Matrix'!B$60*'Corr. Matrix'!B66*'Corr. Matrix'!W32","v":2.1906405864622123E-3},{"$f":"'Corr. Matrix'!B$61*'Corr. Matrix'!B66*'Corr. Matrix'!X32","v":2.0518936728053648E-3},{"$f":"'Corr. Matrix'!B$62*'Corr. Matrix'!B66*'Corr. Matrix'!Y32","v":2.3666879968636174E-3},{"$f":"'Corr. Matrix'!B$63*'Corr. Matrix'!B66*'Corr. Matrix'!Z32","v":1.2074760244403199E-3},{"$f":"'Corr. Matrix'!B$64*'Corr. Matrix'!B66*'Corr. Matrix'!AA32","v":1.3207367918954475E-3},{"$f":"'Corr. Matrix'!B$65*'Corr. Matrix'!B66*'Corr. Matrix'!AB32","v":7.3902533313212348E-4},{"$f":"'Corr. Matrix'!B$66*'Corr. Matrix'!B66*'Corr. Matrix'!AC32","v":4.009588280050584E-3},{"$f":"TRANSPOSE(AB32:AB34)","v":1.482551539793869E-3},1.2726555079556907E-3,1.1569946222754932E-3]
[{"$f":"'Corr. Matrix'!B33","v":"mcd"},{"$f":"'Corr. Matrix'!B67*'Corr. Matrix'!B$40*'Corr. Matrix'!C33","v":6.2481978248179514E-3},{"$f":"'Corr. Matrix'!B$41*'Corr. Matrix'!B67*'Corr. Matrix'!D33","v":3.8819942660217126E-3},{"$f":"'Corr. Matrix'!B$42*'Corr. Matrix'!B67*'Corr. Matrix'!E33","v":3.4857242618279425E-3},{"$f":"'Corr. Matrix'!B$43*'Corr. Matrix'!B67*'Corr. Matrix'!F33","v":3.5620905221248186E-3},{"$f":"'Corr. Matrix'!B$44*'Corr. Matrix'!B67*'Corr. Matrix'!G33","v":1.243483492685094E-3},{"$f":"'Corr. Matrix'!B$45*'Corr. Matrix'!B67*'Corr. Matrix'!H33","v":3.4816268126543317E-3},{"$f":"'Corr. Matrix'!B$46*'Corr. Matrix'!B67*'Corr. Matrix'!I33","v":3.5705340460582794E-3},{"$f":"'Corr. Matrix'!B$47*'Corr. Matrix'!B67*'Corr. Matrix'!J33","v":1.6417768890236136E-3},{"$f":"'Corr. Matrix'!B$48*'Corr. Matrix'!B67*'Corr. Matrix'!K33","v":3.0665750118031346E-3},{"$f":"'Corr. Matrix'!B$49*'Corr. Matrix'!B67*'Corr. Matrix'!L33","v":2.1761788915275848E-3},{"$f":"'Corr. Matrix'!B$50*'Corr. Matrix'!B67*'Corr. Matrix'!M33","v":2.6881639971839191E-3},{"$f":"'Corr. Matrix'!B$51*'Corr. Matrix'!B67*'Corr. Matrix'!N33","v":2.9924331239463194E-3},{"$f":"'Corr. Matrix'!B$52*'Corr. Matrix'!B67*'Corr. Matrix'!O33","v":2.1999902567886947E-3},{"$f":"'Corr. Matrix'!B$53*'Corr. Matrix'!B67*'Corr. Matrix'!P33","v":5.1613182931303466E-4},{"$f":"'Corr. Matrix'!B$54*'Corr. Matrix'!B67*'Corr. Matrix'!Q33","v":2.6233494983194669E-3},{"$f":"'Corr. Matrix'!B$55*'Corr. Matrix'!B67*'Corr. Matrix'!R33","v":2.1474733732974589E-3},{"$f":"'Corr. Matrix'!B$56*'Corr. Matrix'!B67*'Corr. Matrix'!S33","v":2.3807688143002237E-3},{"$f":"'Corr. Matrix'!B$57*'Corr. Matrix'!B67*'Corr. Matrix'!T33","v":3.0671752833195086E-3},{"$f":"'Corr. Matrix'!B$58*'Corr. Matrix'!B67*'Corr. Matrix'!U33","v":1.414113508019876E-3},{"$f":"'Corr. Matrix'!B$59*'Corr. Matrix'!B67*'Corr. Matrix'!V33","v":1.4583561453307382E-3},{"$f":"'Corr. Matrix'!B$60*'Corr. Matrix'!B67*'Corr. Matrix'!W33","v":3.3083301043829246E-3},{"$f":"'Corr. Matrix'!B$61*'Corr. Matrix'!B67*'Corr. Matrix'!X33","v":1.6590101338173169E-3},{"$f":"'Corr. Matrix'!B$62*'Corr. Matrix'!B67*'Corr. Matrix'!Y33","v":2.7878085744391466E-3},{"$f":"'Corr. Matrix'!B$63*'Corr. Matrix'!B67*'Corr. Matrix'!Z33","v":2.4680145905381879E-3},{"$f":"'Corr. Matrix'!B$64*'Corr. Matrix'!B67*'Corr. Matrix'!AA33","v":7.2377239163193155E-4},{"$f":"'Corr. Matrix'!B$65*'Corr. Matrix'!B67*'Corr. Matrix'!AB33","v":1.9136736093221544E-3},{"$f":"'Corr. Matrix'!B$66*'Corr. Matrix'!B67*'Corr. Matrix'!AC33","v":1.482551539793869E-3},{"$f":"'Corr. Matrix'!B$67*'Corr. Matrix'!B67*'Corr. Matrix'!AD33","v":3.1210473994217453E-3},{"$f":"TRANSPOSE(AC33:AC34)","v":1.0510132814498137E-3},2.1788691579391162E-3]
[{"$f":"'Corr. Matrix'!B34","v":"wmt"},{"$f":"'Corr. Matrix'!B68*'Corr. Matrix'!B$40*'Corr. Matrix'!C34","v":3.7953973065056007E-3},{"$f":"'Corr. Matrix'!B$41*'Corr. Matrix'!B68*'Corr. Matrix'!D34","v":2.8632985796313726E-3},{"$f":"'Corr. Matrix'!B$42*'Corr. Matrix'!B68*'Corr. Matrix'!E34","v":1.7480426362293665E-3},{"$f":"'Corr. Matrix'!B$43*'Corr. Matrix'!B68*'Corr. Matrix'!F34","v":5.8146392652546339E-4},{"$f":"'Corr. Matrix'!B$44*'Corr. Matrix'!B68*'Corr. Matrix'!G34","v":2.3476723650878947E-3},{"$f":"'Corr. Matrix'!B$45*'Corr. Matrix'!B68*'Corr. Matrix'!H34","v":2.0156062851260596E-3},{"$f":"'Corr. Matrix'!B$46*'Corr. Matrix'!B68*'Corr. Matrix'!I34","v":1.9988054166785139E-3},{"$f":"'Corr. Matrix'!B$47*'Corr. Matrix'!B68*'Corr. Matrix'!J34","v":1.9056426052078388E-3},{"$f":"'Corr. Matrix'!B$48*'Corr. Matrix'!B68*'Corr. Matrix'!K34","v":1.3904783780418091E-3},{"$f":"'Corr. Matrix'!B$49*'Corr. Matrix'!B68*'Corr. Matrix'!L34","v":5.2332764067109644E-4},{"$f":"'Corr. Matrix'!B$50*'Corr. Matrix'!B68*'Corr. Matrix'!M34","v":1.8956920147772298E-3},{"$f":"'Corr. Matrix'!B$51*'Corr. Matrix'!B68*'Corr. Matrix'!N34","v":1.6963662568974163E-3},{"$f":"'Corr. Matrix'!B$52*'Corr. Matrix'!B68*'Corr. Matrix'!O34","v":2.0080055529012007E-3},{"$f":"'Corr. Matrix'!B$53*'Corr. Matrix'!B68*'Corr. Matrix'!P34","v":9.8534502154935138E-4},{"$f":"'Corr. Matrix'!B$54*'Corr. Matrix'!B68*'Corr. Matrix'!Q34","v":1.9249762802256442E-3},{"$f":"'Corr. Matrix'!B$55*'Corr. Matrix'!B68*'Corr. Matrix'!R34","v":1.0267950471814918E-3},{"$f":"'Corr. Matrix'!B$56*'Corr. Matrix'!B68*'Corr. Matrix'!S34","v":1.5812594833776446E-3},{"$f":"'Corr. Matrix'!B$57*'Corr. Matrix'!B68*'Corr. Matrix'!T34","v":1.4897366549982926E-3},{"$f":"'Corr. Matrix'!B$58*'Corr. Matrix'!B68*'Corr. Matrix'!U34","v":7.9814939870364655E-4},{"$f":"'Corr. Matrix'!B$59*'Corr. Matrix'!B68*'Corr. Matrix'!V34","v":1.0670438936546513E-3},{"$f":"'Corr. Matrix'!B$60*'Corr. Matrix'!B68*'Corr. Matrix'!W34","v":1.3777032488342257E-3},{"$f":"'Corr. Matrix'!B$61*'Corr. Matrix'!B68*'Corr. Matrix'!X34","v":1.4003290008203274E-3},{"$f":"'Corr. Matrix'!B$62*'Corr. Matrix'!B68*'Corr. Matrix'!Y34","v":1.6291285754530928E-3},{"$f":"'Corr. Matrix'!B$63*'Corr. Matrix'!B68*'Corr. Matrix'!Z34","v":1.1712789977122483E-3},{"$f":"'Corr. Matrix'!B$64*'Corr. Matrix'!B68*'Corr. Matrix'!AA34","v":1.6238003586883133E-3},{"$f":"'Corr. Matrix'!B$65*'Corr. Matrix'!B68*'Corr. Matrix'!AB34","v":6.8148872134208389E-4},{"$f":"'Corr. Matrix'!B$66*'Corr. Matrix'!B68*'Corr. Matrix'!AC34","v":1.2726555079556907E-3},{"$f":"'Corr. Matrix'!B$67*'Corr. Matrix'!B68*'Corr. Matrix'!AD34","v":1.0510132814498137E-3},{"$f":"'Corr. Matrix'!B$68*'Corr. Matrix'!B68*'Corr. Matrix'!AE34","v":3.1183634436117431E-3},{"$f":"AD34","v":1.0575893472011097E-3}]
[{"$f":"'Corr. Matrix'!B35","v":"ko"},{"$f":"'Corr. Matrix'!B69*'Corr. Matrix'!B$40*'Corr. Matrix'!C35","v":5.2631804061719E-3},{"$f":"'Corr. Matrix'!B$41*'Corr. Matrix'!B69*'Corr. Matrix'!D35","v":1.3658369807078023E-3},{"$f":"'Corr. Matrix'!B$42*'Corr. Matrix'!B69*'Corr. Matrix'!E35","v":2.6616730275287443E-3},{"$f":"'Corr. Matrix'!B$43*'Corr. Matrix'!B69*'Corr. Matrix'!F35","v":3.9072941988218769E-3},{"$f":"'Corr. Matrix'!B$44*'Corr. Matrix'!B69*'Corr. Matrix'!G35","v":3.2415268543679502E-4},{"$f":"'Corr. Matrix'!B$45*'Corr. Matrix'!B69*'Corr. Matrix'!H35","v":2.9255967349859969E-3},{"$f":"'Corr. Matrix'!B$46*'Corr. Matrix'!B69*'Corr. Matrix'!I35","v":2.2051913866157091E-3},{"$f":"'Corr. Matrix'!B$47*'Corr. Matrix'!B69*'Corr. Matrix'!J35","v":1.4186216030024771E-3},{"$f":"'Corr. Matrix'!B$48*'Corr. Matrix'!B69*'Corr. Matrix'!K35","v":1.4397823120564372E-3},{"$f":"'Corr. Matrix'!B$49*'Corr. Matrix'!B69*'Corr. Matrix'!L35","v":2.2432957336390577E-3},{"$f":"'Corr. Matrix'!B$50*'Corr. Matrix'!B69*'Corr. Matrix'!M35","v":1.8262049552660708E-3},{"$f":"'Corr. Matrix'!B$51*'Corr. Matrix'!B69*'Corr. Matrix'!N35","v":2.8969942765848912E-3},{"$f":"'Corr. Matrix'!B$52*'Corr. Matrix'!B69*'Corr. Matrix'!O35","v":1.8222150701028123E-3},{"$f":"'Corr. Matrix'!B$53*'Corr. Matrix'!B69*'Corr. Matrix'!P35","v":5.5192114219152811E-4},{"$f":"'Corr. Matrix'!B$54*'Corr. Matrix'!B69*'Corr. Matrix'!Q35","v":1.7824333532354367E-3},{"$f":"'Corr. Matrix'!B$55*'Corr. Matrix'!B69*'Corr. Matrix'!R35","v":2.0390230847876123E-3},{"$f":"'Corr. Matrix'!B$56*'Corr. Matrix'!B69*'Corr. Matrix'!S35","v":2.2197847698694705E-3},{"$f":"'Corr. Matrix'!B$57*'Corr. Matrix'!B69*'Corr. Matrix'!T35","v":2.8571665852146783E-3},{"$f":"'Corr. Matrix'!B$58*'Corr. Matrix'!B69*'Corr. Matrix'!U35","v":1.3137197602505284E-3},{"$f":"'Corr. Matrix'!B$59*'Corr. Matrix'!B69*'Corr. Matrix'!V35","v":1.3084099955309781E-3},{"$f":"'Corr. Matrix'!B$60*'Corr. Matrix'!B69*'Corr. Matrix'!W35","v":3.0308443860887981E-3},{"$f":"'Corr. Matrix'!B$61*'Corr. Matrix'!B69*'Corr. Matrix'!X35","v":1.5633042982678021E-3},{"$f":"'Corr. Matrix'!B$62*'Corr. Matrix'!B69*'Corr. Matrix'!Y35","v":1.8077815586060799E-3},{"$f":"'Corr. Matrix'!B$63*'Corr. Matrix'!B69*'Corr. Matrix'!Z35","v":2.2319334463325917E-3},{"$f":"'Corr. Matrix'!B$64*'Corr. Matrix'!B69*'Corr. Matrix'!AA35","v":4.8371682283403862E-4},{"$f":"'Corr. Matrix'!B$65*'Corr. Matrix'!B69*'Corr. Matrix'!AB35","v":1.6821741229783387E-3},{"$f":"'Corr. Matrix'!B$66*'Corr. Matrix'!B69*'Corr. Matrix'!AC35","v":1.1569946222754932E-3},{"$f":"'Corr. Matrix'!B$67*'Corr. Matrix'!B69*'Corr. Matrix'!AD35","v":2.1788691579391162E-3},{"$f":"'Corr. Matrix'!B$68*'Corr. Matrix'!B69*'Corr. Matrix'!AE35","v":1.0575893472011097E-3},{"$f":"'Corr. Matrix'!B69*'Corr. Matrix'!B69*'Corr. Matrix'!AF35","v":3.1068638889254967E-3}]
[]
["Portfolio Standard Deviation"]
["N","1/N","(1/N)^2","Sum","Variance","Stand Dev"]
[1,{"$f":"1/A38","v":1},{"$f":"B38^2","v":1},{"$f":"SUM(B5)","v":4.3708011866271546E-2},{"$f":"C38*D38","v":4.3708011866271546E-2},{"$f":"SQRT(E38)","v":0.20906461170239105}]
[2,0.5,0.25,{"$f":"SUM(B5:C6)","v":0.11747304828158578},2.9368262070396445E-2,{"$f":"SQRT(E39)","v":0.17137170732182266}]
[3,0.33333333333333331,0.1111111111111111,{"$f":"SUM(B5:D7)","v":0.21553942620344543},2.394882513371616E-2,0.15475407953820203]
[4,0.25,6.25E-2,{"$f":"SUM(B5:E8)","v":0.31628054037981868},1.9767533773738667E-2,0.14059706175357531]
[5,0.2,4.0000000000000008E-2,{"$f":"SUM(B5:F9)","v":0.40088061080525},1.6035224432210005E-2,0.12663026665142108]
[6,0.16666666666666666,2.7777777777777776E-2,{"$f":"SUM(B5:G10)","v":0.51872537065836133},1.440903807384337E-2,0.12003765273381252]
[7,0.14285714285714285,2.0408163265306121E-2,{"$f":"SUM(B5:H11)","v":0.66756283616317269},1.362373135026883E-2,0.1167207408744]
[8,0.125,1.5625E-2,{"$f":"SUM(B5:I12)","v":0.75736056624009518},1.1833758847501487E-2,0.10878308162348356]
[9,0.1111111111111111,1.2345679012345678E-2,{"$f":"SUM(B5:J13)","v":0.8469940885628493},1.0456717142751225E-2,0.10225809084249141]
[10,0.1,1.0000000000000002E-2,{"$f":"SUM(B5:K14)","v":0.94015898121849417},9.4015898121849427E-3,9.696179563201654E-2]
[11,9.0909090909090912E-2,8.2644628099173556E-3,{"$f":"SUM(B5:L15)","v":1.0542313206404363},8.7126555424829454E-3,9.3341606706135852E-2]
[12,8.3333333333333329E-2,6.9444444444444441E-3,{"$f":"SUM(B5:M16)","v":1.209236266657985},8.3974740740137849E-3,9.163773280703634E-2]
[13,7.6923076923076927E-2,5.9171597633136102E-3,{"$f":"SUM(B5:N17)","v":1.3373560635361708},7.91334948837971E-3,8.8957009214449823E-2]
[14,7.1428571428571425E-2,5.1020408163265302E-3,{"$f":"SUM(B5:O18)","v":1.3575442495073364},6.9262461709557977E-3,8.3224072064251919E-2]
[15,6.6666666666666666E-2,4.4444444444444444E-3,{"$f":"SUM(B5:P19)","v":1.4900978437057311},6.6226570831365824E-3,8.1379709283927668E-2]
[16,6.25E-2,3.90625E-3,{"$f":"SUM(B5:Q20)","v":1.6453221661422879},6.427039711493312E-3,8.0168820070481969E-2]
[17,5.8823529411764705E-2,3.4602076124567475E-3,{"$f":"SUM(B5:R21)","v":1.7639917118111443},6.1037775495195309E-3,7.8126676298941142E-2]
[18,5.5555555555555552E-2,3.0864197530864196E-3,{"$f":"SUM(B5:S22)","v":1.9176904100576686},5.9187975619063842E-3,7.6933721877382122E-2]
[19,5.2631578947368418E-2,2.7700831024930744E-3,{"$f":"SUM(B5:T23)","v":2.0556012174059157},5.6941861978003199E-3,7.5459831684150477E-2]
[20,0.05,2.5000000000000005E-3,{"$f":"SUM(B5:U24)","v":2.1161415164884287},5.2903537912210733E-3,7.2734818286849898E-2]
[21,4.7619047619047616E-2,2.2675736961451243E-3,{"$f":"SUM(B5:V25)","v":2.285722838304121},5.1830449848166002E-3,7.1993367644642106E-2]
[22,4.5454545454545456E-2,2.0661157024793389E-3,{"$f":"SUM(B5:W26)","v":2.450436830775037},5.0628860139980102E-3,7.1153959931953267E-2]
[23,4.3478260869565216E-2,1.8903591682419658E-3,{"$f":"SUM(B5:X27)","v":2.6165617811932491},4.9462415523501869E-3,7.0329521200916664E-2]
[24,4.1666666666666664E-2,1.736111111111111E-3,{"$f":"SUM(B5:Y28)","v":2.7383853238669813},4.7541411872690648E-3,6.895028054525279E-2]
[25,0.04,1.6000000000000001E-3,{"$f":"SUM(B5:Z29)","v":2.8101751985430994},4.4962803176689589E-3,6.7054308718149935E-2]
[26,3.8461538461538464E-2,1.4792899408284025E-3,{"$f":"SUM(B5:AA30)","v":2.923065516427704},4.3240614148338822E-3,6.5757595871761332E-2]
[27,3.7037037037037035E-2,1.3717421124828531E-3,{"$f":"SUM(B5:AB31)","v":3.0582290638799656},4.1951015965431626E-3,6.47696039554293E-2]
[28,3.5714285714285712E-2,1.2755102040816326E-3,{"$f":"SUM(B5:AC32)","v":3.1977287088639654},4.0787355980407723E-3,6.3864979433495256E-2]
[29,3.4482758620689655E-2,1.1890606420927466E-3,{"$f":"SUM(B5:AD33)","v":3.2885480771800331},3.910283088204557E-3,6.2532256381843093E-2]
[30,3.3333333333333333E-2,1.1111111111111111E-3,{"$f":"SUM(B5:AE34)","v":3.4067863527180089},3.7853181696866764E-3,6.1524939412295858E-2]

{"sheet":"Graph","index":5,"n_rows":32,"n_cols":19,"rows_kept":32,"cut":false,"hidden":false,"merged":[[1,13,1,14]]}
[null,null,null,null,null,null,null,null,null,null,null,null,null,null,null,"Stock",null,"Average","Portfolio"]
[null,null,null,null,null,null,null,null,null,null,null,null,null,"Stocks",null,"Stand Dev","Ave Corr","Stand Dev","Stand Dev"]
[null,null,null,null,null,null,null,null,null,null,null,null,null,1,{"$f":"'Var-Cov Matrix'!A5","v":"rcl"},{"$f":"'Corr. Matrix'!B40","v":0.20906461170239107},{"$f":"(AVERAGE('Corr. Matrix'!C6:AF6)-(1/30))*(30/29)","v":0.45030217892382851},{"$f":"AVERAGE($P$3:P3)","v":0.20906461170239107},{"$f":"'Var-Cov Matrix'!F38","v":0.20906461170239105}]
[null,null,null,null,null,null,null,null,null,null,null,null,null,2,{"$f":"'Var-Cov Matrix'!A6","v":"tsla"},{"$f":"'Corr. Matrix'!B41","v":0.20135967037901595},{"$f":"(AVERAGE('Corr. Matrix'!C7:AF7)-(1/30))*(30/29)","v":0.2872907484733902},{"$f":"AVERAGE($P$3:P4)","v":0.20521214104070351},{"$f":"'Var-Cov Matrix'!F39","v":0.17137170732182266}]
[null,null,null,null,null,null,null,null,null,null,null,null,null,3,{"$f":"'Var-Cov Matrix'!A7","v":"ual"},{"$f":"'Corr. Matrix'!B42","v":0.15836761512795969},{"$f":"(AVERAGE('Corr. Matrix'!C8:AF8)-(1/30))*(30/29)","v":0.35223930984118978},{"$f":"AVERAGE($P$3:P5)","v":0.18959729906978892},{"$f":"'Var-Cov Matrix'!F40","v":0.15475407953820203}]
[null,null,null,null,null,null,null,null,null,null,null,null,null,4,{"$f":"'Var-Cov Matrix'!A8","v":"ba"},{"$f":"'Corr. Matrix'!B43","v":0.1440637758628594},{"$f":"(AVERAGE('Corr. Matrix'!C9:AF9)-(1/30))*(30/29)","v":0.36743769130513104},{"$f":"AVERAGE($P$3:P6)","v":0.17821391826805655},{"$f":"'Var-Cov Matrix'!F41","v":0.14059706175357531}]
[null,null,null,null,null,null,null,null,null,null,null,null,null,5,{"$f":"'Var-Cov Matrix'!A9","v":"nvda"},{"$f":"'Corr. Matrix'!B44","v":0.13994437340495425},{"$f":"(AVERAGE('Corr. Matrix'!C10:AF10)-(1/30))*(30/29)","v":0.297409475768875},{"$f":"AVERAGE($P$3:P7)","v":0.17056000929543608},{"$f":"'Var-Cov Matrix'!F42","v":0.12663026665142108}]
[null,null,null,null,null,null,null,null,null,null,null,null,null,6,{"$f":"'Var-Cov Matrix'!A10","v":"hog"},{"$f":"'Corr. Matrix'!B45","v":0.13876950035595559},{"$f":"(AVERAGE('Corr. Matrix'!C11:AF11)-(1/30))*(30/29)","v":0.38437811009664385},{"$f":"AVERAGE($P$3:P8)","v":0.165261591138856},{"$f":"'Var-Cov Matrix'!F43","v":0.12003765273381252}]
[null,null,null,null,null,null,null,null,null,null,null,null,null,7,{"$f":"'Var-Cov Matrix'!A11","v":"f"},{"$f":"'Corr. Matrix'!B46","v":0.13379442521846763},{"$f":"(AVERAGE('Corr. Matrix'!C12:AF12)-(1/30))*(30/29)","v":0.40967341729662998},{"$f":"AVERAGE($P$3:P9)","v":0.16076628172165769},{"$f":"'Var-Cov Matrix'!F44","v":0.1167207408744}]
[null,null,null,null,null,null,null,null,null,null,null,null,null,8,{"$f":"'Var-Cov Matrix'!A12","v":"meta"},{"$f":"'Corr. Matrix'!B47","v":0.12218072111324599},{"$f":"(AVERAGE('Corr. Matrix'!C13:AF13)-(1/30))*(30/29)","v":0.27524056871699421},{"$f":"AVERAGE($P$3:P10)","v":0.15594308664560622},{"$f":"'Var-Cov Matrix'!F45","v":0.10878308162348356}]
[null,null,null,null,null,null,null,null,null,null,null,null,null,9,{"$f":"'Var-Cov Matrix'!A13","v":"pzza"},{"$f":"'Corr. Matrix'!B48","v":0.10716517764702532},{"$f":"(AVERAGE('Corr. Matrix'!C14:AF14)-(1/30))*(30/29)","v":0.34193153308397017},{"$f":"AVERAGE($P$3:P11)","v":0.15052331897909721},{"$f":"'Var-Cov Matrix'!F46","v":0.10225809084249141}]
[null,null,null,null,null,null,null,null,null,null,null,null,null,10,{"$f":"'Var-Cov Matrix'!A14","v":"xom"},{"$f":"'Corr. Matrix'!B49","v":9.7405101993056561E-2},{"$f":"(AVERAGE('Corr. Matrix'!C15:AF15)-(1/30))*(30/29)","v":0.32717603748209606},{"$f":"AVERAGE($P$3:P12)","v":0.14521149728049315},{"$f":"'Var-Cov Matrix'!F47","v":9.696179563201654E-2}]
[null,null,null,null,null,null,null,null,null,null,null,null,null,11,{"$f":"'Var-Cov Matrix'!A15","v":"cmg"},{"$f":"'Corr. Matrix'!B50","v":9.5141880020765221E-2},{"$f":"(AVERAGE('Corr. Matrix'!C16:AF16)-(1/30))*(30/29)","v":0.38925886028149864},{"$f":"AVERAGE($P$3:P13)","v":0.14065971389324516},{"$f":"'Var-Cov Matrix'!F48","v":9.3341606706135852E-2}]
[null,null,null,null,null,null,null,null,null,null,null,null,null,12,{"$f":"'Var-Cov Matrix'!A16","v":"pru"},{"$f":"'Corr. Matrix'!B51","v":9.1465109088268048E-2},{"$f":"(AVERAGE('Corr. Matrix'!C17:AF17)-(1/30))*(30/29)","v":0.49349752276424269},{"$f":"AVERAGE($P$3:P14)","v":0.13656016349283043},{"$f":"'Var-Cov Matrix'!F49","v":9.163773280703634E-2}]
[null,null,null,null,null,null,null,null,null,null,null,null,null,13,{"$f":"'Var-Cov Matrix'!A17","v":"cat"},{"$f":"'Corr. Matrix'!B52","v":9.0509637286434144E-2},{"$f":"(AVERAGE('Corr. Matrix'!C18:AF18)-(1/30))*(30/29)","v":0.39907217313529608},{"$f":"AVERAGE($P$3:P15)","v":0.13301781532310764},{"$f":"'Var-Cov Matrix'!F50","v":8.8957009214449823E-2}]
[null,null,null,null,null,null,null,null,null,null,null,null,null,14,{"$f":"'Var-Cov Matrix'!A18","v":"lly"},{"$f":"'Corr. Matrix'!B53","v":8.677015508168226E-2},{"$f":"(AVERAGE('Corr. Matrix'!C19:AF19)-(1/30))*(30/29)","v":0.10604698926381909},{"$f":"AVERAGE($P$3:P16)","v":0.12971441102014866},{"$f":"'Var-Cov Matrix'!F51","v":8.3224072064251919E-2}]
[null,null,null,null,null,null,null,null,null,null,null,null,null,15,{"$f":"'Var-Cov Matrix'!A19","v":"aapl"},{"$f":"'Corr. Matrix'!B54","v":8.1666601488429955E-2},{"$f":"(AVERAGE('Corr. Matrix'!C20:AF20)-(1/30))*(30/29)","v":0.42289991719324804},{"$f":"AVERAGE($P$3:P17)","v":0.12651122371803408},{"$f":"'Var-Cov Matrix'!F52","v":8.1379709283927668E-2}]
[null,null,null,null,null,null,null,null,null,null,null,null,null,16,{"$f":"'Var-Cov Matrix'!A20","v":"jpm"},{"$f":"'Corr. Matrix'!B55","v":7.9975687394482187E-2},{"$f":"(AVERAGE('Corr. Matrix'!C21:AF21)-(1/30))*(30/29)","v":0.45581861930806611},{"$f":"AVERAGE($P$3:P18)","v":0.1236027526978121},{"$f":"'Var-Cov Matrix'!F53","v":8.0168820070481969E-2}]
[null,null,null,null,null,null,null,null,null,null,null,null,null,17,{"$f":"'Var-Cov Matrix'!A21","v":"mmm"},{"$f":"'Corr. Matrix'!B56","v":7.87370800755052E-2},{"$f":"(AVERAGE('Corr. Matrix'!C22:AF22)-(1/30))*(30/29)","v":0.40010420512381961},{"$f":"AVERAGE($P$3:P19)","v":0.12096359548473522},{"$f":"'Var-Cov Matrix'!F54","v":7.8126676298941142E-2}]
[null,null,null,null,null,null,null,null,null,null,null,null,null,18,{"$f":"'Var-Cov Matrix'!A22","v":"ma"},{"$f":"'Corr. Matrix'!B57","v":7.8174009572100328E-2},{"$f":"(AVERAGE('Corr. Matrix'!C23:AF23)-(1/30))*(30/29)","v":0.46606333690849505},{"$f":"AVERAGE($P$3:P20)","v":0.11858639626736661},{"$f":"'Var-Cov Matrix'!F55","v":7.6933721877382122E-2}]
[null,null,null,null,null,null,null,null,null,null,null,null,null,19,{"$f":"'Var-Cov Matrix'!A23","v":"googl"},{"$f":"'Corr. Matrix'!B58","v":7.7932531395829799E-2},{"$f":"(AVERAGE('Corr. Matrix'!C24:AF24)-(1/30))*(30/29)","v":0.36813162368167163},{"$f":"AVERAGE($P$3:P21)","v":0.11644671916886466},{"$f":"'Var-Cov Matrix'!F56","v":7.5459831684150477E-2}]
[null,null,null,null,null,null,null,null,null,null,null,null,null,20,{"$f":"'Var-Cov Matrix'!A24","v":"pfe"},{"$f":"'Corr. Matrix'!B59","v":7.7686583325361755E-2},{"$f":"(AVERAGE('Corr. Matrix'!C25:AF25)-(1/30))*(30/29)","v":0.22949524633504609},{"$f":"AVERAGE($P$3:P22)","v":0.11450871237668951},{"$f":"'Var-Cov Matrix'!F57","v":7.2734818286849898E-2}]
[null,null,null,null,null,null,null,null,null,null,null,null,null,21,{"$f":"'Var-Cov Matrix'!A25","v":"yum"},{"$f":"'Corr. Matrix'!B60","v":7.5550833975187665E-2},{"$f":"(AVERAGE('Corr. Matrix'!C26:AF26)-(1/30))*(30/29)","v":0.49510486095786349},{"$f":"AVERAGE($P$3:P23)","v":0.11265357530995133},{"$f":"'Var-Cov Matrix'!F58","v":7.1993367644642106E-2}]
[null,null,null,null,null,null,null,null,null,null,null,null,null,22,{"$f":"'Var-Cov Matrix'!A26","v":"grmn"},{"$f":"'Corr. Matrix'!B61","v":7.4899186869719886E-2},{"$f":"(AVERAGE('Corr. Matrix'!C27:AF27)-(1/30))*(30/29)","v":0.43255002316153224},{"$f":"AVERAGE($P$3:P24)","v":0.11093746674448628},{"$f":"'Var-Cov Matrix'!F59","v":7.1153959931953267E-2}]
[null,null,null,null,null,null,null,null,null,null,null,null,null,23,{"$f":"'Var-Cov Matrix'!A27","v":"hd"},{"$f":"'Corr. Matrix'!B62","v":7.4339716519146656E-2},{"$f":"(AVERAGE('Corr. Matrix'!C28:AF28)-(1/30))*(30/29)","v":0.45103174574517113},{"$f":"AVERAGE($P$3:P25)","v":0.10934626021294978},{"$f":"'Var-Cov Matrix'!F60","v":7.0329521200916664E-2}]
[null,null,null,null,null,null,null,null,null,null,null,null,null,24,{"$f":"'Var-Cov Matrix'!A28","v":"ibm"},{"$f":"'Corr. Matrix'!B63","v":6.8988998023966894E-2},{"$f":"(AVERAGE('Corr. Matrix'!C29:AF29)-(1/30))*(30/29)","v":0.37616025117258095},{"$f":"AVERAGE($P$3:P26)","v":0.10766470762174217},{"$f":"'Var-Cov Matrix'!F61","v":6.895028054525279E-2}]
[null,null,null,null,null,null,null,null,null,null,null,null,null,25,{"$f":"'Var-Cov Matrix'!A29","v":"kr"},{"$f":"'Corr. Matrix'!B64","v":6.7040475893232615E-2},{"$f":"(AVERAGE('Corr. Matrix'!C30:AF30)-(1/30))*(30/29)","v":0.21682356632863045},{"$f":"AVERAGE($P$3:P27)","v":0.10603973835260179},{"$f":"'Var-Cov Matrix'!F62","v":6.7054308718149935E-2}]
[null,null,null,null,null,null,null,null,null,null,null,null,null,26,{"$f":"'Var-Cov Matrix'!A30","v":"t"},{"$f":"'Corr. Matrix'!B65","v":6.6814279619682088E-2},{"$f":"(AVERAGE('Corr. Matrix'!C31:AF31)-(1/30))*(30/29)","v":0.32219287903932753},{"$f":"AVERAGE($P$3:P28)","v":0.10453106686287411},{"$f":"'Var-Cov Matrix'!F63","v":6.5757595871761332E-2}]
[null,null,null,null,null,null,null,null,null,null,null,null,null,27,{"$f":"'Var-Cov Matrix'!A31","v":"msft"},{"$f":"'Corr. Matrix'!B66","v":6.3321309841557955E-2},{"$f":"(AVERAGE('Corr. Matrix'!C32:AF32)-(1/30))*(30/29)","v":0.38043917963914881},{"$f":"AVERAGE($P$3:P29)","v":0.10300477956578832},{"$f":"'Var-Cov Matrix'!F64","v":6.47696039554293E-2}]
[null,null,null,null,null,null,null,null,null,null,null,null,null,28,{"$f":"'Var-Cov Matrix'!A32","v":"mcd"},{"$f":"'Corr. Matrix'!B67","v":5.5866335117150341E-2},{"$f":"(AVERAGE('Corr. Matrix'!C33:AF33)-(1/30))*(30/29)","v":0.45522691691785044},{"$f":"AVERAGE($P$3:P30)","v":0.10132126369262269},{"$f":"'Var-Cov Matrix'!F65","v":6.3864979433495256E-2}]
[null,null,null,null,null,null,null,null,null,null,null,null,null,29,{"$f":"'Var-Cov Matrix'!A33","v":"wmt"},{"$f":"'Corr. Matrix'!B68","v":5.5842308723867633E-2},{"$f":"(AVERAGE('Corr. Matrix'!C34:AF34)-(1/30))*(30/29)","v":0.2885601174065357},{"$f":"AVERAGE($P$3:P31)","v":9.9753023866113885E-2},{"$f":"'Var-Cov Matrix'!F66","v":6.2532256381843093E-2}]
[null,null,null,null,null,null,null,null,null,null,null,null,null,30,{"$f":"'Var-Cov Matrix'!A34","v":"ko"},{"$f":"'Corr. Matrix'!B69","v":5.573924908828156E-2},{"$f":"(AVERAGE('Corr. Matrix'!C35:AF35)-(1/30))*(30/29)","v":0.37937117582505325},{"$f":"AVERAGE($P$3:P32)","v":9.8285898040186143E-2},{"$f":"'Var-Cov Matrix'!F67","v":6.1524939412295858E-2}]