{"text_format":"1","workbook":"xlsx","n_sheets":6,"sheets":["Inputs","price data","Returns & Stand Dev","Corr. Matrix","Var-Cov Matrix","Graph"],"not_rendered":{"charts":1,"images":4,"macros":1,"external_links":0,"defined_names":1542,"comments":0,"pivot_tables":0},"unopened":[],"bounds":{"document_bytes":16777216,"sheet_cells":100000,"rows_first":2000,"rows_last":500,"rows_between":2000,"halvings":0,"cell_chars":16384,"cell_head_chars":4096},"cells_cut":0,"cells_raw":0,"read":"row_number_cap","date_system":"1900"}

{"sheet":"Inputs","index":0,"n_rows":1048576,"n_cols":23,"rows_kept":4500,"cut":true,"hidden":false,"merged":[],"bounds":{"rows_first":2000,"rows_last":500,"rows_between":2000,"halvings":0},"read":"row_number_cap"}
["Am I Diversified? An Exercise for Finance Students",null,null,null,null,null,null,null,null,null,null,null,null,null,null,null,null,null,null,null,null,null,"http://ichart.finance.yahoo.com/table.csv?s=^GSPC&a=11&b=15&c=2017&d=12&e=12&f=2022&g=m&ignore=.csv"]
["Developed by Bill Reese and Russ Robins"]
[]
["Today's date",{"$f":"TODAY()","v":"2023-01-07"},"Place the ticker symbols for the 30 stocks you select in the cells C15-C44 and click the \"Download\" cell. This spreadsheet will do the rest."]
["Start date  ",{"$f":"DATE(YEAR(endDate)-5, MONTH(endDate), 15)","v":"2017-12-15"},"The adjusted closing prices for those 30 stocks and for the S&P 500 will be downloaded from Yahoo! Finance for the most recent 61 months."]
["End date  ",{"$f":"DATE(YEAR(B4), MONTH(B4)-1, 15)","v":"2022-12-15"},"The program will calculate the standard deviations of the monthly returns, build a correlation matrix, and a variance/covariance matrix."]
[null,null,"The standard deviations for 30 different equally-weighted portfolios will be calculated and graphed against the number of stocks in each portfolio."]
[null,null,"The solid black line on the graph is the standard deviation of the S&P 500."]
[]
[]
[]
[]
[]
[null,null,"Ticker Symbol"]
[null,1,"TSLA"]
[null,2,"GM"]
[null,3,"BA"]
[null,4,"CAT"]
[null,5,"CSCO"]
[null,6,"CVX"]
[null,7,"DIS"]
[null,8,"F"]
[null,9,"GE"]
[null,10,"GOOGL"]
[null,11,"HD"]
[null,12,"IBM"]
[null,13,"INTC"]
[null,14,"JNJ"]
[null,15,"JPM"]
[null,16,"KO"]
[null,17,"KR"]
[null,18,"MCD"]
[null,19,"MMM"]
[null,20,"MSFT"]
[null,21,"NFLX"]
[null,22,"PFE"]
[null,23,"PG"]
[null,24,"AAPL"]
[null,25,"PRU"]
[null,26,"TFC"]
[null,27,"VZ"]
[null,28,"WMT"]
[null,29,"XOM"]
[null,30,"AMZN"]
[]
[]
[]
[]
[]
[]
[]
[]
[]
[]
[]
[]
[]
[]
[]
[]
[]
[]
[]
[]
[]
[]
[]
[]
[]
[]
[]
[]
[]
[]
[]
[]
[]
[]
[]
[]
[]
[]
[]
[]
[]
[]
[]
[]
[]
[]
[]
[]
[]
[]
[]
[]
[]
[]
[]
[]
[]
[]
[]
[]
[]
[]
[]
[]
[]
[]
[]
[]
[]
[]
[]
[]
[]
[]
[]
[]
[]
[]
[]
[]
[]
[]
[]
[]
[]
[]
[]
[]
[]
[]
[]
[]
[]
[]
[]
[]
[]
[]
[]
[]
[]
[]
[]
[]
[]
[]
[]
[]
[]
[]
[]
[]
[]
[]
[]
[]
[]
[]
[]
[]
[]
[]
[]
[]
[]
[]
[]
[]
[]
[]
[]
[]
[]
[]
[]
[]
[]
[]
[]
[]
[]
[]
[]
[]
[]
[]
[]
[]
[]
[]
[]
[]
[]
[]
[]
[]
[]
[]
[]
[]
[]
[]
[]
[]
[]
[]
[]
[]
[]
[]
[]
[]
[]
[]
[]
[]
[]
[]
[]
[]
[]
[]
[]
[]
[]
[]
[]
[]
[]
[]
[]
[]
[]
[]
[]
[]
[]
[]
[]
[]
[]
[]
[]
[]
[]
[]
[]
[]
[]
[]
[]
[]
[]
[]
[]
[]
[]
[]
[]
[]
[]
[]
[]
[]
[]
[]
[]
[]
[]
[]
[]
[]
[]
[]
[]
[]
[]
[]
[]
[]
[]
[]
[]
[]
[]
[]
[]
[]
[]
[]
[]
[]
[]
[]
[]
[]
[]
[]
[]
[]
[]
[]
[]
[]
[]
[]
[]
[]
[]
[]
[]
[]
[]
[]
[]
[]
[]
[]
[]
[]
[]
[]
[]
[]
[]
[]
[]
[]
[]
[]
[]
[]
[]
[]
[]
[]
[]
[]
[]
[]
[]
[]
[]
[]
[]
[]
[]
[]
[]
[]
[]
[]
[]
[]
[]
[]
[]
[]
[]
[]
[]
[]
[]
[]
[]
[]
[]
[]
[]
[]
[]
[]
[]
[]
[]
[]
[]
[]
[]
[]
[]
[]
[]
[]
[]
[]
[]
[]
[]
[]
[]
[]
[]
[]
[]
[]
[]
[]
[]
[]
[]
[]
[]
[]
[]
[]
[]
[]
[]
[]
[]
[]
[]
[]
[]
[]
[]
[]
[]
[]
[]
[]
[]
[]
[]
[]
[]
[]
[]
[]
[]
[]
[]
[]
[]
[]
[]
[]
[]
[]
[]
[]
[]
[]
[]
[]
[]
[]
[]
[]
[]
[]
[]
[]
[]
[]
[]
[]
[]
[]
[]
[]
[]
[]
[]
[]
[]
[]
[]
[]
[]
[]
[]
[]
[]
[]
[]
[]
[]
[]
[]
[]
[]
[]
[]
[]
[]
[]
[]
[]
[]
[]
[]
[]
[]
[]
[]
[]
[]
[]
[]
[]
[]
[]
[]
[]
[]
[]
[]
[]
[]
[]
[]
[]
[]
[]
[]
[]
[]
[]
[]
[]
[]
[]
[]
[]
[]
[]
[]
[]
[]
[]
[]
[]
[]
[]
[]
[]
[]
[]
[]
[]
[]
[]
[]
[]
[]
[]
[]
[]
[]
[]
[]
[]
[]
[]
[]
[]
[]
[]
[]
[]
[]
[]
[]
[]
[]
[]
[]
[]
[]
[]
[]
[]
[]
[]
[]
[]
[]
[]
[]
[]
[]
[]
[]
[]
[]
[]
[]
[]
[]
[]
[]
[]
[]
[]
[]
[]
[]
[]
[]
[]
[]
[]
[]
[]
[]
[]
[]
[]
[]
[]
[]
[]
[]
[]
[]
[]
[]
[]
[]
[]
[]
[]
[]
[]
[]
[]
[]
[]
[]
[]
[]
[]
[]
[]
[]
[]
[]
[]
[]
[]
[]
[]
[]
[]
[]
[]
[]
[]
[]
[]
[]
[]
[]
[]
[]
[]
[]
[]
[]
[]
[]
[]
[]
[]
[]
[]
[]
[]
[]
[]
[]
[]
[]
[]
[]
[]
[]
[]
[]
[]
[]
[]
[]
[]
[]
[]
[]
[]
[]
[]
[]
[]
[]
[]
[]
[]
[]
[]
[]
[]
[]
[]
[]
[]
[]
[]
[]
[]
[]
[]
[]
[]
[]
[]
[]
[]
[]
[]
[]
[]
[]
[]
[]
[]
[]
[]
[]
[]
[]
[]
[]
[]
[]
[]
[]
[]
[]
[]
[]
[]
[]
[]
[]
[]
[]
[]
[]
[]
[]
[]
[]
[]
[]
[]
[]
[]
[]
[]
[]
[]
[]
[]
[]
[]
[]
[]
[]
[]
[]
[]
[]
[]
[]
[]
[]
[]
[]
[]
[]
[]
[]
[]
[]
[]
[]
[]
[]
[]
[]
[]
[]
[]
[]
[]
[]
[]
[]
[]
[]
[]
[]
[]
[]
[]
[]
[]
[]
[]
[]
[]
[]
[]
[]
[]
[]
[]
[]
[]
[]
[]
[]
[]
[]
[]
[]
[]
[]
[]
[]
[]
[]
[]
[]
[]
[]
[]
[]
[]
[]
[]
[]
[]
[]
[]
[]
[]
[]
[]
[]
[]
[]
[]
[]
[]
[]
[]
[]
[]
[]
[]
[]
[]
[]
[]
[]
[]
[]
[]
[]
[]
[]
[]
[]
[]
[]
[]
[]
[]
[]
[]
[]
[]
[]
[]
[]
[]
[]
[]
[]
[]
[]
[]
[]
[]
[]
[]
[]
[]
[]
[]
[]
[]
[]
[]
[]
[]
[]
[]
[]
[]
[]
[]
[]
[]
[]
[]
[]
[]
[]
[]
[]
[]
[]
[]
[]
[]
[]
[]
[]
[]
[]
[]
[]
[]
[]
[]
[]
[]
[]
[]
[]
[]
[]
[]
[]
[]
[]
[]
[]
[]
[]
[]
[]
[]
[]
[]
[]
[]
[]
[]
[]
[]
[]
[]
[]
[]
[]
[]
[]
[]
[]
[]
[]
[]
[]
[]
[]
[]
[]
[]
[]
[]
[]
[]
[]
[]
[]
[]
[]
[]
[]
[]
[]
[]
[]
[]
[]
[]
[]
[]
[]
[]
[]
[]
[]
[]
[]
[]
[]
[]
[]
[]
[]
[]
[]
[]
[]
[]
[]
[]
[]
[]
[]
[]
[]
[]
[]
[]
[]
[]
[]
[]
[]
[]
[]
[]
[]
[]
[]
[]
[]
[]
[]
[]
[]
[]
[]
[]
[]
[]
[]
[]
[]
[]
[]
[]
[]
[]
[]
[]
[]
[]
[]
[]
[]
[]
[]
[]
[]
[]
[]
[]
[]
[]
[]
[]
[]
[]
[]
[]
[]
[]
[]
[]
[]
[]
[]
[]
[]
[]
[]
[]
[]
[]
[]
[]
[]
[]
[]
[]
[]
[]
[]
[]
[]
[]
[]
[]
[]
[]
[]
[]
[]
[]
[]
[]
[]
[]
[]
[]
[]
[]
[]
[]
[]
[]
[]
[]
[]
[]
[]
[]
[]
[]
[]
[]
[]
[]
[]
[]
[]
[]
[]
[]
[]
[]
[]
[]
[]
[]
[]
[]
[]
[]
[]
[]
[]
[]
[]
[]
[]
[]
[]
[]
[]
[]
[]
[]
[]
[]
[]
[]
[]
[]
[]
[]
[]
[]
[]
[]
[]
[]
[]
[]
[]
[]
[]
[]
[]
[]
[]
[]
[]
[]
[]
[]
[]
[]
[]
[]
[]
[]
[]
[]
[]
[]
[]
[]
[]
[]
[]
[]
[]
[]
[]
[]
[]
[]
[]
[]
[]
[]
[]
[]
[]
[]
[]
[]
[]
[]
[]
[]
[]
[]
[]
[]
[]
[]
[]
[]
[]
[]
[]
[]
[]
[]
[]
[]
[]
[]
[]
[]
[]
[]
[]
[]
[]
[]
[]
[]
[]
[]
[]
[]
[]
[]
[]
[]
[]
[]
[]
[]
[]
[]
[]
[]
[]
[]
[]
[]
[]
[]
[]
[]
[]
[]
[]
[]
[]
[]
[]
[]
[]
[]
[]
[]
[]
[]
[]
[]
[]
[]
[]
[]
[]
[]
[]
[]
[]
[]
[]
[]
[]
[]
[]
[]
[]
[]
[]
[]
[]
[]
[]
[]
[]
[]
[]
[]
[]
[]
[]
[]
[]
[]
[]
[]
[]
[]
[]
[]
[]
[]
[]
[]
[]
[]
[]
[]
[]
[]
[]
[]
[]
[]
[]
[]
[]
[]
[]
[]
[]
[]
[]
[]
[]
[]
[]
[]
[]
[]
[]
[]
[]
[]
[]
[]
[]
[]
[]
[]
[]
[]
[]
[]
[]
[]
[]
[]
[]
[]
[]
[]
[]
[]
[]
[]
[]
[]
[]
[]
[]
[]
[]
[]
[]
[]
[]
[]
[]
[]
[]
[]
[]
[]
[]
[]
[]
[]
[]
[]
[]
[]
[]
[]
[]
[]
[]
[]
[]
[]
[]
[]
[]
[]
[]
[]
[]
[]
[]
[]
[]
[]
[]
[]
[]
[]
[]
[]
[]
[]
[]
[]
[]
[]
[]
[]
[]
[]
[]
[]
[]
[]
[]
[]
[]
[]
[]
[]
[]
[]
[]
[]
[]
[]
[]
[]
[]
[]
[]
[]
[]
[]
[]
[]
[]
[]
[]
[]
[]
[]
[]
[]
[]
[]
[]
[]
[]
[]
[]
[]
[]
[]
[]
[]
[]
[]
[]
[]
[]
[]
[]
[]
[]
[]
[]
[]
[]
[]
[]
[]
[]
[]
[]
[]
[]
[]
[]
[]
[]
[]
[]
[]
[]
[]
[]
[]
[]
[]
[]
[]
[]
[]
[]
[]
[]
[]
[]
[]
[]
[]
[]
[]
[]
[]
[]
[]
[]
[]
[]
[]
[]
[]
[]
[]
[]
[]
[]
[]
[]
[]
[]
[]
[]
[]
[]
[]
[]
[]
[]
[]
[]
[]
[]
[]
[]
[]
[]
[]
[]
[]
[]
[]
[]
[]
[]
[]
[]
[]
[]
[]
[]
[]
[]
[]
[]
[]
[]
[]
[]
[]
[]
[]
[]
[]
[]
[]
[]
[]
[]
[]
[]
[]
[]
[]
[]
[]
[]
[]
[]
[]
[]
[]
[]
[]
[]
[]
[]
[]
[]
[]
[]
[]
[]
[]
[]
[]
[]
[]
[]
[]
[]
[]
[]
[]
[]
[]
[]
[]
[]
[]
[]
[]
[]
[]
[]
[]
[]
[]
[]
[]
[]
[]
[]
[]
[]
[]
[]
[]
[]
[]
[]
[]
[]
[]
[]
[]
[]
[]
[]
[]
[]
[]
[]
[]
[]
[]
[]
[]
[]
[]
[]
[]
[]
[]
[]
[]
[]
[]
[]
[]
[]
[]
[]
[]
[]
[]
[]
[]
[]
[]
[]
[]
[]
[]
[]
[]
[]
[]
[]
[]
[]
[]
[]
[]
[]
[]
[]
[]
[]
[]
[]
[]
[]
[]
[]
[]
[]
[]
[]
[]
[]
[]
[]
[]
[]
[]
[]
[]
[]
[]
[]
[]
[]
[]
[]
[]
[]
[]
[]
[]
[]
[]
[]
[]
[]
[]
[]
[]
[]
[]
[]
[]
[]
[]
[]
[]
[]
[]
[]
[]
[]
[]
[]
[]
[]
[]
[]
[]
[]
[]
[]
[]
[]
[]
[]
[]
[]
[]
[]
[]
[]
[]
[]
[]
[]
[]
[]
[]
[]
[]
[]
[]
[]
[]
[]
[]
[]
[]
[]
[]
[]
[]
[]
[]
[]
[]
[]
[]
[]
[]
[]
[]
[]
[]
[]
[]
[]
[]
[]
[]
[]
[]
[]
[]
[]
[]
[]
[]
[]
[]
[]
[]
[]
[]
[]
[]
[]
[]
[]
[]
[]
[]
[]
[]
[]
[]
[]
[]
[]
[]
[]
[]
[]
[]
[]
[]
[]
[]
[]
[]
[]
[]
[]
[]
[]
[]
[]
[]
[]
[]
[]
[]
[]
[]
[]
[]
[]
[]
[]
[]
[]
[]
[]
[]
[]
[]
[]
[]
[]
[]
[]
[]
[]
[]
[]
[]
[]
[]
[]
[]
[]
[]
[]
[]
[]
[]
[]
[]
[]
[]
[]
[]
[]
[]
[]
[]
[]
[]
[]
[]
[]
[]
[]
[]
[]
[]
[]
[]
[]
[]
[]
[]
[]
[]
[]
[]
[]
[]
[]
[]
[]
[]
[]
[]
[]
[]
[]
[]
[]
[]
[]
[]
[]
[]
[]
[]
[]
[]
[]
[]
[]
[]
[]
[]
[]
[]
[]
[]
[]
[]
[]
[]
[]
[]
[]
[]
[]
[]
[]
[]
[]
[]
[]
[]
[]
[]
[]
[]
[]
[]
[]
[]
[]
[]
[]
[]
[]
[]
[]
[]
[]
[]
[]
[]
[]
[]
[]
[]
[]
[]
[]
[]
[]
[]
[]
[]
[]
[]
[]
[]
[]
[]
[]
[]
[]
[]
[]
[]
[]
[]
[]
[]
[]
[]
[]
[]
[]
[]
[]
[]
[]
[]
[]
[]
[]
[]
[]
[]
[]
[]
[]
[]
[]
[]
[]
[]
[]
[]
[]
[]
[]
[]
[]
[]
[]
[]
[]
[]
[]
[]
[]
[]
[]
[]
[]
[]
[]
[]
[]
[]
[]
[]
[]
[]
[]
[]
[]
[]
[]
[]
[]
[]
[]
[]
[]
[]
[]
[]
[]
[]
[]
[]
[]
[]
[]
[]
[]
[]
[]
[]
[]
[]
[]
[]
[]
[]
[]
[]
[]
[]
[]
[]
[]
[]
[]
[]
[]
[]
[]
[]
[]
[]
[]
[]
[]
[]
[]
[]
[]
[]
[]
[]
[]
[]
[]
[]
[]
[]
[]
[]
[]
[]
[]
[]
[]
[]
[]
[]
[]
[]
[]
[]
[]
[]
[]
[]
[]
[]
[]
[]
[]
[]
[]
[]
[]
[]
[]
[]
[]
[]
[]
[]
[]
[]
[]
[]
[]
[]
[]
[]
[]
[]
[]
[]
[]
[]
[]
[]
[]
[]
[]
[]
[]
[]
[]
[]
[]
[]
[]
[]
[]
[]
[]
[]
[]
[]
[]
[]
[]
[]
[]
[]
[]
[]
[]
[]
[]
[]
[]
[]
[]
[]
[]
[]
[]
[]
[]
[]
[]
[]
[]
[]
[]
[]
[]
[]
[]
[]
[]
[]
[]
[]
[]
[]
[]
[]
[]
[]
[]
[]
[]
[]
[]
[]
[]
[]
[]
[]
[]
[]
[]
[]
[]
[]
[]
[]
[]
[]
[]
[]
[]
[]
[]
[]
[]
[]
[]
[]
[]
[]
[]
[]
[]
[]
[]
[]
[]
[]
[]
[]
[]
[]
[]
[]
[]
[]
[]
[]
[]
[]
[]
[]
[]
[]
[]
[]
[]
[]
[]
[]
[]
[]
[]
[]
[]
[]
[]
[]
[]
[]
[]
[]
[]
[]
[]
[]
[]
[]
[]
[]
[]
[]
[]
[]
[]
[]
[]
[]
[]
[]
[]
[]
[]
[]
[]
[]
[]
[]
[]
[]
[]
[]
[]
[]
[]
[]
[]
[]
[]
[]
[]
[]
[]
[]
[]
[]
[]
[]
[]
[]
[]
[]
[]
[]
[]
[]
[]
[]
[]
[]
[]
[]
[]
[]
[]
[]
[]
[]
[]
[]
[]
[]
[]
[]
[]
[]
[]
[]
[]
[]
[]
[]
[]
[]
[]
[]
[]
[]
[]
[]
[]
[]
[]
[]
[]
[]
[]
[]
[]
[]
[]
[]
[]
[]
[]
[]
[]
[]
[]
[]
[]
[]
[]
[]
[]
[]
[]
[]
[]
[]
[]
[]
[]
[]
[]
[]
[]
[]
[]
[]
[]
[]
[]
[]
[]
[]
[]
[]
[]
[]
[]
[]
[]
[]
[]
[]
[]
[]
[]
[]
[]
[]
[]
[]
[]
[]
[]
[]
[]
[]
[]
[]
[]
[]
[]
[]
[]
[]
[]
[]
[]
[]
[]
[]
[]
[]
[]
[]
[]
[]
[]
[]
[]
[]
[]
[]
[]
[]
[]
[]
[]
[]
[]
[]
[]
[]
[]
[]
[]
[]
[]
[]
[]
[]
[]
[]
[]
[]
[]
[]
[]
[]
[]
[]
[]
[]
[]
[]
[]
[]
[]
[]
[]
[]
[]
[]
[]
[]
[]
[]
[]
[]
[]
[]
[]
[]
[]
[]
[]
[]
[]
[]
[]
[]
[]
[]
[]
[]
[]
[]
[]
[]
[]
[]
[]
[]
[]
[]
[]
[]
[]
[]
[]
[]
[]
[]
[]
[]
[]
[]
[]
[]
[]
[]
[]
[]
[]
[]
[]
[]
[]
[]
[]
[]
[]
[]
[]
[]
[]
[]
[]
[]
[]
[]
[]
[]
[]
[]
[]
[]
[]
[]
[]
[]
[]
[]
[]
[]
[]
[]
[]
[]
[]
[]
[]
[]
[]
[]
[]
[]
[]
[]
[]
[]
[]
[]
[]
[]
[]
[]
[]
[]
[]
[]
[]
[]
[]
[]
[]
[]
[]
[]
[]
[]
[]
[]
[]
[]
[]
[]
[]
[]
[]
[]
[]
[]
[]
[]
[]
[]
[]
[]
[]
[]
[]
[]
[]
[]
[]
[]
[]
[]
[]
[]
[]
[]
[]
[]
[]
[]
[]
[]
[]
[]
[]
[]
[]
[]
[]
[]
[]
[]
[]
[]
[]
[]
[]
[]
[]
[]
[]
[]
[]
[]
[]
[]
[]
[]
[]
[]
[]
[]
[]
[]
[]
[]
[]
[]
[]
[]
[]
[]
[]
[]
[]
[]
[]
[]
[]
[]
[]
[]
[]
[]
[]
[]
[]
[]
[]
[]
[]
[]
[]
[]
[]
[]
[]
[]
[]
[]
[]
[]
[]
[]
[]
[]
[]
[]
[]
[]
[]
[]
[]
[]
[]
[]
[]
[]
[]
[]
[]
[]
[]
[]
[]
[]
[]
[]
[]
[]
[]
[]
[]
[]
[]
[]
[]
[]
[]
[]
[]
[]
[]
[]
[]
[]
[]
[]
[]
[]
[]
[]
[]
[]
[]
[]
[]
[]
[]
[]
[]
[]
[]
[]
[]
[]
[]
[]
[]
[]
[]
[]
[]
[]
[]
[]
[]
[]
[]
[]
[]
[]
[]
[]
[]
[]
[]
[]
[]
[]
[]
[]
[]
[]
[]
[]
[]
[]
[]
[]
[]
[]
[]
[]
[]
[]
[]
[]
[]
[]
[]
[]
[]
[]
[]
[]
[]
[]
[]
[]
[]
[]
[]
[]
[]
[]
[]
[]
[]
[]
[]
[]
[]
[]
[]
[]
[]
[]
[]
[]
[]
[]
[]
[]
[]
[]
[]
[]
[]
[]
[]
[]
[]
[]
[]
[]
[]
[]
[]
[]
[]
[]
[]
[]
[]
[]
[]
[]
[]
[]
[]
[]
[]
[]
[]
[]
[]
[]
[]
[]
[]
[]
[]
[]
[]
[]
[]
[]
[]
[]
[]
[]
[]
[]
[]
[]
[]
[]
[]
[]
[]
[]
[]
[]
[]
[]
[]
[]
[]
[]
[]
[]
[]
[]
[]
[]
[]
[]
[]
[]
[]
[]
[]
[]
[]
[]
[]
[]
[]
[]
[]
[]
[]
[]
[]
[]
[]
[]
[]
[]
[]
[]
[]
[]
[]
[]
[]
[]
[]
[]
[]
[]
[]
[]
[]
[]
[]
[]
[]
[]
[]
[]
[]
[]
[]
[]
[]
[]
[]
[]
[]
[]
[]
[]
[]
[]
[]
[]
[]
[]
[]
[]
[]
[]
[]
[]
[]
[]
[]
[]
[]
[]
[]
[]
[]
[]
[]
[]
[]
[]
[]
[]
[]
[]
[]
[]
[]
[]
[]
[]
[]
[]
[]
[]
[]
[]
[]
[]
[]
[]
[]
[]
[]
[]
[]
[]
[]
[]
[]
[]
[]
[]
[]
[]
[]
[]
[]
[]
[]
[]
[]
[]
[]
[]
[]
[]
[]
[]
[]
[]
[]
[]
[]
[]
[]
[]
[]
[]
[]
[]
[]
[]
[]
[]
[]
[]
[]
[]
[]
[]
[]
[]
[]
[]
[]
[]
[]
[]
[]
[]
[]
[]
[]
[]
[]
[]
[]
[]
[]
[]
[]
[]
[]
[]
[]
[]
[]
[]
[]
[]
[]
[]
[]
[]
[]
[]
[]
[]
[]
[]
[]
[]
[]
[]
[]
[]
[]
[]
[]
[]
[]
[]
[]
[]
[]
[]
[]
[]
[]
[]
[]
[]
[]
[]
[]
[]
[]
[]
[]
[]
[]
[]
[]
[]
[]
[]
[]
[]
[]
[]
[]
[]
[]
[]
[]
[]
[]
[]
[]
[]
[]
[]
[]
[]
[]
[]
[]
[]
[]
[]
[]
[]
[]
[]
[]
[]
[]
[]
[]
[]
[]
[]
[]
[]
[]
[]
[]
[]
[]
[]
[]
[]
[]
[]
[]
[]
[]
[]
[]
[]
[]
[]
[]
[]
[]
[]
[]
[]
[]
[]
[]
[]
[]
[]
[]
[]
[]
[]
[]
[]
[]
[]
[]
[]
[]
[]
[]
[]
[]
[]
[]
[]
[]
[]
[]
[]
[]
[]
[]
[]
[]
[]
[]
[]
[]
[]
[]
[]
[]
[]
[]
[]
[]
[]
[]
[]
[]
[]
[]
[]
[]
[]
[]
[]
[]
[]
[]
[]
[]
[]
[]
[]
[]
[]
[]
[]
[]
[]
[]
[]
[]
[]
[]
[]
[]
[]
[]
[]
[]
[]
[]
[]
[]
[]
[]
[]
[]
[]
[]
[]
[]
[]
[]
[]
[]
[]
[]
[]
[]
[]
[]
[]
[]
[]
[]
[]
[]
[]
[]
[]
[]
[]
[]
[]
[]
[]
[]
[]
[]
[]
[]
[]
[]
[]
[]
[]
[]
[]
[]
[]
[]
[]
[]
[]
[]
[]
[]
[]
[]
[]
[]
[]
[]
[]
[]
[]
[]
[]
[]
[]
[]
[]
[]
[]
[]
[]
[]
[]
[]
[]
[]
[]
[]
[]
[]
[]
[]
[]
[]
[]
[]
[]
[]
[]
[]
[]
[]
[]
[]
[]
[]
[]
[]
[]
[]
[]
[]
[]
[]
[]
[]
[]
[]
[]
[]
[]
[]
[]
[]
[]
[]
[]
[]
[]
[]
[]
[]
[]
[]
[]
[]
[]
[]
[]
[]
[]
[]
[]
[]
[]
[]
[]
[]
[]
[]
[]
[]
[]
[]
[]
[]
[]
[]
[]
[]
[]
[]
[]
[]
[]
[]
[]
[]
[]
[]
[]
[]
[]
[]
[]
[]
[]
[]
[]
[]
[]
[]
[]
[]
[]
[]
[]
[]
[]
[]
[]
[]
[]
[]
[]
[]
[]
[]
[]
[]
[]
[]
[]
[]
[]
[]
[]
[]
[]
[]
[]
[]
[]
[]
[]
[]
[]
[]
[]
[]
[]
[]
[]
[]
[]
[]
[]
[]
[]
[]
[]
[]
[]
[]
[]
[]
[]
[]
[]
[]
[]
[]
[]
[]
[]
[]
[]
[]
[]
[]
[]
[]
[]
[]
[]
[]
[]
[]
[]
[]
[]
[]
[]
[]
[]
[]
[]
[]
[]
[]
[]
[]
[]
[]
[]
[]
[]
[]
[]
[]
[]
[]
[]
[]
[]
[]
[]
[]
[]
[]
[]
[]
[]
[]
[]
[]
[]
[]
[]
[]
[]
[]
[]
[]
[]
[]
[]
[]
[]
[]
[]
[]
[]
[]
[]
[]
[]
[]
[]
[]
[]
[]
[]
[]
[]
[]
[]
[]
[]
[]
[]
[]
[]
[]
[]
[]
[]
[]
[]
[]
[]
[]
[]
[]
[]
[]
[]
[]
[]
[]
[]
[]
[]
[]
[]
[]
[]
[]
[]
[]
[]
[]
[]
[]
[]
[]
[]
[]
[]
[]
[]
[]
[]
[]
[]
[]
[]
[]
[]
[]
[]
[]
[]
[]
[]
[]
[]
[]
[]
[]
[]
[]
[]
[]
[]
[]
[]
[]
[]
[]
[]
[]
[]
[]
[]
[]
[]
[]
[]
[]
[]
[]
[]
[]
[]
[]
[]
[]
[]
[]
[]
[]
[]
[]
[]
[]
[]
[]
[]
[]
[]
[]
[]
[]
[]
[]
[]
[]
[]
[]
[]
[]
[]
[]
[]
[]
[]
[]
[]
[]
[]
[]
[]
[]
[]
[]
[]
[]
[]
[]
[]
[]
[]
[]
[]
[]
[]
[]
[]
[]
[]
[]
[]
[]
[]
[]
[]
[]
[]
[]
[]
[]
[]
[]
[]
[]
[]
[]
[]
[]
[]
[]
[]
[]
[]
[]
[]
[]
[]
[]
[]
[]
[]
[]
[]
[]
[]
[]
[]
[]
[]
[]
[]
[]
[]
[]
[]
[]
[]
[]
[]
[]
[]
[]
[]
[]
[]
[]
[]
[]
[]
[]
[]
[]
[]
[]
[]
[]
[]
[]
[]
[]
[]
[]
[]
[]
[]
[]
[]
[]
[]
[]
[]
[]
[]
[]
[]
[]
[]
[]
[]
[]
[]
[]
[]
[]
[]
[]
[]
[]
[]
[]
[]
[]
[]
[]
[]
[]
[]
[]
[]
[]
[]
[]
[]
[]
[]
[]
[]
[]
[]
[]
[]
[]
[]
[]
[]
[]
[]
[]
[]
[]
[]
[]
[]
[]
[]
[]
[]
[]
[]
[]
[]
[]
[]
[]
[]
[]
[]
[]
[]
[]
[]
[]
[]
[]
[]
[]
[]
[]
[]
[]
[]
[]
[]
[]
[]
[]
[]
[]
[]
[]
[]
[]
[]
[]
[]
[]
[]
[]
[]
[]
[]
[]
[]
[]
[]
[]
[]
[]
[]
[]
[]
[]
[]
[]
[]
[]
[]
[]
[]
[]
[]
[]
[]
[]
[]
[]
[]
[]
[]
[]
[]
[]
[]
[]
[]
[]
[]
[]
[]
[]
[]
[]
[]
[]
[]
[]
[]
[]
[]
[]
[]
[]
[]
[]
[]
[]
[]
[]
[]
[]
[]
[]
[]
[]
[]
[]
[]
[]
[]
[]
[]
[]
[]
[]
[]
[]
[]
[]
[]
[]
[]
[]
[]
[]
[]
[]
[]
[]
[]
[]
[]
[]
[]
[]
[]
[]
[]
[]
[]
[]
[]
[]
[]
[]
[]
[]
[]
[]
[]
[]
[]
[]
[]
[]
[]
[]
[]
[]
[]
[]
[]
[]
[]
[]
[]
[]
[]
[]
[]
[]
[]
[]
[]
[]
[]
[]
[]
[]
[]
[]
[]
[]
[]
[]
[]
[]
[]
[]
[]
[]
[]
[]
[]
[]
[]
[]
[]
[]
[]
[]
[]
[]
[]
[]
[]
[]
[]
[]
[]
[]
[]
[]
[]
[]
[]
[]
[]
[]
[]
[]
[]
[]
[]
[]
[]
[]
[]
[]
[]
[]
[]
[]
[]
[]
[]
[]
[]
[]
[]
[]
[]
[]
[]
[]
[]
[]
[]
[]
[]
[]
[]
[]
[]
[]
[]
[]
[]
[]
[]
[]
[]
[]
[]
[]
[]
[]
[]
[]
[]
[]
[]
[]
[]
[]
[]
[]
[]
[]
[]
[]
[]
[]
[]
[]
[]
[]
[]
[]
[]
[]
[]
[]
[]
[]
[]
[]
[]
[]
[]
[]
[]
[]
[]
[]
[]
[]
[]
[]
[]
[]
[]
[]
[]
[]
[]
[]
[]
[]
[]
[]
[]
[]
[]
[]
[]
[]
[]
[]
[]
[]
[]
[]
[]
[]
[]
[]
[]
[]
[]
[]
[]
[]
[]
[]
[]
[]
[]
[]
[]
[]
[]
[]
[]
[]
[]
[]
[]
[]
[]
[]
[]
[]
[]
[]
[]
[]
[]
[]
[]
[]
[]
[]
[]
[]
[]
[]
[]
[]
[]
[]
[]
[]
[]
[]
[]
[]
[]
[]
[]
[]
[]
[]
[]
[]
[]
[]
[]
[]
[]
[]
[]
[]
[]
[]
[]
[]
[]
[]
[]
[]
[]
[]
[]
[]
[]
[]
[]
[]
[]
[]
[]
[]
[]
[]
[]
[]
[]
[]
[]
[]
[]
[]
[]
[]
[]
[]
[]
[]
[]
[]
[]
[]
[]
[]
[]
[]
[]
[]
[]
[]
[]
[]
[]
[]
[]
[]
[]
[]
[]
[]
[]
[]
[]
[]
[]
[]
[]
[]
[]
[]
[]
[]
[]
[]
[]
[]
[]
[]
[]
[]
[]
[]
[]
[]
[]
["m"]
["^GSPC",null,null,null,null,null,null,null,"^GSPC"]

{"sheet":"price data","index":1,"n_rows":62,"n_cols":32,"rows_kept":62,"cut":false,"hidden":false,"merged":[]}
["Date","TSLA","GM","BA","CAT","CSCO","CVX","DIS","F","GE","GOOGL","HD","IBM","INTC","JNJ","JPM","KO","KR","MCD","MMM","MSFT","NFLX","PFE","PG","AAPL","PRU","TFC","VZ","WMT","XOM","AMZN","GSPC"]
["2018-01-01",23.620667000000001,38.454295999999999,337.71209700000003,143.84570299999999,35.420872000000003,100.66915899999999,105.682121,9.0929090000000006,92.877510000000001,59.110999999999997,178.52822900000001,123.145607,41.910477,121.07635500000001,99.328957000000003,40.592464,27.394542999999999,152.047729,211.622681,89.472320999999994,270.29998799999998,29.296534999999999,75.351096999999996,39.802284,94.011443999999997,46.173386000000001,43.035156000000001,97.285042000000004,67.124474000000006,72.544501999999994,2823.8100589999999]
["2018-02-01",22.870667000000001,35.679713999999997,345.18353300000001,137.277939,38.468390999999997,89.883453000000003,100.323616,9.0110860000000006,81.045258000000004,55.195999,161.97285500000001,117.22530399999999,42.911655000000003,113.79547100000001,99.699630999999997,36.865020999999999,24.471015999999999,140.14265399999999,198.959091,88.304610999999994,291.38000499999998,28.719152000000001,69.048775000000006,42.343563000000003,84.121314999999996,45.470615000000002,38.429805999999999,82.144737000000006,58.236049999999999,75.622497999999993,2713.830078]
["2018-03-01",17.742000999999998,32.950459000000002,314.00973499999998,130.841476,36.844788000000001,92.497756999999993,97.678405999999995,9.4102580000000007,78.067420999999996,51.856997999999997,158.39158599999999,116.55626700000001,45.648212000000001,112.998688,94.926131999999996,37.044144000000003,21.698077999999999,139.81329299999999,186.54428100000001,86.354073,295.35000600000001,28.330627,69.717117000000002,40.048107000000002,82.609093000000001,43.806609999999999,38.494197999999997,81.195601999999994,57.953823,72.366996999999998,2640.8701169999999]
["2018-04-01",19.593332,33.651997000000001,319.44949300000002,128.16037,38.047462000000003,101.476608,97.571426000000002,9.5461449999999992,81.484322000000006,50.929001,165.15759299999999,110.12185700000001,45.245029000000002,111.534958,93.898940999999994,37.181835,22.831018,149.70162999999999,165.18924000000001,88.482864000000006,312.459991,29.224691,63.614215999999999,39.446606000000003,84.818916000000002,44.483241999999997,39.725830000000002,81.211487000000005,60.392845000000001,78.306503000000006,2648.0500489999999]
["2018-05-01",18.981999999999999,39.111057000000002,337.26266500000003,135.54216,36.985111000000003,100.819649,96.735061999999999,9.9410399999999992,81.542229000000006,55,166.721619,107.349052,48.382911999999997,105.477226,92.839493000000004,37.001133000000003,22.051558,143.05874600000001,167.6026,93.516327000000004,351.60000600000001,28.68187,64.939528999999993,44.604773999999999,77.256050000000002,44.230494999999998,38.856288999999997,75.776580999999993,63.103729000000001,81.481003000000001,2705.2700199999999]
["2018-06-01",22.863333000000001,36.088420999999997,322.91992199999999,121.051964,37.262211000000001,103.44149,101.92823799999999,9.5279050000000005,78.820296999999997,56.459499000000001,175.339035,107.304085,43.822375999999998,107.787384,90.401611000000003,37.741168999999999,25.917583,140.090439,168.31251499999999,93.703117000000006,391.42999300000002,29.243974999999999,69.279480000000007,44.355060999999999,75.260765000000006,42.787140000000001,41.008175000000001,79.127121000000002,64.912445000000005,84.989998,2718.3701169999999]
["2018-07-01",19.875999,35.026637999999998,342.92971799999998,128.305969,36.621409999999997,103.31057699999999,110.437668,8.6413899999999995,79.636757000000003,61.360999999999997,177.51393100000001,111.321259,42.403053,117.718681,99.728058000000004,40.482070999999998,26.418628999999999,141.74513200000001,181.65982099999999,100.801407,337.45001200000002,32.186115000000001,71.782272000000006,45.596255999999997,81.216599000000002,43.100994,42.092281,82.434471000000002,63.955204000000002,88.872001999999995,2816.290039]
["2018-08-01",20.110665999999998,33.308112999999999,329.92666600000001,124.64896400000001,41.689284999999998,96.920661999999993,109.81568900000001,8.2741030000000002,75.605239999999995,61.59,180.434753,112.51181,42.693976999999997,119.646286,99.947265999999999,38.693671999999999,28.696096000000001,145.964935,180.462006,106.74041,367.67999300000002,33.467747000000003,74.287582,54.543467999999997,79.075699,43.822032999999998,44.831333000000001,88.559546999999995,62.903782,100.635498,2901.5200199999999]
["2018-09-01",17.651333000000001,31.109124999999999,359.71298200000001,136.89390599999999,42.457267999999999,101.00527200000001,114.638885,8.0733610000000002,65.964698999999996,60.353999999999999,187.122818,117.39975699999999,41.942528000000003,123.555573,98.429458999999994,40.100090000000002,26.643630999999999,151.45721399999999,181.49070699999999,109.097122,374.13000499999998,35.825684000000003,74.538337999999996,54.280293,82.296233999999998,41.498550000000002,44.023262000000003,87.261962999999994,67.397316000000004,100.150002,2913.9799800000001]
["2018-10-01",22.488001000000001,34.17503,343.23138399999999,108.91185,39.926406999999998,92.224700999999996,112.570404,8.3351989999999994,59.574283999999999,54.528998999999999,158.87597700000001,89.620086999999998,41.578896,125.18302199999999,95.097313,41.920845,27.23856,160.157715,163.87651099999999,101.88565800000001,301.77999899999998,35.004623000000002,79.419196999999997,52.625968999999998,76.171936000000002,42.028602999999997,47.074126999999997,93.181006999999994,63.164169000000001,79.900497000000001,2711.73999]
["2018-11-01",23.365334000000001,35.445270999999998,335.39679000000001,122.570396,42.058987000000002,98.246368000000004,113.217415,8.3605490000000007,44.238323000000001,55.482498,162.886765,96.483481999999995,43.734119,131.36218299999999,97.669394999999994,44.127200999999999,27.147031999999999,170.66890000000001,179.08760100000001,105.777557,286.13000499999998,37.581608000000003,85.388274999999993,42.940452999999998,76.155700999999993,43.687182999999997,50.271926999999998,90.737212999999997,63.021495999999999,84.508499,2760.169922]
["2018-12-01",22.186665999999999,31.242273000000001,313.37222300000002,114.80078899999999,38.070113999999997,90.740547000000007,107.492332,6.7968330000000003,44.651218,52.248001000000002,156.13694799999999,89.377624999999995,41.885185,116.13507799999999,85.749488999999997,41.784621999999999,25.282837000000001,161.75573700000001,165.23843400000001,97.305808999999996,267.66000400000001,35.758076000000003,83.048255999999995,38.061706999999998,66.899590000000003,37.337314999999997,46.870452999999998,86.555756000000002,54.603763999999998,75.098502999999994,2506.8500979999999]
["2019-01-01",20.468,36.827849999999998,374.70575000000002,120.302773,41.549408,95.628296000000006,110.17353799999999,7.8185779999999996,60.010620000000003,56.294497999999997,166.77809099999999,105.69317599999999,42.054760000000002,119.76177199999999,90.914490000000001,42.472946,26.045918,162.858002,173.70242300000001,100.045731,339.5,34.775042999999997,87.159087999999997,40.160961,75.587090000000003,42.060496999999998,45.903357999999997,89.531981999999999,58.679619000000002,85.936501000000007,2704.1000979999999]
["2019-02-01",21.325333000000001,37.262011999999999,427.507721,124.87738,45.837757000000003,99.740341000000001,111.477608,7.9276720000000003,63.823898,56.327499000000003,168.24115,108.610313,47.266983000000003,122.96550000000001,92.414360000000002,40.010868000000002,26.965294,167.467331,179.850967,107.32666,358.10000600000001,35.822468000000001,89.742583999999994,41.780040999999997,78.630600000000001,43.930816999999998,47.949299000000003,92.484283000000005,63.283980999999997,81.991501,2784.48999]
["2019-03-01",18.657333000000001,35.015720000000002,372.48657200000002,123.195274,47.803375000000003,103.77589399999999,109.68946099999999,7.936712,61.366764000000003,58.844501000000001,174.375046,112.23825100000001,48.231231999999999,126.634598,89.642639000000003,41.352218999999998,22.726513000000001,174.088989,181.434967,113.47107699999999,356.55999800000001,35.095280000000002,94.75103,46.030349999999999,76.182968000000002,40.427773000000002,49.811000999999997,91.120247000000006,65.419655000000006,89.037497999999999,2834.3999020000001]
["2019-04-01",15.912667000000001,37.126617000000003,368.84387199999998,126.768677,49.538784,101.147369,135.31626900000001,9.4463150000000002,62.538654000000001,59.948002000000002,186.48542800000001,111.578011,45.842120999999999,127.911903,102.766251,43.671574,23.816648000000001,181.12039200000001,165.481461,125.65141300000001,370.540009,33.558253999999998,96.963852000000003,48.628117000000003,87.650229999999993,44.485320999999999,48.176749999999998,96.598236,64.998633999999996,96.325996000000004,2945.830078]
["2019-05-01",12.343999999999999,31.779237999999999,333.60891700000002,109.59845,46.359637999999997,95.915604000000002,130.445786,8.7436950000000007,58.049644000000001,55.325001,173.80592300000001,101.01442,39.555,118.807686,94.549216999999999,43.733891,21.072831999999998,181.7621,139.49482699999999,118.993584,343.27999899999998,34.310242000000002,94.374474000000006,42.424503000000001,76.597565000000003,40.618923000000002,46.256042000000001,95.283195000000006,57.298873999999998,88.753501999999997,2752.0600589999999]
["2019-06-01",14.897333,36.726275999999999,357.526611,124.67383599999999,48.765388000000002,105.868866,137.95404099999999,9.3957990000000002,64.567931999999999,54.139999000000003,190.39456200000001,110.99580400000001,43.258259000000002,127.035889,99.760292000000007,45.327297000000002,20.167814,191.485107,152.65679900000001,129.36116000000001,367.32000699999998,36.115172999999999,100.555466,48.146408000000001,84.616234000000006,43.048285999999997,48.622044000000002,104.335258,62.754596999999997,94.681503000000006,2941.76001]
["2019-07-01",16.107332,38.863605,335.10318000000001,120.44760100000001,49.362366000000002,104.73735000000001,141.283356,8.7528780000000008,64.322304000000003,60.91,197.00340299999999,119.318466,45.680069000000003,118.772369,103.50799600000001,47.215198999999998,19.656880999999998,194.306793,153.87214700000001,131.59184300000001,322.98998999999998,32.380268000000001,108.249573,51.824542999999998,84.875953999999993,45.151184000000001,47.039036000000003,104.23138400000001,60.895603000000001,93.338997000000006,2980.3798830000001]
["2019-08-01",15.040666999999999,35.732551999999998,357.605164,109.695099,41.971747999999998,100.151741,136.44253499999999,8.5479430000000001,50.780777,59.526501000000003,210.11300700000001,109.088173,42.842579000000001,117.07589,98.723220999999995,49.377251000000001,21.997871,200.99211099999999,142.423294,133.127274,293.75,29.637450999999999,110.971977,50.778519000000003,67.098151999999999,41.751488000000002,50.019680000000001,107.895248,56.080322000000002,88.814498999999998,2926.459961]
["2019-09-01",16.058001000000001,36.108275999999996,376.02526899999998,116.43351699999999,44.303009000000003,101.937653,129.543869,8.5386190000000006,55.027884999999998,61.056998999999998,213.90209999999999,118.427803,46.880062000000002,118.89048,105.759491,48.838977999999997,24.116098000000001,199.032883,146.10833700000001,134.70414700000001,267.61999500000002,30.234486,114.802391,54.690398999999999,76.288719,47.218811000000002,51.911751000000002,112.62069700000001,58.543616999999998,86.795501999999999,2976.73999]
["2019-10-01",20.994667,36.159312999999997,335.93911700000001,127.025085,42.599392000000002,99.823265000000006,129.146255,8.0072869999999998,61.495761999999999,62.939999,217.58277899999999,108.90763099999999,51.428879000000002,121.334801,112.256561,49.187023000000003,23.049675000000001,182.337906,146.63269,138.90907300000001,287.41000400000001,32.287711999999999,114.922394,60.743771000000002,77.297989000000001,46.935699,52.006359000000003,111.273186,56.023108999999998,88.832999999999998,3037.5600589999999]
["2019-11-01",21.995999999999999,35.030548000000003,361.90222199999999,134.46186800000001,40.934494000000001,100.674179,150.67726099999999,8.5840040000000002,69.444618000000006,65.204498000000001,204.53228799999999,109.493996,52.811714000000002,126.34296399999999,119.35163900000001,48.256241000000003,25.575415,180.27998400000001,150.88090500000001,146.66989100000001,314.66000400000001,32.413929000000003,113.380714,65.258780999999999,79.401343999999995,48.413218999999998,52.347633000000002,113.00975800000001,56.487414999999999,90.040001000000004,3140.9799800000001]
["2019-12-01",27.888666000000001,35.614390999999998,323.83331299999998,137.20257599999999,43.328589999999998,104.59994500000001,143.76864599999999,8.8113960000000002,68.766777000000005,66.969498000000002,202.556625,110.44937899999999,54.748947000000001,134.97221400000001,126.272141,50.392021,27.280224,184.35539199999999,158.14840699999999,153.31317100000001,323.57000699999998,33.287936999999999,116.018776,71.920569999999998,80.349441999999996,50.237976000000003,53.355651999999999,112.772522,58.553165,92.391998000000001,3230.780029]
["2020-01-01",43.371333999999997,32.839404999999999,316.38757299999997,122.031136,41.530766,92.995079000000004,138.30999800000001,8.3566120000000002,76.785194000000004,71.638999999999996,212.92550700000001,118.433975,58.481209,137.74809300000001,119.895157,53.168816,25.275845,199.61802700000001,142.227768,165.494629,345.08999599999999,31.639686999999999,115.75868199999999,75.805008000000001,78.052261000000001,46.000934999999998,51.652442999999998,109.13191999999999,52.125591,100.435997,3225.5200199999999]
["2020-02-01",44.532665000000001,29.997064999999999,273.48284899999999,116.235207,36.339230000000001,81.016991000000004,117.650002,6.7064830000000004,67.102249,66.962502000000001,203.348038,107.244011,50.788006000000003,124.433167,105.850685,48.698630999999999,26.470942999999998,181.14610300000001,133.78341699999999,157.503265,369.02999899999998,28.684201999999999,105.803467,66.951156999999995,64.672111999999998,41.157330000000002,47.554001,102.64063299999999,43.163882999999998,94.1875,2954.219971]
["2020-03-01",34.933334000000002,20.437344,149.13999899999999,108.56353799999999,35.774990000000003,63.628726999999998,96.599997999999999,4.6540670000000004,48.969836999999998,58.097499999999997,174.288971,92.361159999999998,49.751133000000003,122.107147,82.075080999999997,40.286312000000002,28.502528999999999,155.22456399999999,123.47996500000001,153.74168399999999,375.5,28.014734000000001,102.78531599999999,62.428359999999998,45.212296000000002,27.738869000000001,47.176440999999997,108.30265799999999,32.318461999999997,97.486000000000004,2584.5900879999999]
["2020-04-01",52.125332,22.189878,141.020004,108.881615,38.568905000000001,80.787216000000001,108.150002,4.904598,41.980564000000001,67.334998999999996,206.57856799999999,104.542198,55.138081,139.715958,87.298766999999998,42.145809,29.912516,176.07446300000001,137.41906700000001,174.70069899999999,419.85000600000001,32.924179000000002,110.139145,72.128074999999995,54.083069000000002,33.567267999999999,50.442715,116.374199,39.553306999999997,123.699997,2912.429932]
["2020-05-01",55.666668000000001,25.763752,145.85000600000001,113.42184399999999,43.932322999999997,80.523787999999996,117.300003,5.502014,40.560623,71.676002999999994,233.501541,103.99269099999999,57.849936999999997,138.514725,89.633667000000003,42.871357000000003,30.868276999999999,174.910416,141.50762900000001,178.63902300000001,419.73001099999999,32.778267,109.039406,78.054473999999999,52.860413000000001,33.081569999999999,50.923079999999999,118.777306,38.702148000000001,122.1185,3044.3100589999999]
["2020-06-01",71.987335000000002,25.186357000000001,183.300003,119.43615699999999,42.848255000000002,79.505142000000006,111.510002,5.8585370000000001,42.165759999999999,70.902495999999999,235.409164,101.902565,55.310870999999999,131.86125200000001,86.640045000000001,41.034534000000001,32.183235000000003,174.32830799999999,142.50006099999999,198.94177199999999,455.040009,28.345935999999998,112.47275500000001,89.801079000000001,53.835236000000002,34.261574000000003,48.926270000000002,115.18401299999999,38.801819000000002,137.94099399999999,3100.290039]
["2020-07-01",95.384003000000007,24.778198,158,125.4599,43.270854999999997,74.791686999999996,116.94000200000001,6.3692310000000001,37.530006,74.397498999999996,250.97589099999999,103.733559,44.124817,136.67137099999999,89.016532999999995,43.779815999999997,33.076942000000003,183.59895299999999,137.45744300000001,200.408096,488.88000499999998,33.356312000000003,123.337181,104.630066,56.018695999999998,34.179459000000001,51.011822000000002,124.43487500000001,36.511192000000001,158.233994,3271.1201169999999]
["2020-08-01",166.106674,29.496905999999999,171.820007,135.369598,39.093139999999998,74.782768000000004,131.86999499999999,6.5715820000000003,39.199368,81.476500999999999,269.45712300000002,104.045738,47.101604000000002,143.84435999999999,93.185776000000004,45.902084000000002,33.923121999999999,201.78121899999999,148.92214999999999,220.467468,529.55999799999995,33.078353999999997,130.94032300000001,127.060654,59.908268,35.411231999999998,53.191090000000003,133.522278,34.654392000000001,172.54800399999999,3500.3100589999999]
["2020-09-01",143.00332599999999,29.457087999999999,165.259995,141.875992,36.472735999999998,65.077858000000006,124.08000199999999,6.4174100000000003,38.519264,73.279999000000004,262.52786300000002,104.006142,48.194004,140.52593999999999,89.539817999999997,45.753799000000001,32.408833000000001,208.63651999999999,147.659637,206.105682,500.02999899999998,32.12426,131.565079,114.239182,57.082782999999999,35.104880999999999,53.388527000000003,135.09472700000001,30.374442999999999,157.43649300000001,3363]
["2020-10-01",129.346664,34.374893,144.38999899999999,149.39073200000001,33.241211,62.818213999999998,121.25,7.4484360000000001,45.952705000000002,80.805496000000005,253.45880099999999,95.449387000000002,41.213425000000001,129.416382,91.186072999999993,44.900291000000003,30.784084,202.467422,147.45680200000001,198.40358000000001,475.73998999999998,31.056372,129.77603099999999,107.383438,57.532103999999997,38.859851999999997,51.144939000000001,133.97467,28.861471000000002,151.80749499999999,3269.959961]
["2020-11-01",189.199997,43.643078000000003,210.71000699999999,166.13265999999999,40.201309000000002,78.798430999999994,148.009995,8.7492619999999999,63.045616000000003,87.720000999999996,263.62719700000002,105.58757799999999,45.001548999999997,136.56163000000001,110.656448,48.207549999999998,31.539114000000001,206.687881,159.22865300000001,209.770599,490.70001200000002,35.344334000000003,132.18138099999999,117.435226,67.956551000000005,42.827025999999996,54.791404999999997,147.53143299999999,33.736598999999998,158.401993,3621.6298830000001]
["2020-12-01",235.22332800000001,41.452961000000002,214.05999800000001,174.20051599999999,41.817954999999998,77.454048,181.179993,8.4698259999999994,66.885323,87.632003999999995,252.42292800000001,109.165283,46.70702,149.58123800000001,119.28327899999999,51.636265000000002,30.525229,205.18161000000001,162.5215,218.523483,540.72997999999995,34.309711,132.4384,131.11604299999999,71.193450999999996,44.631554000000001,53.285797000000002,139.18879699999999,37.350470999999999,162.846497,3756.070068]
["2021-01-01",264.51001000000002,50.452354,194.19000199999999,174.98529099999999,41.659092000000001,78.141914,168.16999799999999,10.146445999999999,66.203002999999995,91.367996000000005,258.76791400000002,103.294212,52.041485000000002,155.04628,120.785248,45.337093000000003,33.158703000000003,198.736786,163.33041399999999,227.896378,532.39001499999995,33.461520999999998,122.034813,130.394699,71.384963999999997,44.678108000000002,49.657832999999997,136.15063499999999,40.630645999999999,160.30999800000001,3714.23999]
["2021-02-01",225.16667200000001,51.099437999999999,212.009995,207.70515399999999,42.270144999999999,91.715866000000005,189.03999300000001,11.273828999999999,77.732749999999996,101.09549699999999,246.84329199999999,103.138115,56.982188999999998,150.60771199999999,139.1465,46.128020999999997,30.957735,197.11128199999999,162.77256800000001,228.30900600000001,538.84997599999997,31.554798000000002,118.289429,119.82163199999999,79.081551000000005,53.040123000000001,50.693623000000002,125.907127,49.266010000000001,154.6465,3811.1499020000001]
["2021-03-01",222.643326,57.201897000000002,254.720001,223.08966100000001,48.713825,97.467613,184.520004,11.803794,81.390022000000002,103.12599899999999,291.66568000000001,117.109627,60.365189000000001,157.17987099999999,143.930634,49.630692000000003,34.777023,215.64158599999999,180.63211100000001,232.173126,521.65997300000004,34.136462999999999,129.684586,120.881424,84.267287999999994,54.765372999999997,53.306221000000001,131.634567,51.448073999999998,154.70399499999999,3972.889893]
["2021-04-01",236.479996,56.962978,234.30999800000001,219.47203099999999,47.960175,95.867789999999999,186.020004,11.119657,81.388015999999993,117.675003,311.20394900000002,124.68493700000001,54.262642,155.630539,145.42451500000001,51.249561,35.308487,227.12886,184.81326300000001,248.33279400000001,513.46997099999999,36.416634000000002,127.759872,130.094742,92.832770999999994,55.695030000000003,52.976204000000003,136.154663,52.747405999999998,173.371002,4181.169922]
["2021-05-01",208.40666200000001,59.043590999999999,247.020004,232.99939000000001,50.192141999999997,96.537482999999995,178.64999399999999,14.000745999999999,87.219170000000005,117.842499,306.62725799999998,126.319496,53.875926999999997,161.86610400000001,156.20048499999999,52.493298000000003,35.733657999999998,225.021896,190.344345,245.870926,502.80999800000001,36.492007999999998,129.95536799999999,123.31588000000001,98.947006000000002,58.014484000000003,52.341625000000001,138.217758,53.788711999999997,161.153503,4204.1098629999997]
["2021-06-01",226.566666,58.904221,239.55999800000001,210.33538799999999,50.287028999999997,98.613608999999997,175.770004,14.318727000000001,83.497153999999995,122.0895,306.60803199999998,130.263474,53.277724999999997,158.53582800000001,147.926331,51.372982,37.201644999999999,223.459259,187.58038300000001,267.38320900000002,528.21002199999998,37.260722999999999,130.03247099999999,135.76783800000001,95.815262000000004,52.513683,51.915408999999997,137.77380400000001,58.975861000000002,172.00799599999999,4297.5]
["2021-07-01",229.066666,56.584685999999998,226.479996,199.82006799999999,52.535708999999997,95.854988000000006,176.020004,13.441872,80.394576999999998,134.72650100000001,317.20452899999998,125.26052900000001,50.981105999999997,165.71487400000001,144.35037199999999,54.553260999999999,39.522499000000003,234.79716500000001,186.928741,281.21130399999998,517.57000700000003,40.733696000000002,137.06750500000001,144.590363,93.767493999999999,51.501255,51.683762000000002,139.26859999999999,53.824351999999998,166.379501,4395.2597660000001]
["2021-08-01",245.240005,48.789852000000003,219.5,204.89567600000001,56.389290000000003,91.109795000000005,181.300003,12.555384,81.799155999999996,144.697495,315.26181000000003,124.70957199999999,51.303772000000002,166.60987900000001,152.997086,53.864539999999998,44.698287999999998,229.718323,183.90678399999999,297.961029,569.19000200000005,44.232613000000001,138.08471700000001,150.508408,99.003806999999995,53.989742,51.533538999999998,144.69082599999999,50.972797,173.53950499999999,4522.6801759999998]
["2021-09-01",258.49334700000003,52.473236,219.94000199999999,186.53114299999999,52.003886999999999,96.803809999999999,169.16999799999999,13.644223,79.952247999999997,133.675995,317.272156,124.87796,50.892116999999999,156.34141500000001,156.57450900000001,50.191299000000001,39.452984000000001,234.52806100000001,166.926117,278.79281600000002,610.34002699999996,41.294654999999999,135.57304400000001,140.4785,99.464232999999993,55.950462000000002,50.605930000000001,136.67266799999999,55.825389999999999,164.25199900000001,4307.5400390000004]
["2021-10-01",371.33334400000001,54.185513,207.029999,198.23001099999999,53.475242999999999,109.24661999999999,169.070007,16.457863,81.443389999999994,148.04600500000001,361.123535,112.44678500000001,46.803936,157.677322,162.50498999999999,54.328884000000002,39.052894999999999,238.84686300000001,170.02827500000001,327.94149800000002,690.30999799999995,41.995541000000003,138.66658000000001,148.71855199999999,104.049812,60.548603,49.650219,146.51762400000001,61.187739999999998,168.62150600000001,4605.3798829999996]
["2021-11-01",381.58667000000003,57.610058000000002,197.85000600000001,188.90939299999999,52.749572999999998,107.700813,144.89999399999999,18.491007,73.770461999999995,141.89750699999999,389.16900600000002,110.097717,46.994976000000001,150.94929500000001,152.84124800000001,50.550823000000001,40.526401999999997,237.92279099999999,161.80661000000001,326.92294299999998,641.90002400000003,51.587111999999998,141.07768200000001,164.106674,96.684532000000004,56.580081999999997,47.661037,137.89837600000001,56.793461000000001,175.3535,4567]
["2021-12-01",352.26001000000002,58.366646000000003,201.320007,201.991882,60.954414,113.269814,154.88999899999999,20.114227,73.366614999999996,144.85200499999999,403.15780599999999,127.34440600000001,49.533980999999997,166.69044500000001,152.37936400000001,57.508586999999999,44.386772000000001,262.19769300000002,170.40469400000001,333.19787600000001,602.44000200000005,57.192596000000002,159.617447,176.54537999999999,103.455292,56.272281999999997,49.263325000000002,141.879501,58.855206000000003,166.716995,4766.1801759999998]
["2022-01-01",312.23998999999998,52.493149000000003,200.240005,196.93083200000001,53.547924000000002,126.763733,142.970001,19.659064999999998,73.438637,135.30349699999999,357.97387700000002,127.25865899999999,46.956291,167.87919600000001,142.99697900000001,59.256866000000002,42.749001,253.76654099999999,159.26693700000001,308.09310900000003,427.14001500000001,51.032649999999997,156.56324799999999,173.77145400000001,106.63808400000001,60.376167000000002,50.467419,137.64631700000001,73.061638000000002,149.57350199999999,4515.5498049999997]
["2022-02-01",290.14334100000002,46.510142999999999,205.33999600000001,184.16119399999999,53.960228000000001,138.99321,148.46000699999999,17.09301,74.239249999999998,135.057007,308.07913200000002,116.72125200000001,45.879050999999997,160.35685699999999,137.27130099999999,60.451523000000002,45.897067999999997,239.408096,142.6035,296.01629600000001,394.51998900000001,45.809181000000002,152.93504300000001,164.16722100000001,106.724121,59.799511000000003,51.497646000000003,133.06826799999999,75.427764999999994,153.56300400000001,4373.9399409999996]
["2022-03-01",359.20001200000002,43.543529999999997,191.5,218.758926,53.950546000000003,158.81861900000001,137.16000399999999,16.460294999999999,71.122298999999998,139.06750500000001,291.98406999999997,125.36855300000001,48.031162000000002,173.80126999999999,131.966309,60.218414000000003,56.519657000000002,243.20858799999999,144.204758,306.07946800000002,374.58999599999999,50.522820000000003,149.903595,173.82363899999999,114.088554,54.896545000000003,48.878143000000001,146.61531099999999,80.319305,162.99749800000001,4530.4101559999999]
["2022-04-01",290.25332600000002,37.739716000000001,148.83999600000001,206.70271299999999,47.390560000000001,152.81037900000001,111.629997,13.783428000000001,57.999232999999997,114.109497,294.79620399999999,127.48020200000001,42.245322999999999,176.968796,115.54795799999999,63.233784,53.160201999999998,245.05761699999999,139.691101,275.51223800000002,190.36000100000001,47.887863000000003,157.50671399999999,156.94000199999999,104.762207,46.812130000000003,44.425953,151.20488,82.906181000000004,124.281502,4131.9301759999998]
["2022-05-01",252.75332599999999,38.506256,131.39999399999999,212.93222,43.886589000000001,170.35720800000001,110.44000200000001,13.404792,60.908923999999999,113.762001,297.10235599999999,133.87301600000001,43.049717000000001,176.05677800000001,128.95574999999999,62.029986999999998,52.184871999999999,248.05740399999999,144.601868,269.90313700000002,197.44000199999999,51.762225999999998,145.89080799999999,148.169678,102.58026099999999,48.157921000000002,49.813231999999999,127.12912799999999,93.360625999999996,120.209503,4132.1499020000001]
["2022-06-01",224.47332800000001,31.617339999999999,136.720001,176.34359699999999,41.538826,142.375,94.400002000000001,10.906091,49.534694999999999,108.962997,269.153595,137.79039,36.542560999999999,175.194458,109.821594,61.569996000000003,46.809401999999999,242.81516999999999,126.612892,255.56575000000001,174.86999499999999,51.584187,141.85580400000001,136.30424500000001,93.512259999999998,46.396751000000002,49.288780000000003,120.59815999999999,84.138572999999994,106.209999,3785.3798830000001]
["2022-07-01",297.14999399999999,36.097126000000003,159.30999800000001,195.57012900000001,44.198321999999997,161.05938699999999,106.099998,14.394472,57.569983999999998,116.32,297.19125400000001,127.640793,35.468066999999998,172.243469,112.503502,63.256905000000003,45.929188000000003,260.469269,140.143967,279.358093,224.89999399999999,49.695160000000001,137.04145800000001,162.01580799999999,97.724609000000001,49.370525000000001,44.860076999999997,130.98361199999999,95.230637000000002,134.949997,4130.2900390000004]
["2022-08-01",275.60998499999999,38.038367999999998,160.25,183.48228499999999,43.957217999999997,155.43441799999999,112.08000199999999,14.933408,57.203892000000003,108.220001,284.82720899999998,125.35714,31.179859,159.23539700000001,111.894966,60.831913,47.412689,249.50140400000001,121.662254,260.18292200000002,223.55999800000001,44.845638000000001,136.967941,156.74191300000001,93.580673000000004,45.819603000000001,41.117058,131.479568,93.914124000000001,126.769997,3955]
["2022-09-01",265.25,32.018794999999997,121.08000199999999,162.989395,39.317729999999997,142.567184,94.330001999999993,11.084137999999999,48.222938999999997,95.650002000000001,274.28066999999999,117.410133,25.426587999999999,162.31234699999999,102.813889,55.222878000000001,43.508491999999997,229.44776899999999,109.22110000000001,232.24548300000001,235.44000199999999,43.388126,125.360321,137.971115,84.820937999999998,43.031104999999997,37.340702,129.21289100000001,86.612746999999999,113,3585.6201169999999]
["2022-10-01",227.53999300000001,39.162906999999997,142.509995,215.021255,44.655106000000004,179.51139800000001,106.540001,13.231688999999999,60.682975999999996,94.510002,294.34927399999998,136.66061400000001,28.05114,172.854309,123.84891500000001,59.428519999999999,47.028953999999999,271.13299599999999,124.33414500000001,231.47766100000001,291.88000499999998,46.154418999999997,133.72099299999999,153.08604399999999,104.013931,44.266494999999999,36.750644999999999,141.795456,109.925072,102.44000200000001,3871.9799800000001]
["2022-11-01",194.699997,40.470001000000003,178.88000500000001,236.41000399999999,49.325890000000001,181.90289300000001,97.870002999999997,13.756207,67.046852000000001,100.989998,322.041718,147.145599,29.669284999999999,176.85845900000001,137.16679400000001,63.162044999999999,48.918461000000001,271.26226800000001,124.51205400000001,254.422989,305.52999899999998,49.703999000000003,149.16000399999999,147.784851,106.822174,46.262886000000002,38.979999999999997,151.847565,110.450844,96.540001000000004,4080.110107]
["2022-12-01",123.18,33.565353000000002,190.490005,239.55999800000001,47.262379000000003,179.490005,86.879997000000003,11.63,65.346703000000005,88.230002999999996,315.85998499999999,140.88999899999999,26.43,176.64999399999999,133.11672999999999,63.610000999999997,44.580002,263.52999899999998,119.91999800000001,239.820007,294.88000499999998,51.240001999999997,151.55999800000001,129.929993,99.459998999999996,43.029998999999997,39.400002000000001,141.25747699999999,110.300003,84,3839.5]
["2023-01-01",113.05999799999999,35.909999999999997,213,248.86000100000001,47.936988999999997,176.55999800000001,93.919998000000007,12.58,71.940002000000007,87.339995999999999,317.52999899999998,143.699997,28.73,180.25,136.92855800000001,63.400002000000001,45.740001999999997,269.47000100000002,126.720001,224.929993,315.54998799999998,50.919998,153.91999799999999,129.61999499999999,101.010002,45.860000999999997,42.189999,146.779999,110.529999,86.080001999999993,3895.080078]

{"sheet":"Returns & Stand Dev","index":2,"n_rows":66,"n_cols":64,"rows_kept":66,"cut":false,"hidden":false,"merged":[[1,64,1,65],[1,51,1,52],[1,53,1,54],[1,55,1,56],[1,57,1,58],[1,59,1,60],[1,61,1,62],[1,49,1,50],[1,25,1,26],[1,29,1,30],[1,31,1,32],[1,33,1,34],[1,35,1,36],[1,37,1,38],[1,39,1,40],[1,41,1,42],[1,43,1,44],[1,45,1,46],[1,47,1,48],[1,27,1,28],[1,23,1,24],[1,1,1,2],[1,3,1,4],[1,5,1,6],[1,7,1,8],[1,9,1,10],[1,11,1,12],[1,13,1,14],[1,15,1,16],[1,17,1,18],[1,19,1,20],[1,21,1,22],[0,1,0,2],[0,3,0,4],[0,5,0,6],[0,7,0,8],[0,9,0,10],[0,11,0,12],[0,35,0,36],[0,13,0,14],[0,15,0,16],[0,17,0,18],[0,19,0,20],[0,21,0,22],[0,23,0,24],[0,25,0,26],[0,27,0,28],[0,29,0,30],[0,31,0,32],[0,33,0,34],[0,59,0,60],[0,37,0,38],[0,39,0,40],[0,41,0,42],[0,43,0,44],[0,45,0,46],[0,47,0,48],[0,49,0,50],[0,51,0,52],[0,53,0,54],[0,55,0,56],[0,57,0,58]]}
[null,"_1",null,"_2",null,"_3",null,"_4",null,"_5",null,"_6",null,"_7",null,"_8",null,"_9",null,"_10",null,"_11",null,"_12",null,"_13",null,"_14",null,"_15",null,"_16",null,"_17",null,"_18",null,"_19",null,"_20",null,"_21",null,"_22",null,"_23",null,"_24",null,"_25",null,"_26",null,"_27",null,"_28",null,"_29",null,"_30",null,null,"Adj Close"]
[null,{"$f":"'price data'!B1","v":"TSLA"},null,{"$f":"'price data'!C1","v":"GM"},null,{"$f":"'price data'!D1","v":"BA"},null,{"$f":"'price data'!E1","v":"CAT"},null,{"$f":"'price data'!F1","v":"CSCO"},null,{"$f":"'price data'!G1","v":"CVX"},null,{"$f":"'price data'!H1","v":"DIS"},null,{"$f":"'price data'!I1","v":"F"},null,{"$f":"'price data'!J1","v":"GE"},null,{"$f":"'price data'!K1","v":"GOOGL"},null,{"$f":"'price data'!L1","v":"HD"},null,{"$f":"'price data'!M1","v":"IBM"},null,{"$f":"'price data'!N1","v":"INTC"},null,{"$f":"'price data'!O1","v":"JNJ"},null,{"$f":"'price data'!P1","v":"JPM"},null,{"$f":"'price data'!Q1","v":"KO"},null,{"$f":"'price data'!R1","v":"KR"},null,{"$f":"'price data'!S1","v":"MCD"},null,{"$f":"'price data'!T1","v":"MMM"},null,{"$f":"'price data'!U1","v":"MSFT"},null,{"$f":"'price data'!V1","v":"NFLX"},null,{"$f":"'price data'!W1","v":"PFE"},null,{"$f":"'price data'!X1","v":"PG"},null,{"$f":"'price data'!Y1","v":"AAPL"},null,{"$f":"'price data'!Z1","v":"PRU"},null,{"$f":"'price data'!AA1","v":"TFC"},null,{"$f":"'price data'!AB1","v":"VZ"},null,{"$f":"'price data'!AC1","v":"WMT"},null,{"$f":"'price data'!AD1","v":"XOM"},null,{"$f":"'price data'!AE1","v":"AMZN"},null,"GSPC"]
["Date","Adj. Close*","Return","Adj. Close*","Return","Adj. Close*","Return","Adj. Close*","Return","Adj. Close*","Return","Adj. Close*","Return","Adj. Close*","Return","Adj. Close*","Return","Adj. Close*","Return","Adj. Close*","Return","Adj. Close*","Return","Adj. Close*","Return","Adj. Close*","Return","Adj. Close*","Return","Adj. Close*","Return","Adj. Close*","Return","Adj. Close*","Return","Adj. Close*","Return","Adj. Close*","Return","Adj. Close*","Return","Adj. Close*","Return","Adj. Close*","Return","Adj. Close*","Return","Adj. Close*","Return","Adj. Close*","Return","Adj. Close*","Return","Adj. Close*","Return","Adj. Close*","Return","Adj. Close*","Return","Adj. Close*","Return",null,"Adj Close","Return"]
[{"$f":"'price data'!A2","v":"2018-01-01"},{"$f":"'price data'!B2","v":23.620667000000001},null,{"$f":"'price data'!C2","v":38.454295999999999},null,{"$f":"'price data'!D2","v":337.71209700000003},null,{"$f":"'price data'!E2","v":143.84570299999999},null,{"$f":"'price data'!F2","v":35.420872000000003},null,{"$f":"'price data'!G2","v":100.66915899999999},null,{"$f":"'price data'!H2","v":105.682121},null,{"$f":"'price data'!I2","v":9.0929090000000006},null,{"$f":"'price data'!J2","v":92.877510000000001},null,{"$f":"'price data'!K2","v":59.110999999999997},null,{"$f":"'price data'!L2","v":178.52822900000001},null,{"$f":"'price data'!M2","v":123.145607},null,{"$f":"'price data'!N2","v":41.910477},null,{"$f":"'price data'!O2","v":121.07635500000001},null,{"$f":"'price data'!P2","v":99.328957000000003},null,{"$f":"'price data'!Q2","v":40.592464},null,{"$f":"'price data'!R2","v":27.394542999999999},null,{"$f":"'price data'!S2","v":152.047729},null,{"$f":"'price data'!T2","v":211.622681},null,{"$f":"'price data'!U2","v":89.472320999999994},null,{"$f":"'price data'!V2","v":270.29998799999998},null,{"$f":"'price data'!W2","v":29.296534999999999},null,{"$f":"'price data'!X2","v":75.351096999999996},null,{"$f":"'price data'!Y2","v":39.802284},null,{"$f":"'price data'!Z2","v":94.011443999999997},null,{"$f":"'price data'!AA2","v":46.173386000000001},null,{"$f":"'price data'!AB2","v":43.035156000000001},null,{"$f":"'price data'!AC2","v":97.285042000000004},null,{"$f":"'price data'!AD2","v":67.124474000000006},null,{"$f":"'price data'!AE2","v":72.544501999999994},null,null,{"$f":"'price data'!AF2","v":2823.8100589999999}]
[{"$f":"'price data'!A3","v":"2018-02-01"},{"$f":"'price data'!B3","v":22.870667000000001},{"$f":"LN(B5/B4)","v":-3.2266876697024972E-2},{"$f":"'price data'!C3","v":35.679713999999997},{"$f":"LN(D5/D4)","v":-7.4888127244615355E-2},{"$f":"'price data'!D3","v":345.18353300000001},{"$f":"LN(F5/F4)","v":2.188250680525549E-2},{"$f":"'price data'!E3","v":137.277939},{"$f":"LN(H5/H4)","v":-4.6733595642518659E-2},{"$f":"'price data'!F3","v":38.468390999999997},{"$f":"LN(J5/J4)","v":8.2535640179928163E-2},{"$f":"'price data'!G3","v":89.883453000000003},{"$f":"LN(L5/L4)","v":-0.11332562220872362},{"$f":"'price data'!H3","v":100.323616},{"$f":"LN(N5/N4)","v":-5.2034609143264833E-2},{"$f":"'price data'!I3","v":9.0110860000000006},{"$f":"LN(P5/P4)","v":-9.0392818973112424E-3},{"$f":"'price data'!J3","v":81.045258000000004},{"$f":"LN(R5/R4)","v":-0.13627378886905223},{"$f":"'price data'!K3","v":55.195999},{"$f":"LN(T5/T4)","v":-6.8526563532357199E-2},{"$f":"'price data'!L3","v":161.97285500000001},{"$f":"LN(V5/V4)","v":-9.7317974910296576E-2},{"$f":"'price data'!M3","v":117.22530399999999},{"$f":"LN(X5/X4)","v":-4.9269693709741588E-2},{"$f":"'price data'!N3","v":42.911655000000003},{"$f":"LN(Z5/Z4)","v":2.3607623953712187E-2},{"$f":"'price data'!O3","v":113.79547100000001},{"$f":"LN(AB5/AB4)","v":-6.2018656627715794E-2},{"$f":"'price data'!P3","v":99.699630999999997},{"$f":"LN(AD5/AD4)","v":3.7248360378589703E-3},{"$f":"'price data'!Q3","v":36.865020999999999},{"$f":"LN(AF5/AF4)","v":-9.6319272527945032E-2},{"$f":"'price data'!R3","v":24.471015999999999},{"$f":"LN(AH5/AH4)","v":-0.11285443615348915},{"$f":"'price data'!S3","v":140.14265399999999},{"$f":"LN(AJ5/AJ4)","v":-8.1533617167761127E-2},{"$f":"'price data'!T3","v":198.959091},{"$f":"LN(AL5/AL4)","v":-6.1705651603475416E-2},{"$f":"'price data'!U3","v":88.304610999999994},{"$f":"LN(AN5/AN4)","v":-1.3136988927384565E-2},{"$f":"'price data'!V3","v":291.38000499999998},{"$f":"LN(AP5/AP4)","v":7.509586549828802E-2},{"$f":"'price data'!W3","v":28.719152000000001},{"$f":"LN(AR5/AR4)","v":-1.9905032362450198E-2},{"$f":"'price data'!X3","v":69.048775000000006},{"$f":"LN(AT5/AT4)","v":-8.734534476210061E-2},{"$f":"'price data'!Y3","v":42.343563000000003},{"$f":"LN(AV5/AV4)","v":6.1892116689662491E-2},{"$f":"'price data'!Z3","v":84.121314999999996},{"$f":"LN(AX5/AX4)","v":-0.11115653639839676},{"$f":"'price data'!AA3","v":45.470615000000002},{"$f":"LN(AZ5/AZ4)","v":-1.5337278348157594E-2},{"$f":"'price data'!AB3","v":38.429805999999999},{"$f":"LN(BB5/BB4)","v":-0.11318400662676216},{"$f":"'price data'!AC3","v":82.144737000000006},{"$f":"LN(BD5/BD4)","v":-0.16916246994691173},{"$f":"'price data'!AD3","v":58.236049999999999},{"$f":"LN(BF5/BF4)","v":-0.14204413788553436},{"$f":"'price data'!AE3","v":75.622497999999993},{"$f":"LN(BH5/BH4)","v":4.1553637266767293E-2},null,{"$f":"'price data'!AF3","v":2713.830078}]
[{"$f":"'price data'!A4","v":"2018-03-01"},{"$f":"'price data'!B4","v":17.742000999999998},{"$f":"LN(B6/B5)","v":-0.25392040599235394},{"$f":"'price data'!C4","v":32.950459000000002},-7.957710093585485E-2,{"$f":"'price data'!D4","v":314.00973499999998},-9.4652266678084657E-2,{"$f":"'price data'!E4","v":130.841476},-4.8021138954675788E-2,{"$f":"'price data'!F4","v":36.844788000000001},-4.312272072219616E-2,{"$f":"'price data'!G4","v":92.497756999999993},2.8670531106026572E-2,{"$f":"'price data'!H4","v":97.678405999999995},-2.6720609814133895E-2,{"$f":"'price data'!I4","v":9.4102580000000007},4.3344773764081475E-2,{"$f":"'price data'!J4","v":78.067420999999996},-3.7434914245399575E-2,{"$f":"'price data'!K4","v":51.856997999999997},-6.2400576954846791E-2,{"$f":"'price data'!L4","v":158.39158599999999},-2.2358400181344898E-2,{"$f":"'price data'!M4","v":116.55626700000001},-5.7236233258302367E-3,{"$f":"'price data'!N4","v":45.648212000000001},6.1820971336722055E-2,{"$f":"'price data'!O4","v":112.998688},-7.026514983768814E-3,{"$f":"'price data'!P4","v":94.926131999999996},-4.9062944606763831E-2,{"$f":"'price data'!Q4","v":37.044144000000003},4.847121482203288E-3,{"$f":"'price data'!R4","v":21.698077999999999},-0.12026571162632928,{"$f":"'price data'!S4","v":139.81329299999999},-2.3529498514667331E-3,{"$f":"'price data'!T4","v":186.54428100000001},-6.4430588190344029E-2,{"$f":"'price data'!U4","v":86.354073},-2.2336353971483806E-2,{"$f":"'price data'!V4","v":295.35000600000001},1.3532839682552355E-2,{"$f":"'price data'!W4","v":28.330627},-1.3620771668666419E-2,{"$f":"'price data'!X4","v":69.717117000000002},9.6327297477062177E-3,{"$f":"'price data'!Y4","v":40.048107000000002},-5.5735007788464221E-2,{"$f":"'price data'!Z4","v":82.609093000000001},-1.8140223928361763E-2,{"$f":"'price data'!AA4","v":43.806609999999999},-3.7281573908663553E-2,{"$f":"'price data'!AB4","v":38.494197999999997},1.6741722139190865E-3,{"$f":"'price data'!AC4","v":81.195601999999994},-1.1621693558354589E-2,{"$f":"'price data'!AD4","v":57.953823},-4.8580405120044676E-3,{"$f":"'price data'!AE4","v":72.366996999999998},-4.400347858374884E-2,null,{"$f":"'price data'!AF4","v":2640.8701169999999},{"$f":"LN(BK6/BK5)","v":-2.725249739187887E-2}]
[{"$f":"'price data'!A5","v":"2018-04-01"},{"$f":"'price data'!B5","v":19.593332},9.9254537810477217E-2,{"$f":"'price data'!C5","v":33.651997000000001},2.1067209492055202E-2,{"$f":"'price data'!D5","v":319.44949300000002},1.7175191331882032E-2,{"$f":"'price data'!E5","v":128.16037},-2.0704113228279041E-2,{"$f":"'price data'!F5","v":38.047462000000003},3.2120210005976618E-2,{"$f":"'price data'!G5","v":101.476608},9.2643913291236613E-2,{"$f":"'price data'!H5","v":97.571426000000002},-1.0958269168236667E-3,{"$f":"'price data'!I5","v":9.5461449999999992},1.4337037214317261E-2,{"$f":"'price data'!J5","v":81.484322000000006},4.2837808513249011E-2,{"$f":"'price data'!K5","v":50.929001},-1.8057366271132757E-2,{"$f":"'price data'!L5","v":165.15759299999999},4.1829767882412203E-2,{"$f":"'price data'!M5","v":110.12185700000001},-5.6786591395990904E-2,{"$f":"'price data'!N5","v":45.245029000000002},-8.871630936806485E-3,{"$f":"'price data'!O5","v":111.534958},-1.3038141600203994E-2,{"$f":"'price data'!P5","v":93.898940999999994},-1.0879923055520803E-2,{"$f":"'price data'!Q5","v":37.181835},3.7100529974066266E-3,{"$f":"'price data'!R5","v":22.831018},5.0896364803578502E-2,{"$f":"'price data'!S5","v":149.70162999999999},6.8336268693609772E-2,{"$f":"'price data'!T5","v":165.18924000000001},-0.1215769167431214,{"$f":"'price data'!U5","v":88.482864000000006},2.4352934166510798E-2,{"$f":"'price data'!V5","v":312.459991},5.631531811194506E-2,{"$f":"'price data'!W5","v":29.224691},3.1070488549753757E-2,{"$f":"'price data'!X5","v":63.614215999999999},-9.1608901296746426E-2,{"$f":"'price data'!Y5","v":39.446606000000003},-1.5133395841965267E-2,{"$f":"'price data'!Z5","v":84.818916000000002},2.6398824746249602E-2,{"$f":"'price data'!AA5","v":44.483241999999997},1.5327814738716772E-2,{"$f":"'price data'!AB5","v":39.725830000000002},3.1494077209856357E-2,{"$f":"'price data'!AC5","v":81.211487000000005},1.9561954035965758E-4,{"$f":"'price data'!AD5","v":60.392845000000001},4.122409938473931E-2,{"$f":"'price data'!AE5","v":78.306503000000006},7.8880298988370054E-2,null,{"$f":"'price data'!AF5","v":2648.0500489999999},2.7150859477301889E-3]
[{"$f":"'price data'!A6","v":"2018-05-01"},{"$f":"'price data'!B6","v":18.981999999999999},-3.1698142564001566E-2,{"$f":"'price data'!C6","v":39.111057000000002},0.15033281419737765,{"$f":"'price data'!D6","v":337.26266500000003},5.4262868181995098E-2,{"$f":"'price data'!E6","v":135.54216},5.6000365503854801E-2,{"$f":"'price data'!F6","v":36.985111000000003},-2.8318954122721559E-2,{"$f":"'price data'!G6","v":100.819649},-6.4950416706325547E-3,{"$f":"'price data'!H6","v":96.735061999999999},-8.608762104670464E-3,{"$f":"'price data'!I6","v":9.9410399999999992},4.0534234885422446E-2,{"$f":"'price data'!J6","v":81.542229000000006},7.1039965061047718E-4,{"$f":"'price data'!K6","v":55},7.6900659686397504E-2,{"$f":"'price data'!L6","v":166.721619},9.4253422453445552E-3,{"$f":"'price data'!M6","v":107.349052},-2.5501850195020048E-2,{"$f":"'price data'!N6","v":48.382911999999997},6.7053885774056854E-2,{"$f":"'price data'!O6","v":105.477226},-5.5843004110419675E-2,{"$f":"'price data'!P6","v":92.839493000000004},-1.1346987812210106E-2,{"$f":"'price data'!Q6","v":37.001133000000003},-4.8718017700534319E-3,{"$f":"'price data'!R6","v":22.051558},-3.4736793005643779E-2,{"$f":"'price data'!S6","v":143.05874600000001},-4.5388822720952432E-2,{"$f":"'price data'!T6","v":167.6026},1.4503975260439249E-2,{"$f":"'price data'!U6","v":93.516327000000004},5.5327135224054302E-2,{"$f":"'price data'!V6","v":351.60000600000001},0.11801775069579845,{"$f":"'price data'!W6","v":28.68187},-1.8748718325433907E-2,{"$f":"'price data'!X6","v":64.939528999999993},2.0619546418282387E-2,{"$f":"'price data'!Y6","v":44.604773999999999},0.1228928830186209,{"$f":"'price data'!Z6","v":77.256050000000002},-9.3393354096733425E-2,{"$f":"'price data'!AA6","v":44.230494999999998},-5.6980506602750391E-3,{"$f":"'price data'!AB6","v":38.856288999999997},-2.2131663113771408E-2,{"$f":"'price data'!AC6","v":75.776580999999993},-6.9267415552175138E-2,{"$f":"'price data'!AD6","v":63.103729000000001},4.3909226814079987E-2,{"$f":"'price data'!AE6","v":81.481003000000001},3.9739249141300483E-2,null,{"$f":"'price data'!AF6","v":2705.2700199999999},2.1378191291432879E-2]
[{"$f":"'price data'!A7","v":"2018-06-01"},{"$f":"'price data'!B7","v":22.863333000000001},0.18604328655543501,{"$f":"'price data'!C7","v":36.088420999999997},-8.0433148772412949E-2,{"$f":"'price data'!D7","v":322.91992199999999},-4.3457675145363084E-2,{"$f":"'price data'!E7","v":121.051964},-0.11306282788298078,{"$f":"'price data'!F7","v":37.262211000000001},7.4642769354279336E-3,{"$f":"'price data'!G7","v":103.44149},2.5672871649218897E-2,{"$f":"'price data'!H7","v":101.92823799999999},5.2293094601422375E-2,{"$f":"'price data'!I7","v":9.5279050000000005},-4.244678157161736E-2,{"$f":"'price data'!J7","v":78.820296999999997},-3.3950493455226154E-2,{"$f":"'price data'!K7","v":56.459499000000001},2.6190364014713821E-2,{"$f":"'price data'!L7","v":175.339035},5.039597314190921E-2,{"$f":"'price data'!M7","v":107.304085},-4.1897361749514166E-4,{"$f":"'price data'!N7","v":43.822375999999998},-9.9002139017856719E-2,{"$f":"'price data'!O7","v":107.787384},2.1665557771438988E-2,{"$f":"'price data'!P7","v":90.401611000000003},-2.661003234733636E-2,{"$f":"'price data'!Q7","v":37.741168999999999},1.9802980756411848E-2,{"$f":"'price data'!R7","v":25.917583},0.16153836168627972,{"$f":"'price data'!S7","v":140.090439},-2.096715018602827E-2,{"$f":"'price data'!T7","v":168.31251499999999},4.226758637607143E-3,{"$f":"'price data'!U7","v":93.703117000000006},1.9954130616695129E-3,{"$f":"'price data'!V7","v":391.42999300000002},0.10731249919616447,{"$f":"'price data'!W7","v":29.243974999999999},1.9408353717123482E-2,{"$f":"'price data'!X7","v":69.279480000000007},6.4692244652724995E-2,{"$f":"'price data'!Y7","v":44.355060999999999},-5.614076417021531E-3,{"$f":"'price data'!Z7","v":75.260765000000006},-2.6166279987542052E-2,{"$f":"'price data'!AA7","v":42.787140000000001},-3.3176893167902288E-2,{"$f":"'price data'!AB7","v":41.008175000000001},5.3901494338077262E-2,{"$f":"'price data'!AC7","v":79.127121000000002},4.3266398664882161E-2,{"$f":"'price data'!AD7","v":64.912445000000005},2.8259497402666311E-2,{"$f":"'price data'!AE7","v":84.989998},4.2163677926245341E-2,null,{"$f":"'price data'!AF7","v":2718.3701169999999},4.830749144322073E-3]
[{"$f":"'price data'!A8","v":"2018-07-01"},{"$f":"'price data'!B8","v":19.875999},-0.14002152483559654,{"$f":"'price data'!C8","v":35.026637999999998},-2.9863208240943878E-2,{"$f":"'price data'!D8","v":342.92971799999998},6.0121149399310972E-2,{"$f":"'price data'!E8","v":128.305969},5.8197886358816647E-2,{"$f":"'price data'!F8","v":36.621409999999997},-1.7346661132370208E-2,{"$f":"'price data'!G8","v":103.31057699999999},-1.2663768676668022E-3,{"$f":"'price data'!H8","v":110.437668},8.0182254643259787E-2,{"$f":"'price data'!I8","v":8.6413899999999995},-9.766141188450779E-2,{"$f":"'price data'!J8","v":79.636757000000003},1.0305217784612429E-2,{"$f":"'price data'!K8","v":61.360999999999997},8.3250904941077036E-2,{"$f":"'price data'!L8","v":177.51393100000001},1.2327647790489671E-2,{"$f":"'price data'!M8","v":111.321259},3.6753526590001154E-2,{"$f":"'price data'!N8","v":42.403053},-3.2924190151214963E-2,{"$f":"'price data'!O8","v":117.718681},8.8137098663040356E-2,{"$f":"'price data'!P8","v":99.728058000000004},9.8184973612425994E-2,{"$f":"'price data'!Q8","v":40.482070999999998},7.0107670184295354E-2,{"$f":"'price data'!R8","v":26.418628999999999},1.9147786562662937E-2,{"$f":"'price data'!S8","v":141.74513200000001},1.1742392963603961E-2,{"$f":"'price data'!T8","v":181.65982099999999},7.6313363024566955E-2,{"$f":"'price data'!U8","v":100.801407},7.3020859440371941E-2,{"$f":"'price data'!V8","v":337.45001200000002},-0.14838929532179396,{"$f":"'price data'!W8","v":32.186115000000001},9.5861578817471801E-2,{"$f":"'price data'!X8","v":71.782272000000006},3.5488779037026894E-2,{"$f":"'price data'!Y8","v":45.596255999999997},2.759879064702999E-2,{"$f":"'price data'!Z8","v":81.216599000000002},7.6160697582947245E-2,{"$f":"'price data'!AA8","v":43.100994},7.3084693400837864E-3,{"$f":"'price data'!AB8","v":42.092281},2.6092937636558462E-2,{"$f":"'price data'!AC8","v":82.434471000000002},4.0948001023103794E-2,{"$f":"'price data'!AD8","v":63.955204000000002},-1.4856461086586423E-2,{"$f":"'price data'!AE8","v":88.872001999999995},4.4663575805342422E-2,null,{"$f":"'price data'!AF8","v":2816.290039},3.5387950784307211E-2]
[{"$f":"'price data'!A9","v":"2018-08-01"},{"$f":"'price data'!B9","v":20.110665999999998},1.1737397659852662E-2,{"$f":"'price data'!C9","v":33.308112999999999},-5.0307856778659003E-2,{"$f":"'price data'!D9","v":329.92666600000001},-3.8655116857566646E-2,{"$f":"'price data'!E9","v":124.64896400000001},-2.8916295648334266E-2,{"$f":"'price data'!F9","v":41.689284999999998},0.12961109929476275,{"$f":"'price data'!G9","v":96.920661999999993},-6.3847035677318378E-2,{"$f":"'price data'!H9","v":109.81568900000001},-5.6478653657280773E-3,{"$f":"'price data'!I9","v":8.2741030000000002},-4.3432932909841807E-2,{"$f":"'price data'!J9","v":75.605239999999995},-5.1950164670716517E-2,{"$f":"'price data'!K9","v":61.59},3.7250655106901513E-3,{"$f":"'price data'!L9","v":180.434753},1.6320142856430346E-2,{"$f":"'price data'!M9","v":112.51181},1.0637947581042806E-2,{"$f":"'price data'!N9","v":42.693976999999997},6.837492058700192E-3,{"$f":"'price data'!O9","v":119.646286},1.6242054588397985E-2,{"$f":"'price data'!P9","v":99.947265999999999},2.1956452472235146E-3,{"$f":"'price data'!Q9","v":38.693671999999999},-4.5183112283777339E-2,{"$f":"'price data'!R9","v":28.696096000000001},8.2691680396341463E-2,{"$f":"'price data'!S9","v":145.964935},2.9335821763249503E-2,{"$f":"'price data'!T9","v":180.462006},-6.6155601749543144E-3,{"$f":"'price data'!U9","v":106.74041},5.7247498134474259E-2,{"$f":"'price data'!V9","v":367.67999300000002},8.5795588871857884E-2,{"$f":"'price data'!W9","v":33.467747000000003},3.9047050573035064E-2,{"$f":"'price data'!X9","v":74.287582},3.4306267022423183E-2,{"$f":"'price data'!Y9","v":54.543467999999997},0.17917235386819064,{"$f":"'price data'!Z9","v":79.075699},-2.6714038596955973E-2,{"$f":"'price data'!AA9","v":43.822032999999998},1.6590667942845142E-2,{"$f":"'price data'!AB9","v":44.831333000000001},6.3042917568863877E-2,{"$f":"'price data'!AC9","v":88.559546999999995},7.1671486395765288E-2,{"$f":"'price data'!AD9","v":62.903782},-1.6576611704219583E-2,{"$f":"'price data'!AE9","v":100.635498},0.12430790346355912,null,{"$f":"'price data'!AF9","v":2901.5200199999999},2.9814314708128044E-2]
[{"$f":"'price data'!A10","v":"2018-09-01"},{"$f":"'price data'!B10","v":17.651333000000001},-0.13043901648116538,{"$f":"'price data'!C10","v":31.109124999999999},-6.8299816436675681E-2,{"$f":"'price data'!D10","v":359.71298200000001},8.6436035714771403E-2,{"$f":"'price data'!E10","v":136.89390599999999},9.3704718396173198E-2,{"$f":"'price data'!F10","v":42.457267999999999},1.8253969944183636E-2,{"$f":"'price data'!G10","v":101.00527200000001},4.1279987198226828E-2,{"$f":"'price data'!H10","v":114.638885},4.2983651438083963E-2,{"$f":"'price data'!I10","v":8.0733610000000002},-2.4560640225146615E-2,{"$f":"'price data'!J10","v":65.964698999999996},-0.13640585765333982,{"$f":"'price data'!K10","v":60.353999999999999},-2.0272294318695757E-2,{"$f":"'price data'!L10","v":187.122818},3.6395948817968551E-2,{"$f":"'price data'!M10","v":117.39975699999999},4.2526643632704524E-2,{"$f":"'price data'!N10","v":41.942528000000003},-1.7757556178566225E-2,{"$f":"'price data'!O10","v":123.555573},3.2151265323627068E-2,{"$f":"'price data'!P10","v":98.429458999999994},-1.5302567561217709E-2,{"$f":"'price data'!Q10","v":40.100090000000002},3.5702506245088833E-2,{"$f":"'price data'!R10","v":26.643630999999999},-7.4210950455230795E-2,{"$f":"'price data'!S10","v":151.45721399999999},3.6936747591245357E-2,{"$f":"'price data'!T10","v":181.49070699999999},5.6841887507889412E-3,{"$f":"'price data'!U10","v":109.097122},2.1838701015044024E-2,{"$f":"'price data'!V10","v":374.13000499999998},1.7390368343007438E-2,{"$f":"'price data'!W10","v":35.825684000000003},6.8082867399255148E-2,{"$f":"'price data'!X10","v":74.538337999999996},3.3697925373255143E-3,{"$f":"'price data'!Y10","v":54.280293},-4.8367288658269936E-3,{"$f":"'price data'!Z10","v":82.296233999999998},3.9919738357482734E-2,{"$f":"'price data'!AA10","v":41.498550000000002},-5.4478240564411182E-2,{"$f":"'price data'!AB10","v":44.023262000000003},-1.8189116244592567E-2,{"$f":"'price data'!AC10","v":87.261962999999994},-1.476050977971617E-2,{"$f":"'price data'!AD10","v":67.397316000000004},6.8998906082051628E-2,{"$f":"'price data'!AE10","v":100.150002},-4.8359761653838486E-3,null,{"$f":"'price data'!AF10","v":2913.9799800000001},4.2850929639178534E-3]
[{"$f":"'price data'!A11","v":"2018-10-01"},{"$f":"'price data'!B11","v":22.488001000000001},0.24217057346556436,{"$f":"'price data'!C11","v":34.17503},9.3994075934800511E-2,{"$f":"'price data'!D11","v":343.23138399999999},-4.6901632583014372E-2,{"$f":"'price data'!E11","v":108.91185},-0.22866737761369818,{"$f":"'price data'!F11","v":39.926406999999998},-6.1460176736897715E-2,{"$f":"'price data'!G11","v":92.224700999999996},-9.0944712092330501E-2,{"$f":"'price data'!H11","v":112.570404},-1.8208218135220774E-2,{"$f":"'price data'!I11","v":8.3351989999999994},3.191751477183797E-2,{"$f":"'price data'!J11","v":59.574283999999999},-0.10189573085101961,{"$f":"'price data'!K11","v":54.528998999999999},-0.10149457347855459,{"$f":"'price data'!L11","v":158.87597700000001},-0.16364130303786198,{"$f":"'price data'!M11","v":89.620086999999998},-0.270005357422196,{"$f":"'price data'!N11","v":41.578896},-8.7075693919864989E-3,{"$f":"'price data'!O11","v":125.18302199999999},1.3085803780430996E-2,{"$f":"'price data'!P11","v":95.097313},-3.443942465103466E-2,{"$f":"'price data'!Q11","v":41.920845},4.4404618553344037E-2,{"$f":"'price data'!R11","v":27.23856},2.2083481264717791E-2,{"$f":"'price data'!S11","v":160.157715},5.5855879261143167E-2,{"$f":"'price data'!T11","v":163.87651099999999},-0.10209128880838964,{"$f":"'price data'!U11","v":101.88565800000001},-6.8387328528892025E-2,{"$f":"'price data'!V11","v":301.77999899999998},-0.21490507219327085,{"$f":"'price data'!W11","v":35.004623000000002},-2.3184927863102511E-2,{"$f":"'price data'!X11","v":79.419196999999997},6.3426517799551732E-2,{"$f":"'price data'!Y11","v":52.625968999999998},-3.0951527754039084E-2,{"$f":"'price data'!Z11","v":76.171936000000002},-7.7332246326794293E-2,{"$f":"'price data'!AA11","v":42.028602999999997},1.2691923434199679E-2,{"$f":"'price data'!AB11","v":47.074126999999997},6.7005353462611231E-2,{"$f":"'price data'!AC11","v":93.181006999999994},6.5629249938961381E-2,{"$f":"'price data'!AD11","v":63.164169000000001},-6.4868000991377295E-2,{"$f":"'price data'!AE11","v":79.900497000000001},-0.22588700905364459,null,{"$f":"'price data'!AF11","v":2711.73999},-7.1929345879864132E-2]
[{"$f":"'price data'!A12","v":"2018-11-01"},{"$f":"'price data'!B12","v":23.365334000000001},3.8271592863340545E-2,{"$f":"'price data'!C12","v":35.445270999999998},3.6494584481637997E-2,{"$f":"'price data'!D12","v":335.39679000000001},-2.3090529972979799E-2,{"$f":"'price data'!E12","v":122.570396},0.1181466867087978,{"$f":"'price data'!F12","v":42.058987000000002},5.2035150786381754E-2,{"$f":"'price data'!G12","v":98.246368000000004},6.3250281738495756E-2,{"$f":"'price data'!H12","v":113.217415},5.7311574543791209E-3,{"$f":"'price data'!I12","v":8.3605490000000007},3.0367036541955245E-3,{"$f":"'price data'!J12","v":44.238323000000001},-0.29763255482447631,{"$f":"'price data'!K12","v":55.482498},1.7334967765642511E-2,{"$f":"'price data'!L12","v":162.886765},2.4931387164758921E-2,{"$f":"'price data'!M12","v":96.483481999999995},7.3792342586079418E-2,{"$f":"'price data'!N12","v":43.734119},5.0535821768710243E-2,{"$f":"'price data'!O12","v":131.36218299999999},4.8181421577359419E-2,{"$f":"'price data'!P12","v":97.669394999999994},2.6687540429162576E-2,{"$f":"'price data'!Q12","v":44.127200999999999},5.1293197776897788E-2,{"$f":"'price data'!R12","v":27.147031999999999},-3.3658946440051399E-3,{"$f":"'price data'!S12","v":170.66890000000001},6.3566373741158949E-2,{"$f":"'price data'!T12","v":179.08760100000001},8.8761914705691711E-2,{"$f":"'price data'!U12","v":105.777557},3.7487185774282658E-2,{"$f":"'price data'!V12","v":286.13000499999998},-5.3252001297351706E-2,{"$f":"'price data'!W12","v":37.581608000000003},7.1034643306161632E-2,{"$f":"'price data'!X12","v":85.388274999999993},7.2468681438057583E-2,{"$f":"'price data'!Y12","v":42.940452999999998},-0.20339536313559839,{"$f":"'price data'!Z12","v":76.155700999999993},-2.1315895632885174E-4,{"$f":"'price data'!AA12","v":43.687182999999997},3.8704353586180587E-2,{"$f":"'price data'!AB12","v":50.271926999999998},6.5723280475524892E-2,{"$f":"'price data'!AC12","v":90.737212999999997},-2.6576353734541681E-2,{"$f":"'price data'!AD12","v":63.021495999999999},-2.2613196324213548E-3,{"$f":"'price data'!AE12","v":84.508499},5.6070036158740566E-2,null,{"$f":"'price data'!AF12","v":2760.169922},1.7701752187834409E-2]
[{"$f":"'price data'!A13","v":"2018-12-01"},{"$f":"'price data'!B13","v":22.186665999999999},-5.1761993138965158E-2,{"$f":"'price data'!C13","v":31.242273000000001},-0.12621776331831275,{"$f":"'price data'!D13","v":313.37222300000002},-6.7922583829774633E-2,{"$f":"'price data'!E13","v":114.80078899999999},-6.548716947059266E-2,{"$f":"'price data'!F13","v":38.070113999999997},-9.9643520469757066E-2,{"$f":"'price data'!G13","v":90.740547000000007},-7.9473980714834094E-2,{"$f":"'price data'!H13","v":107.492332},-5.1890481901645663E-2,{"$f":"'price data'!I13","v":6.7968330000000003},-0.20706732639732361,{"$f":"'price data'!J13","v":44.651218},9.2901361618473316E-3,{"$f":"'price data'!K13","v":52.248001000000002},-6.0065987927499585E-2,{"$f":"'price data'!L13","v":156.13694799999999},-4.2321772203731289E-2,{"$f":"'price data'!M13","v":89.377624999999995},-7.6501451496825482E-2,{"$f":"'price data'!N13","v":41.885185},-4.3196368167841025E-2,{"$f":"'price data'!O13","v":116.13507799999999},-0.12320428485963203,{"$f":"'price data'!P13","v":85.749488999999997},-0.13015812826774231,{"$f":"'price data'!Q13","v":41.784621999999999},-5.4548017925276727E-2,{"$f":"'price data'!R13","v":25.282837000000001},-7.1141935720481067E-2,{"$f":"'price data'!S13","v":161.75573700000001},-5.3638021155952426E-2,{"$f":"'price data'!T13","v":165.23843400000001},-8.0485591829985381E-2,{"$f":"'price data'!U13","v":97.305808999999996},-8.3479680905501646E-2,{"$f":"'price data'!V13","v":267.66000400000001},-6.6728737161920584E-2,{"$f":"'price data'!W13","v":35.758076000000003},-4.973863606142917E-2,{"$f":"'price data'!X13","v":83.048255999999995},-2.7786959845864059E-2,{"$f":"'price data'!Y13","v":38.061706999999998},-0.12060563090035667,{"$f":"'price data'!Z13","v":66.899590000000003},-0.12958710337081059,{"$f":"'price data'!AA13","v":37.337314999999997},-0.15706153516178736,{"$f":"'price data'!AB13","v":46.870452999999998},-7.005933305273826E-2,{"$f":"'price data'!AC13","v":86.555756000000002},-4.717877531452952E-2,{"$f":"'price data'!AD13","v":54.603763999999998},-0.1433730564393895,{"$f":"'price data'!AE13","v":75.098502999999994},-0.11805148403765606,null,{"$f":"'price data'!AF13","v":2506.8500979999999},-9.6265219766061866E-2]
[{"$f":"'price data'!A14","v":"2019-01-01"},{"$f":"'price data'!B14","v":20.468},-8.062878685392065E-2,{"$f":"'price data'!C14","v":36.827849999999998},0.16448227082173322,{"$f":"'price data'!D14","v":374.70575000000002},0.17874935644008164,{"$f":"'price data'!E14","v":120.302773},4.6813316737388852E-2,{"$f":"'price data'!F14","v":41.549408},8.7453708432083485E-2,{"$f":"'price data'!G14","v":95.628296000000006},5.2464457096425644E-2,{"$f":"'price data'!H14","v":110.17353799999999},2.4637226050920214E-2,{"$f":"'price data'!I14","v":7.8185779999999996},0.14004592819026129,{"$f":"'price data'!J14","v":60.010620000000003},0.29563996077361521,{"$f":"'price data'!K14","v":56.294497999999997},7.4595172164893878E-2,{"$f":"'price data'!L14","v":166.77809099999999},6.5930638436428629E-2,{"$f":"'price data'!M14","v":105.69317599999999},0.1676699595041807,{"$f":"'price data'!N14","v":42.054760000000002},4.0403941339145566E-3,{"$f":"'price data'!O14","v":119.76177199999999},3.0750557101587382E-2,{"$f":"'price data'!P14","v":90.914490000000001},5.8489267575630402E-2,{"$f":"'price data'!Q14","v":42.472946},1.6338931427156197E-2,{"$f":"'price data'!R14","v":26.045918},2.973527118104757E-2,{"$f":"'price data'!S14","v":162.858002},6.7912666905837193E-3,{"$f":"'price data'!T14","v":173.70242300000001},4.9954137128234509E-2,{"$f":"'price data'!U14","v":100.045731},2.7768702091149552E-2,{"$f":"'price data'!V14","v":339.5},0.23775641368619019,{"$f":"'price data'!W14","v":34.775042999999997},-2.7876171396651078E-2,{"$f":"'price data'!X14","v":87.159087999999997},4.8313210065441779E-2,{"$f":"'price data'!Y14","v":40.160961},5.3686693281311225E-2,{"$f":"'price data'!Z14","v":75.587090000000003},0.12209266284201395,{"$f":"'price data'!AA14","v":42.060496999999998},0.11911575793162479,{"$f":"'price data'!AB14","v":45.903357999999997},-2.0849203486943659E-2,{"$f":"'price data'!AC14","v":89.531981999999999},3.3807117910599961E-2,{"$f":"'price data'!AD14","v":58.679619000000002},7.1989642307465532E-2,{"$f":"'price data'!AE14","v":85.936501000000007},0.13480803791673834,null,{"$f":"'price data'!AF14","v":2704.1000979999999},7.5742151976753658E-2]
[{"$f":"'price data'!A15","v":"2019-02-01"},{"$f":"'price data'!B15","v":21.325333000000001},4.1033017787772068E-2,{"$f":"'price data'!C15","v":37.262011999999999},1.1720010212654822E-2,{"$f":"'price data'!D15","v":427.507721},0.13183129774071337,{"$f":"'price data'!E15","v":124.87738},3.7320622424618401E-2,{"$f":"'price data'!F15","v":45.837757000000003},9.8224866838896599E-2,{"$f":"'price data'!G15","v":99.740341000000001},4.2101459474694479E-2,{"$f":"'price data'!H15","v":111.477608},1.1767004778045199E-2,{"$f":"'price data'!I15","v":7.9276720000000003},1.3856727230830243E-2,{"$f":"'price data'!J15","v":63.823898},6.1606150457426408E-2,{"$f":"'price data'!K15","v":56.327499000000003},5.8604893934771499E-4,{"$f":"'price data'!L15","v":168.24115},8.7342344674582895E-3,{"$f":"'price data'!M15","v":108.610313},2.7226035442291741E-2,{"$f":"'price data'!N15","v":47.266983000000003},0.11683943934659599,{"$f":"'price data'!O15","v":122.96550000000001},2.639929196238357E-2,{"$f":"'price data'!P15","v":92.414360000000002},1.6362983407721285E-2,{"$f":"'price data'!Q15","v":40.010868000000002},-5.9716191320977906E-2,{"$f":"'price data'!R15","v":26.965294},3.4689574487760576E-2,{"$f":"'price data'!S15","v":167.467331},2.7909625678700457E-2,{"$f":"'price data'!T15","v":179.850967},3.47849243422792E-2,{"$f":"'price data'!U15","v":107.32666},7.0249689576635507E-2,{"$f":"'price data'!V15","v":358.10000600000001},5.3338346760732409E-2,{"$f":"'price data'!W15","v":35.822468000000001},2.9675319985669715E-2,{"$f":"'price data'!X15","v":89.742583999999994},2.9210347921616385E-2,{"$f":"'price data'!Y15","v":41.780040999999997},3.9523333078676774E-2,{"$f":"'price data'!Z15","v":78.630600000000001},3.9475435242283523E-2,{"$f":"'price data'!AA15","v":43.930816999999998},4.3507068926503335E-2,{"$f":"'price data'!AB15","v":47.949299000000003},4.3605908395478031E-2,{"$f":"'price data'!AC15","v":92.484283000000005},3.2442814336008478E-2,{"$f":"'price data'!AD15","v":63.283980999999997},7.5539771941739386E-2,{"$f":"'price data'!AE15","v":81.991501},-4.6993067514913667E-2,null,{"$f":"'price data'!AF15","v":2784.48999},2.9295553154109054E-2]
[{"$f":"'price data'!A16","v":"2019-03-01"},{"$f":"'price data'!B16","v":18.657333000000001},-0.13365644957133618,{"$f":"'price data'!C16","v":35.015720000000002},-6.2177259129920379E-2,{"$f":"'price data'!D16","v":372.48657200000002},-0.13777136018472347,{"$f":"'price data'!E16","v":123.195274},-1.3561605872124623E-2,{"$f":"'price data'!F16","v":47.803375000000003},4.1988103554687572E-2,{"$f":"'price data'!G16","v":103.77589399999999},3.9663489692367999E-2,{"$f":"'price data'!H16","v":109.68946099999999},-1.6170454056950563E-2,{"$f":"'price data'!I16","v":7.936712},1.1396598794440633E-3,{"$f":"'price data'!J16","v":61.366764000000003},-3.9259311352696752E-2,{"$f":"'price data'!K16","v":58.844501000000001},4.3715535544750182E-2,{"$f":"'price data'!L16","v":174.375046},3.5810049530662177E-2,{"$f":"'price data'!M16","v":112.23825100000001},3.2857486834116482E-2,{"$f":"'price data'!N16","v":48.231231999999999},2.019476008947968E-2,{"$f":"'price data'!O16","v":126.634598},2.9401930090765881E-2,{"$f":"'price data'!P16","v":89.642639000000003},-3.0451289346442284E-2,{"$f":"'price data'!Q16","v":41.352218999999998},3.2974966664895737E-2,{"$f":"'price data'!R16","v":22.726513000000001},-0.17101841524704142,{"$f":"'price data'!S16","v":174.088989},3.8778306076123759E-2,{"$f":"'price data'!T16","v":181.434967},8.7687341271314116E-3,{"$f":"'price data'!U16","v":113.47107699999999},5.5670895223026227E-2,{"$f":"'price data'!V16","v":356.55999800000001},-4.3097707303370219E-3,{"$f":"'price data'!W16","v":35.095280000000002},-2.0508645819849031E-2,{"$f":"'price data'!X16","v":94.75103},5.4307320187932648E-2,{"$f":"'price data'!Y16","v":46.030349999999999},9.688222407821688E-2,{"$f":"'price data'!Z16","v":76.182968000000002},-3.1623016001053855E-2,{"$f":"'price data'!AA16","v":40.427773000000002},-8.3099056307629843E-2,{"$f":"'price data'!AB16","v":49.811000999999997},3.8091681422074572E-2,{"$f":"'price data'!AC16","v":91.120247000000006},-1.4858686721526661E-2,{"$f":"'price data'!AD16","v":65.419655000000006},3.3190516126795383E-2,{"$f":"'price data'!AE16","v":89.037497999999999},8.2442011290889891E-2,null,{"$f":"'price data'!AF16","v":2834.3999020000001},1.7765510853122508E-2]
[{"$f":"'price data'!A17","v":"2019-04-01"},{"$f":"'price data'!B17","v":15.912667000000001},-0.15912380043687596,{"$f":"'price data'!C17","v":37.126617000000003},5.8537048217808585E-2,{"$f":"'price data'!D17","v":368.84387199999998},-9.8275454550572888E-3,{"$f":"'price data'!E17","v":126.768677},2.8593294699065994E-2,{"$f":"'price data'!F17","v":49.538784},3.5659634238965912E-2,{"$f":"'price data'!G17","v":101.147369},-2.5655156293084215E-2,{"$f":"'price data'!H17","v":135.31626900000001},0.20996148028741046,{"$f":"'price data'!I17","v":9.4463150000000002},0.17412563466645581,{"$f":"'price data'!J17","v":62.538654000000001},1.8916443908134722E-2,{"$f":"'price data'!K17","v":59.948002000000002},1.8579164756160178E-2,{"$f":"'price data'!L17","v":186.48542800000001},6.7144685608110724E-2,{"$f":"'price data'!M17","v":111.578011},-5.8998565095500742E-3,{"$f":"'price data'!N17","v":45.842120999999999},-5.0803437052099498E-2,{"$f":"'price data'!O17","v":127.911903},1.0036010834733449E-2,{"$f":"'price data'!P17","v":102.766251},0.13662591297268961,{"$f":"'price data'!Q17","v":43.671574},5.4571326023012005E-2,{"$f":"'price data'!R17","v":23.816648000000001},4.6852615437441195E-2,{"$f":"'price data'!S17","v":181.12039200000001},3.9595359810696722E-2,{"$f":"'price data'!T17","v":165.481461},-9.2038110541387344E-2,{"$f":"'price data'!U17","v":125.65141300000001},0.10196353319624631,{"$f":"'price data'!V17","v":370.540009},3.8458902381595876E-2,{"$f":"'price data'!W17","v":33.558253999999998},-4.4783794471149489E-2,{"$f":"'price data'!X17","v":96.963852000000003},2.3085534638800576E-2,{"$f":"'price data'!Y17","v":48.628117000000003},5.4900941174940307E-2,{"$f":"'price data'!Z17","v":87.650229999999993},0.14021631478824612,{"$f":"'price data'!AA17","v":44.485320999999999},9.5642270309872962E-2,{"$f":"'price data'!AB17","v":48.176749999999998},-3.3359323713619708E-2,{"$f":"'price data'!AC17","v":96.598236},5.838045033577248E-2,{"$f":"'price data'!AD17","v":64.998633999999996},-6.4564941895060594E-3,{"$f":"'price data'!AE17","v":96.325996000000004},7.8680623611546902E-2,null,{"$f":"'price data'!AF17","v":2945.830078},3.8560397496415821E-2]
[{"$f":"'price data'!A18","v":"2019-05-01"},{"$f":"'price data'!B18","v":12.343999999999999},-0.25394534366154559,{"$f":"'price data'!C18","v":31.779237999999999},-0.15552096825303649,{"$f":"'price data'!D18","v":333.60891700000002},-0.10040404364898403,{"$f":"'price data'!E18","v":109.59845},-0.14554075259495136,{"$f":"'price data'!F18","v":46.359637999999997},-6.6326667952901916E-2,{"$f":"'price data'!G18","v":95.915604000000002},-5.3109872589703962E-2,{"$f":"'price data'!H18","v":130.445786},-3.6657064354080969E-2,{"$f":"'price data'!I18","v":8.7436950000000007},-7.7291849161987086E-2,{"$f":"'price data'!J18","v":58.049644000000001},-7.4486254091489748E-2,{"$f":"'price data'!K18","v":55.325001},-8.0252649132871917E-2,{"$f":"'price data'!L18","v":173.80592300000001},-7.0413810330776094E-2,{"$f":"'price data'!M18","v":101.01442},-9.9460717555777206E-2,{"$f":"'price data'!N18","v":39.555},-0.1475112324962258,{"$f":"'price data'!O18","v":118.807686},-7.3835667343494241E-2,{"$f":"'price data'!P18","v":94.549216999999999},-8.3336487716671265E-2,{"$f":"'price data'!Q18","v":43.733891},1.4259293868858437E-3,{"$f":"'price data'!R18","v":21.072831999999998},-0.12240020404610467,{"$f":"'price data'!S18","v":181.7621},3.5367298397961386E-3,{"$f":"'price data'!T18","v":139.49482699999999},-0.1708316522791567,{"$f":"'price data'!U18","v":118.993584},-5.4441933758024891E-2,{"$f":"'price data'!V18","v":343.27999899999998},-7.6414987640546717E-2,{"$f":"'price data'!W18","v":34.310242000000002},2.2161056158801151E-2,{"$f":"'price data'!X18","v":94.374474000000006},-2.7067615210928552E-2,{"$f":"'price data'!Y18","v":42.424503000000001},-0.13647580645101146,{"$f":"'price data'!Z18","v":76.597565000000003},-0.13478894770728744,{"$f":"'price data'!AA18","v":40.618923000000002},-9.0925227817933954E-2,{"$f":"'price data'!AB18","v":46.256042000000001},-4.0684446271941774E-2,{"$f":"'price data'!AC18","v":95.283195000000006},-1.3707022951748655E-2,{"$f":"'price data'!AD18","v":57.298873999999998},-0.12608528172244454,{"$f":"'price data'!AE18","v":88.753501999999997},-8.1875343721610483E-2,null,{"$f":"'price data'!AF18","v":2752.0600589999999},-6.8040893892824417E-2]
[{"$f":"'price data'!A19","v":"2019-06-01"},{"$f":"'price data'!B19","v":14.897333},0.18801208858075266,{"$f":"'price data'!C19","v":36.726275999999999},0.14467928270379204,{"$f":"'price data'!D19","v":357.526611},6.9240395983781178E-2,{"$f":"'price data'!E19","v":124.67383599999999},0.12887778303614467,{"$f":"'price data'!F19","v":48.765388000000002},5.0591588933022943E-2,{"$f":"'price data'!G19","v":105.868866},9.8732535237453206E-2,{"$f":"'price data'!H19","v":137.95404099999999},5.5962885960056899E-2,{"$f":"'price data'!I19","v":9.3957990000000002},7.1929805281535641E-2,{"$f":"'price data'!J19","v":64.567931999999999},0.10641930338742824,{"$f":"'price data'!K19","v":54.139999000000003},-2.1651638296601185E-2,{"$f":"'price data'!L19","v":190.39456200000001},9.1159269372811061E-2,{"$f":"'price data'!M19","v":110.99580400000001},9.4229119868530692E-2,{"$f":"'price data'!N19","v":43.258259000000002},8.9496066211649281E-2,{"$f":"'price data'!O19","v":127.035889},6.6963535283100353E-2,{"$f":"'price data'!P19","v":99.760292000000007},5.3649714654809229E-2,{"$f":"'price data'!Q19","v":45.327297000000002},3.5786094505372672E-2,{"$f":"'price data'!R19","v":20.167814},-4.3896660584135223E-2,{"$f":"'price data'!S19","v":191.485107},5.2111346198226036E-2,{"$f":"'price data'!T19","v":152.65679900000001},9.016473984936689E-2,{"$f":"'price data'!U19","v":129.36116000000001},8.3538606760274178E-2,{"$f":"'price data'!V19","v":367.32000699999998},6.7686984032078998E-2,{"$f":"'price data'!W19","v":36.115172999999999},5.1269171561990956E-2,{"$f":"'price data'!X19","v":100.555466},6.3438841711852212E-2,{"$f":"'price data'!Y19","v":48.146408000000001},0.12652043899285231,{"$f":"'price data'!Z19","v":84.616234000000006},9.956085172683031E-2,{"$f":"'price data'!AA19","v":43.048285999999997},5.8088374143325086E-2,{"$f":"'price data'!AB19","v":48.622044000000002},4.9884915053043918E-2,{"$f":"'price data'!AC19","v":104.335258},9.0755891755812654E-2,{"$f":"'price data'!AD19","v":62.754596999999997},9.0950861724979029E-2,{"$f":"'price data'!AE19","v":94.681503000000006},6.4655772312536386E-2,null,{"$f":"'price data'!AF19","v":2941.76001},6.6658301495081035E-2]
[{"$f":"'price data'!A20","v":"2019-07-01"},{"$f":"'price data'!B20","v":16.107332},7.8092368410707491E-2,{"$f":"'price data'!C20","v":38.863605},5.6565742379915511E-2,{"$f":"'price data'!D20","v":335.10318000000001},-6.4771311324646474E-2,{"$f":"'price data'!E20","v":120.44760100000001},-3.4486203229754146E-2,{"$f":"'price data'!F20","v":49.362366000000002},1.2167513079266707E-2,{"$f":"'price data'!G20","v":104.73735000000001},-1.0745427261705484E-2,{"$f":"'price data'!H20","v":141.283356},2.3846897363968996E-2,{"$f":"'price data'!I20","v":8.7528780000000008},-7.0880113911323608E-2,{"$f":"'price data'!J20","v":64.322304000000003},-3.8114337435714964E-3,{"$f":"'price data'!K20","v":60.91},0.11782409913286995,{"$f":"'price data'!L20","v":197.00340299999999},3.4122441675443559E-2,{"$f":"'price data'!M20","v":119.318466},7.2303704582831432E-2,{"$f":"'price data'!N20","v":45.680069000000003},5.4473901169485896E-2,{"$f":"'price data'!O20","v":118.772369},-6.7260841387016768E-2,{"$f":"'price data'!P20","v":103.50799600000001},3.6878637367619996E-2,{"$f":"'price data'!Q20","v":47.215198999999998},4.0806419678066211E-2,{"$f":"'price data'!R20","v":19.656880999999998},-2.5660512178077719E-2,{"$f":"'price data'!S20","v":194.306793},1.4628281810703693E-2,{"$f":"'price data'!T20","v":153.87214700000001},7.9297853232319394E-3,{"$f":"'price data'!U20","v":131.59184300000001},1.7096851235599949E-2,{"$f":"'price data'!V20","v":322.98998999999998},-0.1286120897719141,{"$f":"'price data'!W20","v":32.380268000000001},-0.10916385681543594,{"$f":"'price data'!X20","v":108.249573},7.3729946546495867E-2,{"$f":"'price data'!Y20","v":51.824542999999998},7.3617304891282612E-2,{"$f":"'price data'!Z20","v":84.875953999999993},3.0646864182400069E-3,{"$f":"'price data'!AA20","v":45.151184000000001},4.7694087306376691E-2,{"$f":"'price data'!AB20","v":47.039036000000003},-3.3099198133832566E-2,{"$f":"'price data'!AC20","v":104.23138400000001},-9.9607499638737474E-4,{"$f":"'price data'!AD20","v":60.895603000000001},-3.0070862511854788E-2,{"$f":"'price data'!AE20","v":93.338997000000006},-1.4280664241588773E-2,null,{"$f":"'price data'!AF20","v":2980.3798830000001},1.3042724816945116E-2]
[{"$f":"'price data'!A21","v":"2019-08-01"},{"$f":"'price data'!B21","v":15.040666999999999},-6.8516906109732323E-2,{"$f":"'price data'!C21","v":35.732551999999998},-8.3996114502682018E-2,{"$f":"'price data'!D21","v":357.605164},6.4990999508172928E-2,{"$f":"'price data'!E21","v":109.695099},-9.3510121991525613E-2,{"$f":"'price data'!F21","v":41.971747999999998},-0.16219158672281733,{"$f":"'price data'!G21","v":100.151741},-4.4769341901728807E-2,{"$f":"'price data'!H21","v":136.44253499999999},-3.4863953847134845E-2,{"$f":"'price data'!I21","v":8.5479430000000001},-2.3691891366609277E-2,{"$f":"'price data'!J21","v":50.780777},-0.23638856766548744,{"$f":"'price data'!K21","v":59.526501000000003},-2.2975756497718047E-2,{"$f":"'price data'!L21","v":210.11300700000001},6.4424511849173E-2,{"$f":"'price data'!M21","v":109.088173},-8.9639621548999293E-2,{"$f":"'price data'!N21","v":42.842579000000001},-6.4129631339973708E-2,{"$f":"'price data'!O21","v":117.07589},-1.4386438696303135E-2,{"$f":"'price data'!P21","v":98.723220999999995},-4.7328678501457562E-2,{"$f":"'price data'!Q21","v":49.377251000000001},4.4773958587108871E-2,{"$f":"'price data'!R21","v":21.997871},0.11251822081398927,{"$f":"'price data'!S21","v":200.99211099999999},3.3827341360448321E-2,{"$f":"'price data'!T21","v":142.423294},-7.7318476248611351E-2,{"$f":"'price data'!U21","v":133.127274},1.1600584320440989E-2,{"$f":"'price data'!V21","v":293.75},-9.489226657199136E-2,{"$f":"'price data'!W21","v":29.637450999999999},-8.8510426849940455E-2,{"$f":"'price data'!X21","v":110.971977},2.4838287677549635E-2,{"$f":"'price data'!Y21","v":50.778519000000003},-2.0390429319374723E-2,{"$f":"'price data'!Z21","v":67.098151999999999},-0.23503432325983162,{"$f":"'price data'!AA21","v":41.751488000000002},-7.8281411837628989E-2,{"$f":"'price data'!AB21","v":50.019680000000001},6.1438717804881471E-2,{"$f":"'price data'!AC21","v":107.895248},3.4547556525914687E-2,{"$f":"'price data'!AD21","v":56.080322000000002},-8.2375987273592036E-2,{"$f":"'price data'!AE21","v":88.814498999999998},-4.9688081106002029E-2,null,{"$f":"'price data'!AF21","v":2926.459961},-1.825728178481683E-2]
[{"$f":"'price data'!A22","v":"2019-09-01"},{"$f":"'price data'!B22","v":16.058001000000001},6.5449564094158627E-2,{"$f":"'price data'!C22","v":36.108275999999996},1.0459997084262674E-2,{"$f":"'price data'!D22","v":376.02526899999998},5.0226862008011332E-2,{"$f":"'price data'!E22","v":116.43351699999999},5.9615750691018002E-2,{"$f":"'price data'!F22","v":44.303009000000003},5.405587272000284E-2,{"$f":"'price data'!G22","v":101.937653},1.767493541494506E-2,{"$f":"'price data'!H22","v":129.543869},-5.1883956442039032E-2,{"$f":"'price data'!I22","v":8.5386190000000006},-1.0913840859851024E-3,{"$f":"'price data'!J22","v":55.027884999999998},8.03221792922027E-2,{"$f":"'price data'!K22","v":61.056998999999998},2.5386229369591472E-2,{"$f":"'price data'!L22","v":213.90209999999999},1.7872919162335254E-2,{"$f":"'price data'!M22","v":118.427803},8.2147035688662412E-2,{"$f":"'price data'!N22","v":46.880062000000002},9.0060023278958734E-2,{"$f":"'price data'!O22","v":118.89048},1.5380376202485377E-2,{"$f":"'price data'!P22","v":105.759491},6.8847376049614106E-2,{"$f":"'price data'!Q22","v":48.838977999999997},-1.0961088502879258E-2,{"$f":"'price data'!R22","v":24.116098000000001},9.1933908362796246E-2,{"$f":"'price data'!S22","v":199.032883},-9.79560625290604E-3,{"$f":"'price data'!T22","v":146.10833700000001},2.5544813723054897E-2,{"$f":"'price data'!U22","v":134.70414700000001},1.1775251868397703E-2,{"$f":"'price data'!V22","v":267.61999500000002},-9.3161020264733635E-2,{"$f":"'price data'!W22","v":30.234486},1.9944395335982763E-2,{"$f":"'price data'!X22","v":114.802391},3.3934601215087873E-2,{"$f":"'price data'!Y22","v":54.690398999999999},7.4214762172927676E-2,{"$f":"'price data'!Z22","v":76.288719},0.12836857415488862,{"$f":"'price data'!AA22","v":47.218811000000002},0.12305725995156216,{"$f":"'price data'!AB22","v":51.911751000000002},3.7128652740552347E-2,{"$f":"'price data'!AC22","v":112.62069700000001},4.2864678245558813E-2,{"$f":"'price data'!AD22","v":58.543616999999998},4.298708166016639E-2,{"$f":"'price data'!AE22","v":86.795501999999999},-2.299511364981853E-2,null,{"$f":"'price data'!AF22","v":2976.73999},1.7035250490979523E-2]
[{"$f":"'price data'!A23","v":"2019-10-01"},{"$f":"'price data'!B23","v":20.994667},0.26806122305435814,{"$f":"'price data'!C23","v":36.159312999999997},1.4124453075336127E-3,{"$f":"'price data'!D23","v":335.93911700000001},-0.11272640177914113,{"$f":"'price data'!E23","v":127.025085},8.7064146055158192E-2,{"$f":"'price data'!F23","v":42.599392000000002},-3.9212617121969807E-2,{"$f":"'price data'!G23","v":99.823265000000006},-2.0960108917270966E-2,{"$f":"'price data'!H23","v":129.146255},-3.0740586997868554E-3,{"$f":"'price data'!I23","v":8.0072869999999998},-6.4247283037250885E-2,{"$f":"'price data'!J23","v":61.495761999999999},0.11112820511752847,{"$f":"'price data'!K23","v":62.939999},3.0374038027846578E-2,{"$f":"'price data'!L23","v":217.58277899999999},1.7060937513026907E-2,{"$f":"'price data'!M23","v":108.90763099999999},-8.3803416572744843E-2,{"$f":"'price data'!N23","v":51.428879000000002},9.2607395139034515E-2,{"$f":"'price data'!O23","v":121.334801},2.035094184157054E-2,{"$f":"'price data'!P23","v":112.256561},5.96194114947435E-2,{"$f":"'price data'!Q23","v":49.187023000000003},7.101104992193792E-3,{"$f":"'price data'!R23","v":23.049675000000001},-4.5227914750882545E-2,{"$f":"'price data'!S23","v":182.337906},-8.7608460229686533E-2,{"$f":"'price data'!T23","v":146.63269},3.5823715325597814E-3,{"$f":"'price data'!U23","v":138.90907300000001},3.0738698125047828E-2,{"$f":"'price data'!V23","v":287.41000400000001},7.134173647457151E-2,{"$f":"'price data'!W23","v":32.287711999999999},6.5703530993619461E-2,{"$f":"'price data'!X23","v":114.922394},1.0447545824486914E-3,{"$f":"'price data'!Y23","v":60.743771000000002},0.10497636898561166,{"$f":"'price data'!Z23","v":77.297989000000001},1.3142862961375722E-2,{"$f":"'price data'!AA23","v":46.935699},-6.0137927167771676E-3,{"$f":"'price data'!AB23","v":52.006359000000003},1.8208188378034465E-3,{"$f":"'price data'!AC23","v":111.273186},-1.2037195946902893E-2,{"$f":"'price data'!AD23","v":56.023108999999998},-4.4007799839030318E-2,{"$f":"'price data'!AE23","v":88.832999999999998},2.3203402538443885E-2,null,{"$f":"'price data'!AF23","v":3037.5600589999999},2.0225842365795155E-2]
[{"$f":"'price data'!A24","v":"2019-11-01"},{"$f":"'price data'!B24","v":21.995999999999999},4.6592165554463855E-2,{"$f":"'price data'!C24","v":35.030548000000003},-3.1714055628713142E-2,{"$f":"'price data'!D24","v":361.90222199999999},7.4444126228630433E-2,{"$f":"'price data'!E24","v":134.46186800000001},5.6896062912670166E-2,{"$f":"'price data'!F24","v":40.934494000000001},-3.9866899181209441E-2,{"$f":"'price data'!G24","v":100.674179},8.4880793676895671E-3,{"$f":"'price data'!H24","v":150.67726099999999},0.15419468323227564,{"$f":"'price data'!I24","v":8.5840040000000002},6.9548469226566587E-2,{"$f":"'price data'!J24","v":69.444618000000006},0.12156130972813509,{"$f":"'price data'!K24","v":65.204498000000001},3.5346578535011365E-2,{"$f":"'price data'!L24","v":204.53228799999999},-6.1853520674508562E-2,{"$f":"'price data'!M24","v":109.493996},5.3696157572742376E-3,{"$f":"'price data'!N24","v":52.811714000000002},2.6533159233890914E-2,{"$f":"'price data'!O24","v":126.34296399999999},4.0446470649445239E-2,{"$f":"'price data'!P24","v":119.35163900000001},6.1287110606563354E-2,{"$f":"'price data'!Q24","v":48.256241000000003},-1.9104661974198685E-2,{"$f":"'price data'!R24","v":25.575415},0.10397986892983165,{"$f":"'price data'!S24","v":180.27998400000001},-1.1350482978400155E-2,{"$f":"'price data'!T24","v":150.88090500000001},2.8560064695203117E-2,{"$f":"'price data'!U24","v":146.66989100000001},5.4364854092074331E-2,{"$f":"'price data'!V24","v":314.66000400000001},9.0582921856204271E-2,{"$f":"'price data'!W24","v":32.413929000000003},3.9015134130584118E-3,{"$f":"'price data'!X24","v":113.380714},-1.3505759493878108E-2,{"$f":"'price data'!Y24","v":65.258780999999999},7.1696069876918539E-2,{"$f":"'price data'!Z24","v":79.401343999999995},2.6847355330937902E-2,{"$f":"'price data'!AA24","v":48.413218999999998},3.0994337651767366E-2,{"$f":"'price data'!AB24","v":52.347633000000002},6.5407218282665363E-3,{"$f":"'price data'!AC24","v":113.00975800000001},1.5485856151928204E-2,{"$f":"'price data'!AD24","v":56.487414999999999},8.253603650157107E-3,{"$f":"'price data'!AE24","v":90.040001000000004},1.3495824559172798E-2,null,{"$f":"'price data'!AF24","v":3140.9799800000001},3.3480265788399043E-2]
[{"$f":"'price data'!A25","v":"2019-12-01"},{"$f":"'price data'!B25","v":27.888666000000001},0.2373597510861874,{"$f":"'price data'!C25","v":35.614390999999998},1.6529316926430365E-2,{"$f":"'price data'!D25","v":323.83331299999998},-0.11114515300859509,{"$f":"'price data'!E25","v":137.20257599999999},2.0177841073875036E-2,{"$f":"'price data'!F25","v":43.328589999999998},5.6839612565864131E-2,{"$f":"'price data'!G25","v":104.59994500000001},3.8253674067858914E-2,{"$f":"'price data'!H25","v":143.76864599999999},-4.6934822493698944E-2,{"$f":"'price data'!I25","v":8.8113960000000002},2.6145412383360808E-2,{"$f":"'price data'!J25","v":68.766777000000005},-9.8088357297248189E-3,{"$f":"'price data'!K25","v":66.969498000000002},2.6708807717056186E-2,{"$f":"'price data'!L25","v":202.556625},-9.7063734633490457E-3,{"$f":"'price data'!M25","v":110.44937899999999},8.687590693670956E-3,{"$f":"'price data'!N25","v":54.748947000000001},3.60251134685384E-2,{"$f":"'price data'!O25","v":134.97221400000001},6.6068789333142378E-2,{"$f":"'price data'!P25","v":126.272141},5.6365341627187378E-2,{"$f":"'price data'!Q25","v":50.392021},4.3307682481723127E-2,{"$f":"'price data'!R25","v":27.280224},6.4530505595239124E-2,{"$f":"'price data'!S25","v":184.35539199999999},2.2354263892496277E-2,{"$f":"'price data'!T25","v":158.14840699999999},4.704305997377236E-2,{"$f":"'price data'!U25","v":153.31317100000001},4.4298276597285101E-2,{"$f":"'price data'!V25","v":323.57000699999998},2.7922791950275732E-2,{"$f":"'price data'!W25","v":33.287936999999999},2.6606841282970268E-2,{"$f":"'price data'!X25","v":116.018776},2.3000733793799685E-2,{"$f":"'price data'!Y25","v":71.920569999999998},9.7201703743623788E-2,{"$f":"'price data'!Z25","v":80.349441999999996},1.1869852480136391E-2,{"$f":"'price data'!AA25","v":50.237976000000003},3.6998338457347263E-2,{"$f":"'price data'!AB25","v":53.355651999999999},1.9073192634866686E-2,{"$f":"'price data'!AC25","v":112.772522},-2.1014588682992529E-3,{"$f":"'price data'!AD25","v":58.553165},3.5917274966241329E-2,{"$f":"'price data'!AE25","v":92.391998000000001},2.5786346021183883E-2,null,{"$f":"'price data'!AF25","v":3230.780029},2.8188756355889417E-2]
[{"$f":"'price data'!A26","v":"2020-01-01"},{"$f":"'price data'!B26","v":43.371333999999997},0.44157834623136993,{"$f":"'price data'!C26","v":32.839404999999999},-8.1120631475913724E-2,{"$f":"'price data'!D26","v":316.38757299999997},-2.3260958470331862E-2,{"$f":"'price data'!E26","v":122.031136},-0.1171822653390476,{"$f":"'price data'!F26","v":41.530766},-4.2378192287141903E-2,{"$f":"'price data'!G26","v":92.995079000000004},-0.11759644804329748,{"$f":"'price data'!H26","v":138.30999800000001},-3.8707854393677583E-2,{"$f":"'price data'!I26","v":8.3566120000000002},-5.2992801897465525E-2,{"$f":"'price data'!J26","v":76.785194000000004},0.11029109924226087,{"$f":"'price data'!K26","v":71.638999999999996},6.7402356412606418E-2,{"$f":"'price data'!L26","v":212.92550700000001},4.9922895057277164E-2,{"$f":"'price data'!M26","v":118.433975},6.9798324904129766E-2,{"$f":"'price data'!N26","v":58.481209},6.5947353327490785E-2,{"$f":"'price data'!O26","v":137.74809300000001},2.0357668985143931E-2,{"$f":"'price data'!P26","v":119.895157},-5.1821757812265334E-2,{"$f":"'price data'!Q26","v":53.168816},5.3639210019600078E-2,{"$f":"'price data'!R26","v":25.275845},-7.6312847492253408E-2,{"$f":"'price data'!S26","v":199.61802700000001},7.9540302466307208E-2,{"$f":"'price data'!T26","v":142.227768},-0.10610410441794457,{"$f":"'price data'!U26","v":165.494629},7.645604242755176E-2,{"$f":"'price data'!V26","v":345.08999599999999},6.4389745510162785E-2,{"$f":"'price data'!W26","v":31.639686999999999},-5.078282879551433E-2,{"$f":"'price data'!X26","v":115.75868199999999},-2.2443434440992324E-3,{"$f":"'price data'!Y26","v":75.805008000000001},5.260204346276922E-2,{"$f":"'price data'!Z26","v":78.052261000000001},-2.9006532390383741E-2,{"$f":"'price data'!AA26","v":46.000934999999998},-8.8109512354732286E-2,{"$f":"'price data'!AB26","v":51.652442999999998},-3.2442420453644448E-2,{"$f":"'price data'!AC26","v":109.13191999999999},-3.2815284432228212E-2,{"$f":"'price data'!AD26","v":52.125591},-0.11627912676063168,{"$f":"'price data'!AE26","v":100.435997},8.3480305689690906E-2,null,{"$f":"'price data'!AF26","v":3225.5200199999999},-1.6294193652275938E-3]
[{"$f":"'price data'!A27","v":"2020-02-01"},{"$f":"'price data'!B27","v":44.532665000000001},2.642424887366697E-2,{"$f":"'price data'!C27","v":29.997064999999999},-9.0529622728663245E-2,{"$f":"'price data'!D27","v":273.48284899999999},-0.1457290483174096,{"$f":"'price data'!E27","v":116.235207},-4.8660440529294621E-2,{"$f":"'price data'!F27","v":36.339230000000001},-0.13353662799968011,{"$f":"'price data'!G27","v":81.016991000000004},-0.13788767966792187,{"$f":"'price data'!H27","v":117.650002},-0.16178339600339975,{"$f":"'price data'!I27","v":6.7064830000000004},-0.21997841129485932,{"$f":"'price data'!J27","v":67.102249},-0.13479427455504667,{"$f":"'price data'!K27","v":66.962502000000001},-6.7506827338245798E-2,{"$f":"'price data'!L27","v":203.348038},-4.6023388227211255E-2,{"$f":"'price data'!M27","v":107.244011},-9.9248917543760307E-2,{"$f":"'price data'!N27","v":50.788006000000003},-0.14104526461675362,{"$f":"'price data'!O27","v":124.433167},-0.10165784349200925,{"$f":"'price data'!P27","v":105.850685},-0.12458820024260431,{"$f":"'price data'!Q27","v":48.698630999999999},-8.782114026148688E-2,{"$f":"'price data'!R27","v":26.470942999999998},4.619844424757074E-2,{"$f":"'price data'!S27","v":181.14610300000001},-9.7101770879380239E-2,{"$f":"'price data'!T27","v":133.78341699999999},-6.1207571268615306E-2,{"$f":"'price data'!U27","v":157.503265},-4.9492552908745449E-2,{"$f":"'price data'!V27","v":369.02999899999998},6.7072697854147087E-2,{"$f":"'price data'!W27","v":28.684201999999999},-9.8065732060381369E-2,{"$f":"'price data'!X27","v":105.803467},-8.9924408369503508E-2,{"$f":"'price data'!Y27","v":66.951156999999995},-0.12420100552621997,{"$f":"'price data'!Z27","v":64.672111999999998},-0.18804854211608085,{"$f":"'price data'!AA27","v":41.157330000000002},-0.11125968231236705,{"$f":"'price data'!AB27","v":47.554001},-8.2671565116894538E-2,{"$f":"'price data'!AC27","v":102.64063299999999},-6.132353819117746E-2,{"$f":"'price data'!AD27","v":43.163882999999998},-0.1886519142785324,{"$f":"'price data'!AE27","v":94.1875},-6.4233202468866962E-2,null,{"$f":"'price data'!AF27","v":2954.219971},-8.7859536953221323E-2]
[{"$f":"'price data'!A28","v":"2020-03-01"},{"$f":"'price data'!B28","v":34.933334000000002},-0.24278146253399085,{"$f":"'price data'!C28","v":20.437344},-0.38373572794201172,{"$f":"'price data'!D28","v":149.13999899999999},-0.60635345516160144,{"$f":"'price data'!E28","v":108.56353799999999},-6.8280179489166551E-2,{"$f":"'price data'!F28","v":35.774990000000003},-1.5648828053169875E-2,{"$f":"'price data'!G28","v":63.628726999999998},-0.24159384734861608,{"$f":"'price data'!H28","v":96.599997999999999},-0.19713541165840795,{"$f":"'price data'!I28","v":4.6540670000000004},-0.36533320950776704,{"$f":"'price data'!J28","v":48.969836999999998},-0.31501302341437359,{"$f":"'price data'!K28","v":58.097499999999997},-0.14201015740235781,{"$f":"'price data'!L28","v":174.288971},-0.15420430935423091,{"$f":"'price data'!M28","v":92.361159999999998},-0.14940017080007797,{"$f":"'price data'!N28","v":49.751133000000003},-2.0626987131052935E-2,{"$f":"'price data'!O28","v":122.107147},-1.8869847132895648E-2,{"$f":"'price data'!P28","v":82.075080999999997},-0.25439501869236503,{"$f":"'price data'!Q28","v":40.286312000000002},-0.1896391601583014,{"$f":"'price data'!R28","v":28.502528999999999},7.3945179339266837E-2,{"$f":"'price data'!S28","v":155.22456399999999},-0.1544310361299211,{"$f":"'price data'!T28","v":123.47996500000001},-8.0143285111385118E-2,{"$f":"'price data'!U28","v":153.74168399999999},-2.417237079060006E-2,{"$f":"'price data'!V28","v":375.5},1.7380532365193015E-2,{"$f":"'price data'!W28","v":28.014734000000001},-2.3615932190321352E-2,{"$f":"'price data'!X28","v":102.78531599999999},-2.8940785912008622E-2,{"$f":"'price data'!Y28","v":62.428359999999998},-6.9943694234402151E-2,{"$f":"'price data'!Z28","v":45.212296000000002},-0.3579609877941477,{"$f":"'price data'!AA28","v":27.738869000000001},-0.39456739745077574,{"$f":"'price data'!AB28","v":47.176440999999997},-7.9712918308789474E-3,{"$f":"'price data'!AC28","v":108.30265799999999},5.3695809167413913E-2,{"$f":"'price data'!AD28","v":32.318461999999997},-0.28936545801870189,{"$f":"'price data'!AE28","v":97.486000000000004},3.442130156350344E-2,null,{"$f":"'price data'!AF28","v":2584.5900879999999},-0.13366772472854824]
[{"$f":"'price data'!A29","v":"2020-04-01"},{"$f":"'price data'!B29","v":52.125332},0.40020954710043655,{"$f":"'price data'!C29","v":22.189878},8.227242335651172E-2,{"$f":"'price data'!D29","v":141.020004},-5.5983702754874305E-2,{"$f":"'price data'!E29","v":108.881615},2.9255858084798699E-3,{"$f":"'price data'!F29","v":38.568905000000001},7.5197335959098541E-2,{"$f":"'price data'!G29","v":80.787216000000001},0.23875368442927816,{"$f":"'price data'!H29","v":108.150002},0.11294045037736336,{"$f":"'price data'!I29","v":4.904598},5.2431671477325976E-2,{"$f":"'price data'!J29","v":41.980564000000001},-0.1539977878689035,{"$f":"'price data'!K29","v":67.334998999999996},0.14755751237870379,{"$f":"'price data'!L29","v":206.57856799999999},0.16996614005228067,{"$f":"'price data'!M29","v":104.542198},0.12388425455153729,{"$f":"'price data'!N29","v":55.138081},0.10280736545404404,{"$f":"'price data'!O29","v":139.715958},0.1347125768408797,{"$f":"'price data'!P29","v":87.298766999999998},6.1701888745082825E-2,{"$f":"'price data'!Q29","v":42.145809},4.5123490247164305E-2,{"$f":"'price data'!R29","v":29.912516},4.8284167947958409E-2,{"$f":"'price data'!S29","v":176.07446300000001},0.12603412236899222,{"$f":"'price data'!T29","v":137.41906700000001},0.1069562239879308,{"$f":"'price data'!U29","v":174.70069899999999},0.12780040085787489,{"$f":"'price data'!V29","v":419.85000600000001},0.11163904771620084,{"$f":"'price data'!W29","v":32.924179000000002},0.16147672580034197,{"$f":"'price data'!X29","v":110.139145},6.9102018605451593E-2,{"$f":"'price data'!Y29","v":72.128074999999995},0.14442369892801846,{"$f":"'price data'!Z29","v":54.083069000000002},0.17915209414338951,{"$f":"'price data'!AA29","v":33.567267999999999},0.19071678288742105,{"$f":"'price data'!AB29","v":50.442715},6.6943699348388147E-2,{"$f":"'price data'!AC29","v":116.374199},7.1881156009894073E-2,{"$f":"'price data'!AD29","v":39.553306999999997},0.20201066050747471,{"$f":"'price data'!AE29","v":123.699997},0.23815047719600116,null,{"$f":"'price data'!AF29","v":2912.429932},0.11942083884125214]
[{"$f":"'price data'!A30","v":"2020-05-01"},{"$f":"'price data'!B30","v":55.666668000000001},6.5730498297503104E-2,{"$f":"'price data'!C30","v":25.763752},0.14933230384648882,{"$f":"'price data'!D30","v":145.85000600000001},3.3676984796220159E-2,{"$f":"'price data'!E30","v":113.42184399999999},4.0852809532545095E-2,{"$f":"'price data'!F30","v":43.932322999999997},0.13020395429399784,{"$f":"'price data'!G30","v":80.523787999999996},-3.2660913098431529E-3,{"$f":"'price data'!H30","v":117.300003},8.1215610342975489E-2,{"$f":"'price data'!I30","v":5.502014},0.11494107455629919,{"$f":"'price data'!J30","v":40.560623},-3.4409030145754471E-2,{"$f":"'price data'!K30","v":71.676002999999994},6.2475859342295145E-2,{"$f":"'price data'!L30","v":233.501541},0.12250786204364837,{"$f":"'price data'!M30","v":103.99269099999999},-5.2701806830051231E-3,{"$f":"'price data'!N30","v":57.849936999999997},4.8011761947084237E-2,{"$f":"'price data'!O30","v":138.514725},-8.634852567426736E-3,{"$f":"'price data'!P30","v":89.633667000000003},2.6394658138752237E-2,{"$f":"'price data'!Q30","v":42.871357000000003},1.7068685046763853E-2,{"$f":"'price data'!R30","v":30.868276999999999},3.1452034121746235E-2,{"$f":"'price data'!S30","v":174.910416},-6.6330565079457914E-3,{"$f":"'price data'!T30","v":141.50762900000001},2.9318490649129433E-2,{"$f":"'price data'!U30","v":178.63902300000001},2.229292014025535E-2,{"$f":"'price data'!V30","v":419.73001099999999},-2.858452997627074E-4,{"$f":"'price data'!W30","v":32.778267},-4.4416075431275353E-3,{"$f":"'price data'!X30","v":109.039406},-1.0035181125666141E-2,{"$f":"'price data'!Y30","v":78.054473999999999},7.8963609313053434E-2,{"$f":"'price data'!Z30","v":52.860413000000001},-2.2866457148079982E-2,{"$f":"'price data'!AA30","v":33.081569999999999},-1.4575095763160493E-2,{"$f":"'price data'!AB30","v":50.923079999999999},9.4779229219855831E-3,{"$f":"'price data'!AC30","v":118.777306},2.0439509092594312E-2,{"$f":"'price data'!AD30","v":38.702148000000001},-2.1754204023004056E-2,{"$f":"'price data'!AE30","v":122.1185},-1.2867370355305958E-2,null,{"$f":"'price data'!AF30","v":3044.3100589999999},4.4286532959149118E-2]
[{"$f":"'price data'!A31","v":"2020-06-01"},{"$f":"'price data'!B31","v":71.987335000000002},0.25710865306482844,{"$f":"'price data'!C31","v":25.186357000000001},-2.2666083779209208E-2,{"$f":"'price data'!D31","v":183.300003},0.228545433760386,{"$f":"'price data'!E31","v":119.43615699999999},5.166797695335279E-2,{"$f":"'price data'!F31","v":42.848255000000002},-2.4985415410106657E-2,{"$f":"'price data'!G31","v":79.505142000000006},-1.2730945063707323E-2,{"$f":"'price data'!H31","v":111.510002},-5.0620490321995608E-2,{"$f":"'price data'!I31","v":5.8585370000000001},6.2785706687520024E-2,{"$f":"'price data'!J31","v":42.165759999999999},3.8810798166492862E-2,{"$f":"'price data'!K31","v":70.902495999999999},-1.0850367961365846E-2,{"$f":"'price data'!L31","v":235.409164},8.1364468912676104E-3,{"$f":"'price data'!M31","v":101.902565},-2.0303506176671655E-2,{"$f":"'price data'!N31","v":55.310870999999999},-4.4882893128750427E-2,{"$f":"'price data'!O31","v":131.86125200000001},-4.9226389106668295E-2,{"$f":"'price data'!P31","v":86.640045000000001},-3.3968875090045897E-2,{"$f":"'price data'!Q31","v":41.034534000000001},-4.3789929088278702E-2,{"$f":"'price data'!R31","v":32.183235000000003},4.1716642540508296E-2,{"$f":"'price data'!S31","v":174.32830799999999},-3.3335853046484679E-3,{"$f":"'price data'!T31","v":142.50006099999999},6.9887969545221872E-3,{"$f":"'price data'!U31","v":198.94177199999999},0.1076450404757211,{"$f":"'price data'!V31","v":455.040009},8.0773673332674656E-2,{"$f":"'price data'!W31","v":28.345935999999998},-0.14528203538793513,{"$f":"'price data'!X31","v":112.47275500000001},3.1001674705670699E-2,{"$f":"'price data'!Y31","v":89.801079000000001},0.14019002327824265,{"$f":"'price data'!Z31","v":53.835236000000002},1.8273474786474855E-2,{"$f":"'price data'!AA31","v":34.261574000000003},3.5048104900465255E-2,{"$f":"'price data'!AB31","v":48.926270000000002},-4.0001787854064705E-2,{"$f":"'price data'!AC31","v":115.18401299999999},-3.0719399154710166E-2,{"$f":"'price data'!AD31","v":38.801819000000002},2.572024602204319E-3,{"$f":"'price data'!AE31","v":137.94099399999999},0.12183412921787694,null,{"$f":"'price data'!AF31","v":3100.290039},1.822137420311417E-2]
[{"$f":"'price data'!A32","v":"2020-07-01"},{"$f":"'price data'!B32","v":95.384003000000007},0.28142068019007671,{"$f":"'price data'!C32","v":24.778198},-1.6338305403266803E-2,{"$f":"'price data'!D32","v":158},-0.14852913818530447,{"$f":"'price data'!E32","v":125.4599},4.9204208038885103E-2,{"$f":"'price data'!F32","v":43.270854999999997},9.814392929634019E-3,{"$f":"'price data'!G32","v":74.791686999999996},-6.1114956373265236E-2,{"$f":"'price data'!H32","v":116.94000200000001},4.7546708937430716E-2,{"$f":"'price data'!I32","v":6.3692310000000001},8.3578826445633192E-2,{"$f":"'price data'!J32","v":37.530006},-0.11646774427299082,{"$f":"'price data'!K32","v":74.397498999999996},4.8116688250814992E-2,{"$f":"'price data'!L32","v":250.97589099999999},6.403175917550942E-2,{"$f":"'price data'!M32","v":103.733559},1.7808567434758765E-2,{"$f":"'price data'!N32","v":44.124817},-0.22594710355092706,{"$f":"'price data'!O32","v":136.67137099999999},3.5829043830110964E-2,{"$f":"'price data'!P32","v":89.016532999999995},2.7059994441897984E-2,{"$f":"'price data'!Q32","v":43.779815999999997},6.4758884395724081E-2,{"$f":"'price data'!R32","v":33.076942000000003},2.7390758528888687E-2,{"$f":"'price data'!S32","v":183.59895299999999},5.1813426578239258E-2,{"$f":"'price data'!T32","v":137.45744300000001},-3.6028064033406706E-2,{"$f":"'price data'!U32","v":200.408096},7.3435887034783492E-3,{"$f":"'price data'!V32","v":488.88000499999998},7.1731723860816513E-2,{"$f":"'price data'!W32","v":33.356312000000003},0.16276335089250812,{"$f":"'price data'!X32","v":123.337181},9.221089924390849E-2,{"$f":"'price data'!Y32","v":104.630066},0.15283395736081645,{"$f":"'price data'!Z32","v":56.018695999999998},3.9757295136831163E-2,{"$f":"'price data'!AA32","v":34.179459000000001},-2.3995850384539875E-3,{"$f":"'price data'!AB32","v":51.011822000000002},4.1742938739150769E-2,{"$f":"'price data'!AC32","v":124.43487500000001},7.725152408490342E-2,{"$f":"'price data'!AD32","v":36.511192000000001},-6.084828324960679E-2,{"$f":"'price data'!AE32","v":158.233994},0.13724889814024721,null,{"$f":"'price data'!AF32","v":3271.1201169999999},5.363680159734547E-2]
[{"$f":"'price data'!A33","v":"2020-08-01"},{"$f":"'price data'!B33","v":166.106674},0.5547193154704716,{"$f":"'price data'!C33","v":29.496905999999999},0.17432122286806606,{"$f":"'price data'!D33","v":171.820007},8.3852424923252553E-2,{"$f":"'price data'!E33","v":135.369598},7.6022614953032239E-2,{"$f":"'price data'!F33","v":39.093139999999998},-0.10153230966202921,{"$f":"'price data'!G33","v":74.782768000000004},-1.1925833205357591E-4,{"$f":"'price data'!H33","v":131.86999499999999},0.12015555105316536,{"$f":"'price data'!I33","v":6.5715820000000003},3.1275854825751688E-2,{"$f":"'price data'!J33","v":39.199368},4.3519851198450206E-2,{"$f":"'price data'!K33","v":81.476500999999999},9.0892321700384138E-2,{"$f":"'price data'!L33","v":269.45712300000002},7.1052396635642501E-2,{"$f":"'price data'!M33","v":104.045738},3.0049118406779924E-3,{"$f":"'price data'!N33","v":47.101604000000002},6.5284687708126593E-2,{"$f":"'price data'!O33","v":143.84435999999999},5.1152589332060246E-2,{"$f":"'price data'!P33","v":93.185776000000004},4.5772975493398635E-2,{"$f":"'price data'!Q33","v":45.902084000000002},4.7337629832379886E-2,{"$f":"'price data'!R33","v":33.923121999999999},2.526042346368125E-2,{"$f":"'price data'!S33","v":201.78121899999999},9.4430260639260091E-2,{"$f":"'price data'!T33","v":148.92214999999999},8.0109322436679328E-2,{"$f":"'price data'!U33","v":220.467468},9.5394378990938875E-2,{"$f":"'price data'!V33","v":529.55999799999995},7.9929398478617089E-2,{"$f":"'price data'!W33","v":33.078353999999997},-8.3679090650384293E-3,{"$f":"'price data'!X33","v":130.94032300000001},5.9819756007748019E-2,{"$f":"'price data'!Y33","v":127.060654},0.19423361481271942,{"$f":"'price data'!Z33","v":59.908268},6.7129033486104925E-2,{"$f":"'price data'!AA33","v":35.411231999999998},3.5404208357477929E-2,{"$f":"'price data'!AB33","v":53.191090000000003},4.1833491334531944E-2,{"$f":"'price data'!AC33","v":133.522278},7.0485853647738503E-2,{"$f":"'price data'!AD33","v":34.654392000000001},-5.2194372873868002E-2,{"$f":"'price data'!AE33","v":172.54800399999999},8.6600569666522215E-2,null,{"$f":"'price data'!AF33","v":3500.3100589999999},6.7719083177738171E-2]
[{"$f":"'price data'!A34","v":"2020-09-01"},{"$f":"'price data'!B34","v":143.00332599999999},-0.14976230769543225,{"$f":"'price data'!C34","v":29.457087999999999},-1.3508162332368731E-3,{"$f":"'price data'!D34","v":165.259995},-3.8927496932536547E-2,{"$f":"'price data'!E34","v":141.875992},4.6944579727189774E-2,{"$f":"'price data'!F34","v":36.472735999999998},-6.9381981456727443E-2,{"$f":"'price data'!G34","v":65.077858000000006},-0.1390031156368878,{"$f":"'price data'!H34","v":124.08000199999999},-6.0890015916561034E-2,{"$f":"'price data'!I34","v":6.4174100000000003},-2.373998547520071E-2,{"$f":"'price data'!J34","v":38.519264},-1.7502144427509303E-2,{"$f":"'price data'!K34","v":73.279999000000004},-0.1060269406634291,{"$f":"'price data'!L34","v":262.52786300000002},-2.6052058200702201E-2,{"$f":"'price data'!M34","v":104.006142},-3.8063583446658285E-4,{"$f":"'price data'!N34","v":48.194004},2.2927559333984961E-2,{"$f":"'price data'!O34","v":140.52593999999999},-2.3339783654126013E-2,{"$f":"'price data'!P34","v":89.539817999999997},-3.991167181884836E-2,{"$f":"'price data'!Q34","v":45.753799000000001},-3.2356925605094449E-3,{"$f":"'price data'!R34","v":32.408833000000001},-4.566583768256028E-2,{"$f":"'price data'!S34","v":208.63651999999999},3.340956295632061E-2,{"$f":"'price data'!T34","v":147.659637},-8.5138109043278523E-3,{"$f":"'price data'!U34","v":206.105682},-6.7361089929634535E-2,{"$f":"'price data'!V34","v":500.02999899999998},-5.7378374670352034E-2,{"$f":"'price data'!W34","v":32.12426},-2.9267602824862116E-2,{"$f":"'price data'!X34","v":131.565079},4.7599567463433327E-3,{"$f":"'price data'!Y34","v":114.239182},-0.10637022479821071,{"$f":"'price data'!Z34","v":57.082782999999999},-4.8311978094377296E-2,{"$f":"'price data'!AA34","v":35.104880999999999},-8.6888773171280818E-3,{"$f":"'price data'!AB34","v":53.388527000000003},3.7049715772270557E-3,{"$f":"'price data'!AC34","v":135.09472700000001},1.1707873534078674E-2,{"$f":"'price data'!AD34","v":30.374442999999999},-0.13182290680613171,{"$f":"'price data'!AE34","v":157.43649300000001},-9.1653323912149628E-2,null,{"$f":"'price data'!AF34","v":3363},-4.0018120099239295E-2]
[{"$f":"'price data'!A35","v":"2020-10-01"},{"$f":"'price data'!B35","v":129.346664},{"$f":"LN(B37/B36)","v":-0.100371770922144},{"$f":"'price data'!C35","v":34.374893},{"$f":"LN(D37/D36)","v":0.15439188299844694},{"$f":"'price data'!D35","v":144.38999899999999},{"$f":"LN(F37/F36)","v":-0.13500199596024251},{"$f":"'price data'!E35","v":149.39073200000001},{"$f":"LN(H37/H36)","v":5.16118556868813E-2},{"$f":"'price data'!F35","v":33.241211},{"$f":"LN(J37/J36)","v":-9.2774621238289959E-2},{"$f":"'price data'!G35","v":62.818213999999998},{"$f":"LN(L37/L36)","v":-3.5339305201569367E-2},{"$f":"'price data'!H35","v":121.25},{"$f":"LN(N37/N36)","v":-2.3072005169323791E-2},{"$f":"'price data'!I35","v":7.4484360000000001},{"$f":"LN(P37/P36)","v":0.14898946795445756},{"$f":"'price data'!J35","v":45.952705000000002},{"$f":"LN(R37/R36)","v":0.17645423561421064},{"$f":"'price data'!K35","v":80.805496000000005},{"$f":"LN(T37/T36)","v":9.7757276296201567E-2},{"$f":"'price data'!L35","v":253.45880099999999},{"$f":"LN(V37/V36)","v":-3.5155932047369713E-2},{"$f":"'price data'!M35","v":95.449387000000002},{"$f":"LN(X37/X36)","v":-8.5853827149290809E-2},{"$f":"'price data'!N35","v":41.213425000000001},{"$f":"LN(Z37/Z36)","v":-0.15647056218556979},{"$f":"'price data'!O35","v":129.416382},{"$f":"LN(AB37/AB36)","v":-8.2357124322359143E-2},{"$f":"'price data'!P35","v":91.186072999999993},{"$f":"LN(AD37/AD36)","v":1.8218756886217349E-2},{"$f":"'price data'!Q35","v":44.900291000000003},{"$f":"LN(AF37/AF36)","v":-1.8830550729162707E-2},{"$f":"'price data'!R35","v":30.784084},{"$f":"LN(AH37/AH36)","v":-5.1433205930250164E-2},{"$f":"'price data'!S35","v":202.467422},{"$f":"LN(AJ37/AJ36)","v":-3.0014604559500103E-2},{"$f":"'price data'!T35","v":147.45680200000001},{"$f":"LN(AL37/AL36)","v":-1.3746101886174789E-3},{"$f":"'price data'!U35","v":198.40358000000001},{"$f":"LN(AN37/AN36)","v":-3.8085817614771429E-2},{"$f":"'price data'!V35","v":475.73998999999998},{"$f":"LN(AP37/AP36)","v":-4.9796629129906192E-2},{"$f":"'price data'!W35","v":31.056372},{"$f":"LN(AR37/AR36)","v":-3.3807503214034799E-2},{"$f":"'price data'!X35","v":129.77603099999999},{"$f":"LN(AT37/AT36)","v":-1.3691500333827929E-2},{"$f":"'price data'!Y35","v":107.383438},{"$f":"LN(AV37/AV36)","v":-6.1888376584200239E-2},{"$f":"'price data'!Z35","v":57.532103999999997},{"$f":"LN(AX37/AX36)","v":7.8405748778035272E-3},{"$f":"'price data'!AA35","v":38.859851999999997},{"$f":"LN(AZ37/AZ36)","v":0.10162145476559374},{"$f":"'price data'!AB35","v":51.144939000000001},{"$f":"LN(BB37/BB36)","v":-4.2932329474473209E-2},{"$f":"'price data'!AC35","v":133.97467},{"$f":"LN(BD37/BD36)","v":-8.3254616247878666E-3},{"$f":"'price data'!AD35","v":28.861471000000002},{"$f":"LN(BF37/BF36)","v":-5.1094041796261251E-2},{"$f":"'price data'!AE35","v":151.80749499999999},{"$f":"LN(BH37/BH36)","v":-3.6408919984196417E-2},null,{"$f":"'price data'!AF35","v":3269.959961},{"$f":"LN(BK37/BK36)","v":-2.8055692266440762E-2}]
[{"$f":"'price data'!A36","v":"2020-11-01"},{"$f":"'price data'!B36","v":189.199997},0.38030852295299938,{"$f":"'price data'!C36","v":43.643078000000003},0.23871824684537885,{"$f":"'price data'!D36","v":210.71000699999999},0.37796484869228997,{"$f":"'price data'!E36","v":166.13265999999999},0.10622138985882922,{"$f":"'price data'!F36","v":40.201309000000002},0.19010915595064878,{"$f":"'price data'!G36","v":78.798430999999994},0.22664802222790967,{"$f":"'price data'!H36","v":148.009995},0.19942527545000302,{"$f":"'price data'!I36","v":8.7492619999999999},0.1609652764887522,{"$f":"'price data'!J36","v":63.045616000000003},0.31624581247192118,{"$f":"'price data'!K36","v":87.720000999999996},8.210495193380811E-2,{"$f":"'price data'!L36","v":263.62719700000002},3.9334683458447497E-2,{"$f":"'price data'!M36","v":105.58757799999999},0.10094460383659663,{"$f":"'price data'!N36","v":45.001548999999997},8.79328586074902E-2,{"$f":"'price data'!O36","v":136.56163000000001},5.3741040815617619E-2,{"$f":"'price data'!P36","v":110.656448},0.19352816154977809,{"$f":"'price data'!Q36","v":48.207549999999998},7.1071371997847119E-2,{"$f":"'price data'!R36","v":31.539114000000001},2.423068665790341E-2,{"$f":"'price data'!S36","v":206.687881},2.0630839511045083E-2,{"$f":"'price data'!T36","v":159.22865300000001},7.6805973282280393E-2,{"$f":"'price data'!U36","v":209.770599},5.5711308872221553E-2,{"$f":"'price data'!V36","v":490.70001200000002},3.0961502058240366E-2,{"$f":"'price data'!W36","v":35.344334000000003},0.12933409189389228,{"$f":"'price data'!X36","v":132.18138099999999},1.8364951660743634E-2,{"$f":"'price data'!Y36","v":117.435226},8.9480951877697695E-2,{"$f":"'price data'!Z36","v":67.956551000000005},0.16652542264480549,{"$f":"'price data'!AA36","v":42.827025999999996},9.7207716507549322E-2,{"$f":"'price data'!AB36","v":54.791404999999997},6.8869795366314199E-2,{"$f":"'price data'!AC36","v":147.53143299999999},9.6390505929185966E-2,{"$f":"'price data'!AD36","v":33.736598999999998},0.15607574955227105,{"$f":"'price data'!AE36","v":158.401993},4.2522823452665913E-2,null,{"$f":"'price data'!AF36","v":3621.6298830000001},0.10214642793925913]
[{"$f":"'price data'!A37","v":"2020-12-01"},{"$f":"'price data'!B37","v":235.22332800000001},0.21773075401802502,{"$f":"'price data'!C37","v":41.452961000000002},-5.1485375605669272E-2,{"$f":"'price data'!D37","v":214.05999800000001},1.5773526463324479E-2,{"$f":"'price data'!E37","v":174.20051599999999},4.7420400699111749E-2,{"$f":"'price data'!F37","v":41.817954999999998},3.942623547312351E-2,{"$f":"'price data'!G37","v":77.454048},-1.7208254022981352E-2,{"$f":"'price data'!H37","v":181.179993},0.20221116833793437,{"$f":"'price data'!I37","v":8.4698259999999994},-3.2459388595641091E-2,{"$f":"'price data'!J37","v":66.885323},5.9121028044218538E-2,{"$f":"'price data'!K37","v":87.632003999999995},-1.003661262805445E-3,{"$f":"'price data'!L37","v":252.42292800000001},-4.343000609373502E-2,{"$f":"'price data'!M37","v":109.165283},3.3322359740561178E-2,{"$f":"'price data'!N37","v":46.70702},3.7197563176784978E-2,{"$f":"'price data'!O37","v":149.58123800000001},9.1063628676591943E-2,{"$f":"'price data'!P37","v":119.28327899999999},7.5070821382653447E-2,{"$f":"'price data'!Q37","v":51.636265000000002},6.8708587915592659E-2,{"$f":"'price data'!R37","v":30.525229},-3.2674967811574987E-2,{"$f":"'price data'!S37","v":205.18161000000001},-7.3143447054049007E-3,{"$f":"'price data'!T37","v":162.5215},2.0469062338812592E-2,{"$f":"'price data'!U37","v":218.523483},4.0878934529937544E-2,{"$f":"'price data'!V37","v":540.72997999999995},9.7087073943373084E-2,{"$f":"'price data'!W37","v":34.309711},-2.9709662975826234E-2,{"$f":"'price data'!X37","v":132.4384},1.9425538019178675E-3,{"$f":"'price data'!Y37","v":131.11604299999999},0.11019584202272759,{"$f":"'price data'!Z37","v":71.193450999999996},4.6532288775952869E-2,{"$f":"'price data'!AA37","v":44.631554000000001},4.1271745756940897E-2,{"$f":"'price data'!AB37","v":53.285797000000002},-2.7863515720998572E-2,{"$f":"'price data'!AC37","v":139.18879699999999},-5.820999482127226E-2,{"$f":"'price data'!AD37","v":37.350470999999999},0.10176225014105282,{"$f":"'price data'!AE37","v":162.846497},2.7671959526437605E-2,null,{"$f":"'price data'!AF37","v":3756.070068},3.6449047693140835E-2]
[{"$f":"'price data'!A38","v":"2021-01-01"},{"$f":"'price data'!B38","v":264.51001000000002},0.11734370079323288,{"$f":"'price data'!C38","v":50.452354},0.19647009127620829,{"$f":"'price data'!D38","v":194.19000199999999},-9.7419268688334837E-2,{"$f":"'price data'!E38","v":174.98529099999999},4.4948924358937156E-3,{"$f":"'price data'!F38","v":41.659092000000001},-3.8061526489942678E-3,{"$f":"'price data'!G38","v":78.141914},8.8417523488865096E-3,{"$f":"'price data'!H38","v":168.16999799999999},-7.451561296359914E-2,{"$f":"'price data'!I38","v":10.146445999999999},0.18061353102881611,{"$f":"'price data'!J38","v":66.203002999999995},-1.0253731468432207E-2,{"$f":"'price data'!K38","v":91.367996000000005},4.1748990282510688E-2,{"$f":"'price data'!L38","v":258.76791400000002},2.4825608555367751E-2,{"$f":"'price data'!M38","v":103.294212},-5.528174793964627E-2,{"$f":"'price data'!N38","v":52.041485000000002},0.10814671440200942,{"$f":"'price data'!O38","v":155.04628},3.5884009761251973E-2,{"$f":"'price data'!P38","v":120.785248},1.2512998819979942E-2,{"$f":"'price data'!Q38","v":45.337093000000003},-0.13009870825703637,{"$f":"'price data'!R38","v":33.158703000000003},8.2751694096389494E-2,{"$f":"'price data'!S38","v":198.736786},-3.1914223607882902E-2,{"$f":"'price data'!T38","v":163.33041399999999},4.9649280972333043E-3,{"$f":"'price data'!U38","v":227.896378},4.1997560744873798E-2,{"$f":"'price data'!V38","v":532.39001499999995},-1.5543709844723558E-2,{"$f":"'price data'!W38","v":33.461520999999998},-2.5032281846719164E-2,{"$f":"'price data'!X38","v":122.034813},-8.1811275176753517E-2,{"$f":"'price data'!Y38","v":130.394699},-5.5167586919646966E-3,{"$f":"'price data'!Z38","v":71.384963999999997},2.6864250830278295E-3,{"$f":"'price data'!AA38","v":44.678108000000002},1.0425300728717642E-3,{"$f":"'price data'!AB38","v":49.657832999999997},-7.0513680467969575E-2,{"$f":"'price data'!AC38","v":136.15063499999999},-2.2069380257233925E-2,{"$f":"'price data'!AD38","v":40.630645999999999},8.4177087513745974E-2,{"$f":"'price data'!AE38","v":160.30999800000001},-1.5698592672562395E-2,null,{"$f":"'price data'!AF38","v":3714.23999},-1.1199137618311695E-2]
[{"$f":"'price data'!A39","v":"2021-02-01"},{"$f":"'price data'!B39","v":225.16667200000001},-0.16103820315449677,{"$f":"'price data'!C39","v":51.099437999999999},1.2744093335590859E-2,{"$f":"'price data'!D39","v":212.009995},8.77963482623592E-2,{"$f":"'price data'!E39","v":207.70515399999999},0.17141762624826029,{"$f":"'price data'!F39","v":42.270144999999999},1.4561404793630569E-2,{"$f":"'price data'!G39","v":91.715866000000005},0.16016880119180327,{"$f":"'price data'!H39","v":189.03999300000001},0.11698323520752076,{"$f":"'price data'!I39","v":11.273828999999999},0.10536052551349398,{"$f":"'price data'!J39","v":77.732749999999996},0.16055083704002765,{"$f":"'price data'!K39","v":101.09549699999999},0.10117032100583911,{"$f":"'price data'!L39","v":246.84329199999999},-4.7177885095103435E-2,{"$f":"'price data'!M39","v":103.138115},-1.5123312517945151E-3,{"$f":"'price data'!N39","v":56.982188999999998},9.0697556341360494E-2,{"$f":"'price data'!O39","v":150.60771199999999},-2.9045130444059219E-2,{"$f":"'price data'!P39","v":139.1465},0.141513176104406,{"$f":"'price data'!Q39","v":46.128020999999997},1.7295068698233086E-2,{"$f":"'price data'!R39","v":30.957735},-6.8682328981965968E-2,{"$f":"'price data'!S39","v":197.11128199999999},-8.212813289353818E-3,{"$f":"'price data'!T39","v":162.77256800000001},-3.421290665430583E-3,{"$f":"'price data'!U39","v":228.30900600000001},1.808957662460031E-3,{"$f":"'price data'!V39","v":538.84997599999997},1.2060862854175451E-2,{"$f":"'price data'!W39","v":31.554798000000002},-5.8670498293371176E-2,{"$f":"'price data'!X39","v":118.289429},-3.1171947060798823E-2,{"$f":"'price data'!Y39","v":119.82163199999999},-8.4561759832085762E-2,{"$f":"'price data'!Z39","v":79.081551000000005},0.10239235222673007,{"$f":"'price data'!AA39","v":53.040123000000001},0.17156503714352897,{"$f":"'price data'!AB39","v":50.693623000000002},2.0643981195433602E-2,{"$f":"'price data'!AC39","v":125.907127},-7.8217335214964934E-2,{"$f":"'price data'!AD39","v":49.266010000000001},0.1927117814796005,{"$f":"'price data'!AE39","v":154.6465},-3.5967561099888266E-2,null,{"$f":"'price data'!AF39","v":3811.1499020000001},2.5756876645442687E-2]
[{"$f":"'price data'!A40","v":"2021-03-01"},{"$f":"'price data'!B40","v":222.643326},-1.1269836397410984E-2,{"$f":"'price data'!C40","v":57.201897000000002},0.11281356306536527,{"$f":"'price data'!D40","v":254.720001},0.18353148679481834,{"$f":"'price data'!E40","v":223.08966100000001},7.1454212706625844E-2,{"$f":"'price data'!F40","v":48.713825},0.14188182580382194,{"$f":"'price data'!G40","v":97.467613},6.0824763446905274E-2,{"$f":"'price data'!H40","v":184.520004},-2.4200715481965208E-2,{"$f":"'price data'!I40","v":11.803794},4.5936983315135467E-2,{"$f":"'price data'!J40","v":81.390022000000002},4.5976024150485066E-2,{"$f":"'price data'!K40","v":103.12599899999999},1.9885946905510338E-2,{"$f":"'price data'!L40","v":291.66568000000001},0.16685452488840621,{"$f":"'price data'!M40","v":117.109627},0.12704146668299782,{"$f":"'price data'!N40","v":60.365189000000001},5.7673852412550686E-2,{"$f":"'price data'!O40","v":157.17987099999999},4.2712302168569534E-2,{"$f":"'price data'!P40","v":143.930634},3.3804140241270354E-2,{"$f":"'price data'!Q40","v":49.630692000000003},7.3188836530787379E-2,{"$f":"'price data'!R40","v":34.777023},0.11633402296246993,{"$f":"'price data'!S40","v":215.64158599999999},8.9849252906863103E-2,{"$f":"'price data'!T40","v":180.63211100000001},0.10410848880788329,{"$f":"'price data'!U40","v":232.173126},1.6783325279398079E-2,{"$f":"'price data'!V40","v":521.65997300000004},-3.2421211589625146E-2,{"$f":"'price data'!W40","v":34.136462999999999},7.8640455692642219E-2,{"$f":"'price data'!X40","v":129.684586},9.1970831348781742E-2,{"$f":"'price data'!Y40","v":120.881424},8.8058611793911598E-3,{"$f":"'price data'!Z40","v":84.267287999999994},6.3514135834971924E-2,{"$f":"'price data'!AA40","v":54.765372999999997},3.200944979245534E-2,{"$f":"'price data'!AB40","v":53.306221000000001},5.0252917465289426E-2,{"$f":"'price data'!AC40","v":131.634567},4.4485103706000985E-2,{"$f":"'price data'!AD40","v":51.448073999999998},4.3338636242612763E-2,{"$f":"'price data'!AE40","v":154.70399499999999},3.7171429554038723E-4,null,{"$f":"'price data'!AF40","v":3972.889893},4.1562807478931027E-2]
[{"$f":"'price data'!A41","v":"2021-04-01"},{"$f":"'price data'!B41","v":236.479996},6.0292564824196197E-2,{"$f":"'price data'!C41","v":56.962978},-4.1855141310730495E-3,{"$f":"'price data'!D41","v":234.30999800000001},-8.3519890190256824E-2,{"$f":"'price data'!E41","v":219.47203099999999},-1.634895493318194E-2,{"$f":"'price data'!F41","v":47.960175},-1.5591891678757351E-2,{"$f":"'price data'!G41","v":95.867789999999999},-1.6550093689152348E-2,{"$f":"'price data'!H41","v":186.020004},8.0963359498984425E-3,{"$f":"'price data'!I41","v":11.119657},-5.9706562194157202E-2,{"$f":"'price data'!J41","v":81.388015999999993},-2.4647059575852111E-5,{"$f":"'price data'!K41","v":117.675003},0.1319750809005,{"$f":"'price data'!L41","v":311.20394900000002},6.4840266985773276E-2,{"$f":"'price data'!M41","v":124.68493700000001},6.2679572475179204E-2,{"$f":"'price data'!N41","v":54.262642},-0.10657660020198211,{"$f":"'price data'!O41","v":155.630539},-9.905966169123849E-3,{"$f":"'price data'!P41","v":145.42451500000001},1.0325679554895882E-2,{"$f":"'price data'!Q41","v":51.249561},3.2097619446499186E-2,{"$f":"'price data'!R41","v":35.308487},1.5166449877964205E-2,{"$f":"'price data'!S41","v":227.12886},5.1899816211603222E-2,{"$f":"'price data'!T41","v":184.81326300000001},2.2883499162902367E-2,{"$f":"'price data'!U41","v":248.33279400000001},6.7286431765306243E-2,{"$f":"'price data'!V41","v":513.46997099999999},-1.5824434320510745E-2,{"$f":"'price data'!W41","v":36.416634000000002},6.4659539094814242E-2,{"$f":"'price data'!X41","v":127.759872},-1.4952738747253464E-2,{"$f":"'price data'!Y41","v":130.094742},7.3452871463355565E-2,{"$f":"'price data'!Z41","v":92.832770999999994},9.6805966235123664E-2,{"$f":"'price data'!AA41","v":55.695030000000003},1.6832800273103282E-2,{"$f":"'price data'!AB41","v":52.976204000000003},-6.2102094610326508E-3,{"$f":"'price data'!AC41","v":136.154663},3.3761815949882965E-2,{"$f":"'price data'!AD41","v":52.747405999999998},2.4941568614536572E-2,{"$f":"'price data'!AE41","v":173.371002},0.11392023710632282,null,{"$f":"'price data'!AF41","v":4181.169922},5.1097330391763854E-2]
[{"$f":"'price data'!A42","v":"2021-05-01"},{"$f":"'price data'!B42","v":208.40666200000001},-0.12637234410637932,{"$f":"'price data'!C42","v":59.043590999999999},3.5874453572875525E-2,{"$f":"'price data'!D42","v":247.020004},5.2824304811248314E-2,{"$f":"'price data'!E42","v":232.99939000000001},5.9811032552395081E-2,{"$f":"'price data'!F42","v":50.192141999999997},4.5487501553719605E-2,{"$f":"'price data'!G42","v":96.537482999999995},6.9613030244431405E-3,{"$f":"'price data'!H42","v":178.64999399999999},-4.0425665433189158E-2,{"$f":"'price data'!I42","v":14.000745999999999},0.23039617088694259,{"$f":"'price data'!J42","v":87.219170000000005},6.9196107620509692E-2,{"$f":"'price data'!K42","v":117.842499},1.4223658693422246E-3,{"$f":"'price data'!L42","v":306.62725799999998},-1.4815615216846831E-2,{"$f":"'price data'!M42","v":126.319496},1.3024328587976083E-2,{"$f":"'price data'!N42","v":53.875926999999997},-7.1522427584328136E-3,{"$f":"'price data'!O42","v":161.86610400000001},3.9284616405646365E-2,{"$f":"'price data'!P42","v":156.20048499999999},7.1483187655531577E-2,{"$f":"'price data'!Q42","v":52.493298000000003},2.3978452177682533E-2,{"$f":"'price data'!R42","v":35.733657999999998},1.1969685777223691E-2,{"$f":"'price data'!S42","v":225.021896},-9.3198085935773632E-3,{"$f":"'price data'!T42","v":190.344345},2.9488847842568718E-2,{"$f":"'price data'!U42","v":245.870926},-9.9630507200795786E-3,{"$f":"'price data'!V42","v":502.80999800000001},-2.0979187429029256E-2,{"$f":"'price data'!W42","v":36.492007999999998},2.0676294273195522E-3,{"$f":"'price data'!X42","v":129.95536799999999},1.7038566402066108E-2,{"$f":"'price data'!Y42","v":123.31588000000001},-5.3513776193749481E-2,{"$f":"'price data'!Z42","v":98.947006000000002},6.3784700654634804E-2,{"$f":"'price data'!AA42","v":58.014484000000003},4.0801788563466515E-2,{"$f":"'price data'!AB42","v":52.341625000000001},-1.2050887977404846E-2,{"$f":"'price data'!AC42","v":138.217758},1.5038930490309703E-2,{"$f":"'price data'!AD42","v":53.788711999999997},1.9549035235703418E-2,{"$f":"'price data'!AE42","v":161.153503},-7.3076472990903529E-2,null,{"$f":"'price data'!AF42","v":4204.1098629999997},5.4714926199284086E-3]
[{"$f":"'price data'!A43","v":"2021-06-01"},{"$f":"'price data'!B43","v":226.566666},8.3547956003300242E-2,{"$f":"'price data'!C43","v":58.904221},-2.3632496864718967E-3,{"$f":"'price data'!D43","v":239.55999800000001},-3.0665422155266478E-2,{"$f":"'price data'!E43","v":210.33538799999999},-0.10233249308989562,{"$f":"'price data'!F43","v":50.287028999999997},1.8886905069381008E-3,{"$f":"'price data'!G43","v":98.613608999999997},2.1277916598764612E-2,{"$f":"'price data'!H43","v":175.770004},-1.625220590237704E-2,{"$f":"'price data'!I43","v":14.318727000000001},2.2457647023002583E-2,{"$f":"'price data'!J43","v":83.497153999999995},-4.3611598759717096E-2,{"$f":"'price data'!K43","v":122.0895},3.5405403682381487E-2,{"$f":"'price data'!L43","v":306.60803199999998},-6.2703501640582019E-5,{"$f":"'price data'!M43","v":130.263474},3.0744742427649852E-2,{"$f":"'price data'!N43","v":53.277724999999997},-1.1165428400842881E-2,{"$f":"'price data'!O43","v":158.53582800000001},-2.0788863021870285E-2,{"$f":"'price data'!P43","v":147.926331},-5.4425956069144535E-2,{"$f":"'price data'!Q43","v":51.372982},-2.1573112066280212E-2,{"$f":"'price data'!R43","v":37.201644999999999},4.0259934983302471E-2,{"$f":"'price data'!S43","v":223.459259},-6.9686019411448761E-3,{"$f":"'price data'!T43","v":187.58038300000001},-1.4627311081157479E-2,{"$f":"'price data'!U43","v":267.38320900000002},8.3876161951624034E-2,{"$f":"'price data'!V43","v":528.21002199999998},4.9281612392185044E-2,{"$f":"'price data'!W43","v":37.260722999999999},2.0846491462643502E-2,{"$f":"'price data'!X43","v":130.03247099999999},5.9312775979801047E-4,{"$f":"'price data'!Y43","v":135.76783800000001},9.619716005363764E-2,{"$f":"'price data'!Z43","v":95.815262000000004},-3.2162430532016055E-2,{"$f":"'price data'!AA43","v":52.513683},-9.9618939297187376E-2,{"$f":"'price data'!AB43","v":51.915408999999997},-8.1762996335053607E-3,{"$f":"'price data'!AC43","v":137.77380400000001},-3.2171591022367107E-3,{"$f":"'price data'!AD43","v":58.975861000000002},9.2064593566415193E-2,{"$f":"'price data'!AE43","v":172.00799599999999},6.518361856816951E-2,null,{"$f":"'price data'!AF43","v":4297.5},2.1970872633021454E-2]
[{"$f":"'price data'!A44","v":"2021-07-01"},{"$f":"'price data'!B44","v":229.066666},1.0973846349566867E-2,{"$f":"'price data'!C44","v":56.584685999999998},-4.0174368698124005E-2,{"$f":"'price data'!D44","v":226.479996},-5.6147275905582092E-2,{"$f":"'price data'!E44","v":199.82006799999999},-5.1286040835536624E-2,{"$f":"'price data'!F44","v":52.535708999999997},4.3745938727023946E-2,{"$f":"'price data'!G44","v":95.854988000000006},-2.8372766613842616E-2,{"$f":"'price data'!H44","v":176.020004},1.4213026885369919E-3,{"$f":"'price data'!I44","v":13.441872},-6.3193649822979009E-2,{"$f":"'price data'!J44","v":80.394576999999998},-3.7865823782313283E-2,{"$f":"'price data'!K44","v":134.72650100000001},9.8492422638206359E-2,{"$f":"'price data'!L44","v":317.20452899999998},3.3976604622843978E-2,{"$f":"'price data'!M44","v":125.26052900000001},-3.9163322196012193E-2,{"$f":"'price data'!N44","v":50.981105999999997},-4.406323287665017E-2,{"$f":"'price data'!O44","v":165.71487400000001},4.4288073101555379E-2,{"$f":"'price data'!P44","v":144.35037199999999},-2.447090314997263E-2,{"$f":"'price data'!Q44","v":54.553260999999999},6.0065098271083313E-2,{"$f":"'price data'!R44","v":39.522499000000003},6.0517123954648332E-2,{"$f":"'price data'!S44","v":234.79716500000001},4.9492902691447564E-2,{"$f":"'price data'!T44","v":186.928741},-3.4799828141462374E-3,{"$f":"'price data'!U44","v":281.21130399999998},5.0423489146505213E-2,{"$f":"'price data'!V44","v":517.57000700000003},-2.0349178339395008E-2,{"$f":"'price data'!W44","v":40.733696000000002},8.9115892294759455E-2,{"$f":"'price data'!X44","v":137.06750500000001},5.2689345509680692E-2,{"$f":"'price data'!Y44","v":144.590363},6.2958308087644854E-2,{"$f":"'price data'!Z44","v":93.767493999999999},-2.160373324379819E-2,{"$f":"'price data'!AA44","v":51.501255},-1.9467587906468898E-2,{"$f":"'price data'!AB44","v":51.683762000000002},-4.4719930442981438E-3,{"$f":"'price data'!AC44","v":139.26859999999999},1.079120368686182E-2,{"$f":"'price data'!AD44","v":53.824351999999998},-9.1402220431066952E-2,{"$f":"'price data'!AE44","v":166.379501},-3.3269634412303593E-2,null,{"$f":"'price data'!AF44","v":4395.2597660000001},2.2493176007570441E-2]
[{"$f":"'price data'!A45","v":"2021-08-01"},{"$f":"'price data'!B45","v":245.240005},6.8224264191103043E-2,{"$f":"'price data'!C45","v":48.789852000000003},-0.14821604281403905,{"$f":"'price data'!D45","v":219.5},-3.1304390626814296E-2,{"$f":"'price data'!E45","v":204.89567600000001},2.5083650434030862E-2,{"$f":"'price data'!F45","v":56.389290000000003},7.078613704051652E-2,{"$f":"'price data'!G45","v":91.109795000000005},-5.0771190087120825E-2,{"$f":"'price data'!H45","v":181.300003},2.9555486637608867E-2,{"$f":"'price data'!I45","v":12.555384},-6.8225033543977187E-2,{"$f":"'price data'!J45","v":81.799155999999996},1.7320202045766977E-2,{"$f":"'price data'!K45","v":144.697495},7.1398516837171841E-2,{"$f":"'price data'!L45","v":315.26181000000003},-6.1433312419535407E-3,{"$f":"'price data'!M45","v":124.70957199999999},-4.4081903394460609E-3,{"$f":"'price data'!N45","v":51.303772000000002},6.3091842438523366E-3,{"$f":"'price data'!O45","v":166.60987900000001},5.3863406549939617E-3,{"$f":"'price data'!P45","v":152.997086},5.8175392284183017E-2,{"$f":"'price data'!Q45","v":53.864539999999998},-1.2705114069155593E-2,{"$f":"'price data'!R45","v":44.698287999999998},0.12306509642361921,{"$f":"'price data'!S45","v":229.718323},-2.1868137997515351E-2,{"$f":"'price data'!T45","v":183.90678399999999},-1.6298459516271423E-2,{"$f":"'price data'!U45","v":297.961029},5.7856344510740711E-2,{"$f":"'price data'!V45","v":569.19000200000005},9.5069505840749274E-2,{"$f":"'price data'!W45","v":44.232613000000001},8.2406706217662051E-2,{"$f":"'price data'!X45","v":138.08471700000001},7.3938464080900747E-3,{"$f":"'price data'!Y45","v":150.508408},4.0114288154108634E-2,{"$f":"'price data'!Z45","v":99.003806999999995},5.4340053831612473E-2,{"$f":"'price data'!AA45","v":53.989742},4.7187889251250698E-2,{"$f":"'price data'!AB45","v":51.533538999999998},-2.9108125210096764E-3,{"$f":"'price data'!AC45","v":144.69082599999999},3.8194788891042789E-2,{"$f":"'price data'!AD45","v":50.972797},-5.4433905899368064E-2,{"$f":"'price data'!AE45","v":173.53950499999999},4.213393830025404E-2,null,{"$f":"'price data'!AF45","v":4522.6801759999998},2.8578143122840471E-2]
[{"$f":"'price data'!A46","v":"2021-09-01"},{"$f":"'price data'!B46","v":258.49334700000003},5.2632613390697788E-2,{"$f":"'price data'!C46","v":52.473236},7.278090871938353E-2,{"$f":"'price data'!D46","v":219.94000199999999},2.0025584609514231E-3,{"$f":"'price data'!E46","v":186.53114299999999},-9.3902740306786373E-2,{"$f":"'price data'!F46","v":52.003886999999999},-8.0960781067131019E-2,{"$f":"'price data'!G46","v":96.803809999999999},6.0621035316302016E-2,{"$f":"'price data'!H46","v":169.16999799999999},-6.9249019643191509E-2,{"$f":"'price data'!I46","v":13.644223},8.3166631037469213E-2,{"$f":"'price data'!J46","v":79.952247999999997},-2.2837369248906079E-2,{"$f":"'price data'!K46","v":133.675995},-7.9226397574939364E-2,{"$f":"'price data'!L46","v":317.272156},6.3565053485990283E-3,{"$f":"'price data'!M46","v":124.87796},1.3493304268786767E-3,{"$f":"'price data'!N46","v":50.892116999999999},-8.0562384748612825E-3,{"$f":"'price data'!O46","v":156.34141500000001},-6.3612852155816635E-2,{"$f":"'price data'!P46","v":156.57450900000001},2.3113117069755891E-2,{"$f":"'price data'!Q46","v":50.191299000000001},-7.0630691459852749E-2,{"$f":"'price data'!R46","v":39.452984000000001},-0.1248255166277656,{"$f":"'price data'!S46","v":234.52806100000001},2.0721368062369579E-2,{"$f":"'price data'!T46","v":166.926117},-9.687771919427049E-2,{"$f":"'price data'!U46","v":278.79281600000002},-6.6493791806744931E-2,{"$f":"'price data'!V46","v":610.34002699999996},6.9801922119365353E-2,{"$f":"'price data'!W46","v":41.294654999999999},-6.8729294978958647E-2,{"$f":"'price data'!X46","v":135.57304400000001},-1.8356822923006992E-2,{"$f":"'price data'!Y46","v":140.4785},-6.896449758479406E-2,{"$f":"'price data'!Z46","v":99.464232999999993},4.639808263305986E-3,{"$f":"'price data'!AA46","v":55.950462000000002},3.5672626540434058E-2,{"$f":"'price data'!AB46","v":50.605930000000001},-1.8164075318953806E-2,{"$f":"'price data'!AC46","v":136.67266799999999},-5.7010449228093965E-2,{"$f":"'price data'!AD46","v":55.825389999999999},9.0936685555888033E-2,{"$f":"'price data'!AE46","v":164.25199900000001},-5.5003440230443415E-2,null,{"$f":"'price data'!AF46","v":4307.5400390000004},-4.8737792845709803E-2]
[{"$f":"'price data'!A47","v":"2021-10-01"},{"$f":"'price data'!B47","v":371.33334400000001},0.36223020387105742,{"$f":"'price data'!C47","v":54.185513},3.2110335760922357E-2,{"$f":"'price data'!D47","v":207.029999},-6.0491085505775088E-2,{"$f":"'price data'!E47","v":198.23001099999999},6.0829816454879247E-2,{"$f":"'price data'!F47","v":53.475242999999999},2.7900333349882334E-2,{"$f":"'price data'!G47","v":109.24661999999999},0.12092154226990147,{"$f":"'price data'!H47","v":169.070007},-5.9124291292976798E-4,{"$f":"'price data'!I47","v":16.457863},0.18748714832622315,{"$f":"'price data'!J47","v":81.443389999999994},1.8478621214469287E-2,{"$f":"'price data'!K47","v":148.04600500000001},0.10210414582322459,{"$f":"'price data'!L47","v":361.123535},0.12946016018770776,{"$f":"'price data'!M47","v":112.44678500000001},-0.1048568528795438,{"$f":"'price data'!N47","v":46.803936},-8.3740737312618246E-2,{"$f":"'price data'!O47","v":157.677322},8.5085053976793786E-3,{"$f":"'price data'!P47","v":162.50498999999999},3.7176716461443639E-2,{"$f":"'price data'!Q47","v":54.328884000000002},7.9214334233317335E-2,{"$f":"'price data'!R47","v":39.052894999999999},-1.0192675220806417E-2,{"$f":"'price data'!S47","v":238.84686300000001},1.8247362143479023E-2,{"$f":"'price data'!T47","v":170.02827500000001},1.8413445399928556E-2,{"$f":"'price data'!U47","v":327.94149800000002},0.16236632174099691,{"$f":"'price data'!V47","v":690.30999799999995},0.12312454598513481,{"$f":"'price data'!W47","v":41.995541000000003},1.6830373275180392E-2,{"$f":"'price data'!X47","v":138.66658000000001},2.2561781408597582E-2,{"$f":"'price data'!Y47","v":148.71855199999999},5.7001154795098527E-2,{"$f":"'price data'!Z47","v":104.049812},4.507163381037535E-2,{"$f":"'price data'!AA47","v":60.548603},7.8979705794992444E-2,{"$f":"'price data'!AB47","v":49.650219},-1.9065961745080205E-2,{"$f":"'price data'!AC47","v":146.51762400000001},6.9556939301659737E-2,{"$f":"'price data'!AD47","v":61.187739999999998},9.1718058833651986E-2,{"$f":"'price data'!AE47","v":168.62150600000001},2.6254766017016092E-2,null,{"$f":"'price data'!AF47","v":4605.3798829999996},6.6858175339211984E-2]
[{"$f":"'price data'!A48","v":"2021-11-01"},{"$f":"'price data'!B48","v":381.58667000000003},2.7237846553738267E-2,{"$f":"'price data'!C48","v":57.610058000000002},6.1283585618477507E-2,{"$f":"'price data'!D48","v":197.85000600000001},-4.5354507312964851E-2,{"$f":"'price data'!E48","v":188.90939299999999},-4.8160530199908229E-2,{"$f":"'price data'!F48","v":52.749572999999998},-1.3663121600984663E-2,{"$f":"'price data'!G48","v":107.700813},-1.4250762401630687E-2,{"$f":"'price data'!H48","v":144.89999399999999},-0.15426906383307512,{"$f":"'price data'!I48","v":18.491007},0.11648114885767132,{"$f":"'price data'!J48","v":73.770461999999995},-9.8949770087606151E-2,{"$f":"'price data'!K48","v":141.89750699999999},-4.2418054755232172E-2,{"$f":"'price data'!L48","v":389.16900600000002},7.4793609980656428E-2,{"$f":"'price data'!M48","v":110.097717},-2.1111779693125294E-2,{"$f":"'price data'!N48","v":46.994976000000001},4.0734004282263177E-3,{"$f":"'price data'!O48","v":150.94929500000001},-4.3606693214380161E-2,{"$f":"'price data'!P48","v":152.84124800000001},-6.1308921043538474E-2,{"$f":"'price data'!Q48","v":50.550823000000001},-7.2076792971028647E-2,{"$f":"'price data'!R48","v":40.526401999999997},3.7036653690544097E-2,{"$f":"'price data'!S48","v":237.92279099999999},-3.876392506827437E-3,{"$f":"'price data'!T48","v":161.80661000000001},-4.9562890054693956E-2,{"$f":"'price data'!U48","v":326.92294299999998},-3.1107379102704238E-3,{"$f":"'price data'!V48","v":641.90002400000003},-7.2708203455684295E-2,{"$f":"'price data'!W48","v":51.587111999999998},0.20570842786795207,{"$f":"'price data'!X48","v":141.07768200000001},1.7238328245809922E-2,{"$f":"'price data'!Y48","v":164.106674},9.8461060643643253E-2,{"$f":"'price data'!Z48","v":96.684532000000004},-7.3416314984820374E-2,{"$f":"'price data'!AA48","v":56.580081999999997},-6.7789382743755636E-2,{"$f":"'price data'!AB48","v":47.661037},-4.088857163582621E-2,{"$f":"'price data'!AC48","v":137.89837600000001},-6.0628713482748529E-2,{"$f":"'price data'!AD48","v":56.793461000000001},-7.4525646792321418E-2,{"$f":"'price data'!AE48","v":175.3535},3.9147342687309496E-2,null,{"$f":"'price data'!AF48","v":4567},-8.3686256959183726E-3]
[{"$f":"'price data'!A49","v":"2021-12-01"},{"$f":"'price data'!B49","v":352.26001000000002},-7.9968439405899969E-2,{"$f":"'price data'!C49","v":58.366646000000003},1.3047426026809937E-2,{"$f":"'price data'!D49","v":201.320007},1.738651852123577E-2,{"$f":"'price data'!E49","v":201.991882},6.6960010481522864E-2,{"$f":"'price data'!F49","v":60.954414},0.14457059578480166,{"$f":"'price data'!G49","v":113.269814},5.0415574236793242E-2,{"$f":"'price data'!H49","v":154.88999899999999},6.6671373184704327E-2,{"$f":"'price data'!I49","v":20.114227},8.4142869842956089E-2,{"$f":"'price data'!J49","v":73.366614999999996},-5.4894119463120231E-3,{"$f":"'price data'!K49","v":144.85200499999999},2.0607550723674564E-2,{"$f":"'price data'!L49","v":403.15780599999999},3.5314351471954025E-2,{"$f":"'price data'!M49","v":127.34440600000001},0.14552696645418717,{"$f":"'price data'!N49","v":49.533980999999997},5.261821652068073E-2,{"$f":"'price data'!O49","v":166.69044500000001},9.9194483856413218E-2,{"$f":"'price data'!P49","v":152.37936400000001},-3.0265606870225514E-3,{"$f":"'price data'!Q49","v":57.508586999999999},0.12895504953982362,{"$f":"'price data'!R49","v":44.386772000000001},9.0987834169155526E-2,{"$f":"'price data'!S49","v":262.19769300000002},9.7152559186956047E-2,{"$f":"'price data'!T49","v":170.40469400000001},5.1774304269407101E-2,{"$f":"'price data'!U49","v":333.19787600000001},1.9012040912767231E-2,{"$f":"'price data'!V49","v":602.44000200000005},-6.3444487043252618E-2,{"$f":"'price data'!W49","v":57.192596000000002},0.10315257559958521,{"$f":"'price data'!X49","v":159.617447},0.12346932124487418,{"$f":"'price data'!Y49","v":176.54537999999999},7.3061286215698504E-2,{"$f":"'price data'!Z49","v":103.455292},6.7686127001038057E-2,{"$f":"'price data'!AA49","v":56.272281999999997},-5.4549280553339088E-3,{"$f":"'price data'!AB49","v":49.263325000000002},3.3065659677655283E-2,{"$f":"'price data'!AC49","v":141.879501},2.8461104762403829E-2,{"$f":"'price data'!AD49","v":58.855206000000003},3.5659096125270143E-2,{"$f":"'price data'!AE49","v":166.716995},-5.0506202296509706E-2,null,{"$f":"'price data'!AF49","v":4766.1801759999998},4.2688648207292887E-2]
[{"$f":"'price data'!A50","v":"2022-01-01"},{"$f":"'price data'!B50","v":312.23998999999998},-0.12059747684655882,{"$f":"'price data'!C50","v":52.493149000000003},-0.10606193069601445,{"$f":"'price data'!D50","v":200.240005},-5.3790445851188695E-3,{"$f":"'price data'!E50","v":196.93083200000001},-2.5374947988178444E-2,{"$f":"'price data'!F50","v":53.547924000000002},-0.1295492446862089,{"$f":"'price data'!G50","v":126.763733},0.11255227662504194,{"$f":"'price data'!H50","v":142.970001},-8.0080356067925587E-2,{"$f":"'price data'!I50","v":19.659064999999998},-2.2888820536602926E-2,{"$f":"'price data'!J50","v":73.438637},9.8119113311000714E-4,{"$f":"'price data'!K50","v":135.30349699999999},-6.819218491469356E-2,{"$f":"'price data'!L50","v":357.97387700000002},-0.11886804899916334,{"$f":"'price data'!M50","v":127.25865899999999},-6.7357400620437927E-4,{"$f":"'price data'!N50","v":46.956291},-5.3441728612034632E-2,{"$f":"'price data'!O50","v":167.87919600000001},7.1061797411401543E-3,{"$f":"'price data'!P50","v":142.99697900000001},-6.3549723097440294E-2,{"$f":"'price data'!Q50","v":59.256866000000002},2.9947379374235458E-2,{"$f":"'price data'!R50","v":42.749001},-3.7595670432238534E-2,{"$f":"'price data'!S50","v":253.76654099999999},-3.2684058225524004E-2,{"$f":"'price data'!T50","v":159.26693700000001},-6.7594517379089641E-2,{"$f":"'price data'!U50","v":308.09310900000003},-7.8334496484950875E-2,{"$f":"'price data'!V50","v":427.14001500000001},-0.34387621520235256,{"$f":"'price data'!W50","v":51.032649999999997},-0.11395882548349208,{"$f":"'price data'!X50","v":156.56324799999999},-1.9319927171160847E-2,{"$f":"'price data'!Y50","v":173.77145400000001},-1.5837000726373836E-2,{"$f":"'price data'!Z50","v":106.63808400000001},3.0301150686710705E-2,{"$f":"'price data'!AA50","v":60.376167000000002},7.0392353886077758E-2,{"$f":"'price data'!AB50","v":50.467419},2.4148070354429684E-2,{"$f":"'price data'!AC50","v":137.64631700000001},-3.0290637877799266E-2,{"$f":"'price data'!AD50","v":73.061638000000002},0.21622314905888887,{"$f":"'price data'!AE50","v":149.57350199999999},-0.10850980998699417,null,{"$f":"'price data'!AF50","v":4515.5498049999997},-5.401822997597449E-2]
[{"$f":"'price data'!A51","v":"2022-02-01"},{"$f":"'price data'!B51","v":290.14334100000002},-7.3397010670628607E-2,{"$f":"'price data'!C51","v":46.510142999999999},-0.12101224800534817,{"$f":"'price data'!D51","v":205.33999600000001},2.5150450297377107E-2,{"$f":"'price data'!E51","v":184.16119399999999},-6.7041132041480531E-2,{"$f":"'price data'!F51","v":53.960228000000001},7.6702280474652863E-3,{"$f":"'price data'!G51","v":138.99321},9.2100099274476585E-2,{"$f":"'price data'!H51","v":148.46000699999999},3.7680783804600299E-2,{"$f":"'price data'!I51","v":17.09301},-0.13986894708490505,{"$f":"'price data'!J51","v":74.239249999999998},1.0842799284410032E-2,{"$f":"'price data'!K51","v":135.057007},-1.8234177303888531E-3,{"$f":"'price data'!L51","v":308.07913200000002},-0.1501033424118989,{"$f":"'price data'!M51","v":116.72125200000001},-8.6433069584788108E-2,{"$f":"'price data'!N51","v":45.879050999999997},-2.3208582634980275E-2,{"$f":"'price data'!O51","v":160.35685699999999},-4.5842961387380962E-2,{"$f":"'price data'!P51","v":137.27130099999999},-4.0864237272229945E-2,{"$f":"'price data'!Q51","v":60.451523000000002},1.9960115960948654E-2,{"$f":"'price data'!R51","v":45.897067999999997},7.1055410341899897E-2,{"$f":"'price data'!S51","v":239.408096},-5.8245104008275518E-2,{"$f":"'price data'!T51","v":142.6035},-0.1105135917265571,{"$f":"'price data'!U51","v":296.01629600000001},-3.9987532374903621E-2,{"$f":"'price data'!V51","v":394.51998900000001},-7.9442055257318775E-2,{"$f":"'price data'!W51","v":45.809181000000002},-0.10798109441836777,{"$f":"'price data'!X51","v":152.93504300000001},-2.3446793224827973E-2,{"$f":"'price data'!Y51","v":164.16722100000001},-5.6855404493249252E-2,{"$f":"'price data'!Z51","v":106.724121},8.0648777194026187E-4,{"$f":"'price data'!AA51","v":59.799511000000003},-9.596957312849869E-3,{"$f":"'price data'!AB51","v":51.497646000000003},2.0208138133305117E-2,{"$f":"'price data'!AC51","v":133.06826799999999},-3.382518519984274E-2,{"$f":"'price data'!AD51","v":75.427764999999994},3.1872002261277885E-2,{"$f":"'price data'!AE51","v":153.56300400000001},2.632300814397032E-2,null,{"$f":"'price data'!AF51","v":4373.9399409999996},-3.1862761183796384E-2]
[{"$f":"'price data'!A52","v":"2022-03-01"},{"$f":"'price data'!B52","v":359.20001200000002},0.21350428966053217,{"$f":"'price data'!C52","v":43.543529999999997},-6.5909290445199609E-2,{"$f":"'price data'!D52","v":191.5},-6.9779313770230861E-2,{"$f":"'price data'!E52","v":218.758926},0.17215890053149863,{"$f":"'price data'!F52","v":53.950546000000003},-1.7944454788136629E-4,{"$f":"'price data'!G52","v":158.81861900000001},0.13333770703416303,{"$f":"'price data'!H52","v":137.16000399999999},-7.9167452082407067E-2,{"$f":"'price data'!I52","v":16.460294999999999},-3.7718490684724111E-2,{"$f":"'price data'!J52","v":71.122298999999998},-4.2892069726245319E-2,{"$f":"'price data'!K52","v":139.06750500000001},2.926249934423648E-2,{"$f":"'price data'!L52","v":291.98406999999997},-5.3657426067077366E-2,{"$f":"'price data'!M52","v":125.36855300000001},7.1469192543142671E-2,{"$f":"'price data'!N52","v":48.031162000000002},4.584140094348408E-2,{"$f":"'price data'!O52","v":173.80126999999999},8.0510832122861406E-2,{"$f":"'price data'!P52","v":131.966309},-3.941261173046863E-2,{"$f":"'price data'!Q52","v":60.218414000000003},-3.8635851773709258E-3,{"$f":"'price data'!R52","v":56.519657000000002},0.20818725211907571,{"$f":"'price data'!S52","v":243.20858799999999},1.5749851538450578E-2,{"$f":"'price data'!T52","v":144.204758},1.1166168287095121E-2,{"$f":"'price data'!U52","v":306.07946800000002},3.3430260720052486E-2,{"$f":"'price data'!V52","v":374.58999599999999},-5.1837724369968745E-2,{"$f":"'price data'!W52","v":50.522820000000003},9.7940585855576329E-2,{"$f":"'price data'!X52","v":149.903595},-2.0020888211577454E-2,{"$f":"'price data'!Y52","v":173.82363899999999},5.7155667652557127E-2,{"$f":"'price data'!Z52","v":114.088554},6.6727739834146857E-2,{"$f":"'price data'!AA52","v":54.896545000000003},-8.5547069735217418E-2,{"$f":"'price data'!AB52","v":48.878143000000001},-5.2205774743849978E-2,{"$f":"'price data'!AC52","v":146.61531099999999},9.6949934888921993E-2,{"$f":"'price data'!AD52","v":80.319305},6.2834559711619345E-2,{"$f":"'price data'!AE52","v":162.99749800000001},5.9623918668408965E-2,null,{"$f":"'price data'!AF52","v":4530.4101559999999},3.5148286309219845E-2]
[{"$f":"'price data'!A53","v":"2022-04-01"},{"$f":"'price data'!B53","v":290.25332600000002},-0.21312529023627633,{"$f":"'price data'!C53","v":37.739716000000001},-0.14304811265383185,{"$f":"'price data'!D53","v":148.83999600000001},-0.2520159320167753,{"$f":"'price data'!E53","v":206.70271299999999},-5.6688737072711382E-2,{"$f":"'price data'!F53","v":47.390560000000001},-0.12964475938618544,{"$f":"'price data'!G53","v":152.81037900000001},-3.8564990232578866E-2,{"$f":"'price data'!H53","v":111.629997},-0.20595835260559595,{"$f":"'price data'!I53","v":13.783428000000001},-0.17748411634773337,{"$f":"'price data'!J53","v":57.999232999999997},-0.20397113000893219,{"$f":"'price data'!K53","v":114.109497},-0.19780097531460358,{"$f":"'price data'!L53","v":294.79620399999999},9.5850377202254637E-3,{"$f":"'price data'!M53","v":127.48020200000001},1.6703250885003264E-2,{"$f":"'price data'!N53","v":42.245322999999999},-0.12835635914582744,{"$f":"'price data'!O53","v":176.968796},1.8060903192636327E-2,{"$f":"'price data'!P53","v":115.54795799999999},-0.13286099059915227,{"$f":"'price data'!Q53","v":63.233784},4.8860529348585778E-2,{"$f":"'price data'!R53","v":53.160201999999998},-6.1278455462310241E-2,{"$f":"'price data'!S53","v":245.05761699999999},7.5738923562923399E-3,{"$f":"'price data'!T53","v":139.691101},-3.1800656699077022E-2,{"$f":"'price data'!U53","v":275.51223800000002},-0.10521271892373292,{"$f":"'price data'!V53","v":190.36000100000001},-0.67691506232772625,{"$f":"'price data'!W53","v":47.887863000000003},-5.3563025137589634E-2,{"$f":"'price data'!X53","v":157.50671399999999},4.9475698452468485E-2,{"$f":"'price data'!Y53","v":156.94000199999999},-0.10217763679758569,{"$f":"'price data'!Z53","v":104.762207},-8.5281849704561596E-2,{"$f":"'price data'!AA53","v":46.812130000000003},-0.15930805655603616,{"$f":"'price data'!AB53","v":44.425953},-9.5506497447473887E-2,{"$f":"'price data'!AC53","v":151.20488},3.0823513703028202E-2,{"$f":"'price data'!AD53","v":82.906181000000004},3.1699616054770438E-2,{"$f":"'price data'!AE53","v":124.281502},-0.27118568093075529,null,{"$f":"'price data'!AF53","v":4131.9301759999998},-9.2067824799298315E-2]
[{"$f":"'price data'!A54","v":"2022-05-01"},{"$f":"'price data'!B54","v":252.75332599999999},-0.13834006253707246,{"$f":"'price data'!C54","v":38.506256},2.0107706859733319E-2,{"$f":"'price data'!D54","v":131.39999399999999},-0.12462581621551679,{"$f":"'price data'!E54","v":212.93222},2.9692307201583851E-2,{"$f":"'price data'!F54","v":43.886589000000001},-7.6814269088477896E-2,{"$f":"'price data'!G54","v":170.35720800000001},0.10869965627878182,{"$f":"'price data'!H54","v":110.44000200000001},-1.0717398980810132E-2,{"$f":"'price data'!I54","v":13.404792},-2.7854746007057035E-2,{"$f":"'price data'!J54","v":60.908923999999999},4.8949912963330441E-2,{"$f":"'price data'!K54","v":113.762001},-3.0499318468492709E-3,{"$f":"'price data'!L54","v":297.10235599999999},7.7924287212023094E-3,{"$f":"'price data'!M54","v":133.87301600000001},4.8930634753349682E-2,{"$f":"'price data'!N54","v":43.049717000000001},1.886200764985076E-2,{"$f":"'price data'!O54","v":176.05677800000001},-5.1668779609879267E-3,{"$f":"'price data'!P54","v":128.95574999999999},0.1097836576991475,{"$f":"'price data'!Q54","v":62.029986999999998},-1.9220785881168045E-2,{"$f":"'price data'!R54","v":52.184871999999999},-1.8517389230439912E-2,{"$f":"'price data'!S54","v":248.05740399999999},1.2166832797560348E-2,{"$f":"'price data'!T54","v":144.601868},3.4550664590263298E-2,{"$f":"'price data'!U54","v":269.90313700000002},-2.0568905879332713E-2,{"$f":"'price data'!V54","v":197.44000199999999},3.6517729340568343E-2,{"$f":"'price data'!W54","v":51.762225999999998},7.779856518599948E-2,{"$f":"'price data'!X54","v":145.89080799999999},-7.6609634440720414E-2,{"$f":"'price data'!Y54","v":148.169678},-5.7505489404224959E-2,{"$f":"'price data'!Z54","v":102.58026099999999},-2.1047560305312303E-2,{"$f":"'price data'!AA54","v":48.157921000000002},2.83432740897499E-2,{"$f":"'price data'!AB54","v":49.813231999999999},0.1144568258532854,{"$f":"'price data'!AC54","v":127.12912799999999},-0.17343241253895489,{"$f":"'price data'!AD54","v":93.360625999999996},0.11876007411059164,{"$f":"'price data'!AE54","v":120.209503},-3.3313091188743461E-2,null,{"$f":"'price data'!AF54","v":4132.1499020000001},5.3176154630096034E-5]
[{"$f":"'price data'!A55","v":"2022-06-01"},{"$f":"'price data'!B55","v":224.47332800000001},{"$f":"LN(B57/B56)","v":-0.11865712317405865},{"$f":"'price data'!C55","v":31.617339999999999},-0.19711501732905556,{"$f":"'price data'!D55","v":136.720001},3.9688985733145589E-2,{"$f":"'price data'!E55","v":176.34359699999999},-0.18853955156010829,{"$f":"'price data'!F55","v":41.538826},-5.4980227527830806E-2,{"$f":"'price data'!G55","v":142.375},-0.1794330343297009,{"$f":"'price data'!H55","v":94.400002000000001},-0.15693131083343881,{"$f":"'price data'!I55","v":10.906091},-0.20629081446938749,{"$f":"'price data'!J55","v":49.534694999999999},-0.2067063661408832,{"$f":"'price data'!K55","v":108.962997},-4.3100208033141033E-2,{"$f":"'price data'!L55","v":269.153595},-9.8794510645055816E-2,{"$f":"'price data'!M55","v":137.79039},2.8841908532370099E-2,{"$f":"'price data'!N55","v":36.542560999999999},-0.1638780210315795,{"$f":"'price data'!O55","v":175.194458},-4.9099997040703419E-3,{"$f":"'price data'!P55","v":109.821594},-0.1606121458541804,{"$f":"'price data'!Q55","v":61.569996000000003},-7.4432554525804577E-3,{"$f":"'price data'!R55","v":46.809401999999999},-0.1087085642745852,{"$f":"'price data'!S55","v":242.81516999999999},-2.1359650481887368E-2,{"$f":"'price data'!T55","v":126.612892},-0.13284989096785826,{"$f":"'price data'!U55","v":255.56575000000001},-5.4583427689949761E-2,{"$f":"'price data'!V55","v":174.86999499999999},-0.12139193871378372,{"$f":"'price data'!W55","v":51.584187},-3.4454834176069131E-3,{"$f":"'price data'!X55","v":141.85580400000001},-2.8047374608968903E-2,{"$f":"'price data'!Y55","v":136.30424500000001},-8.3468607287203789E-2,{"$f":"'price data'!Z55","v":93.512259999999998},-9.2552975620085048E-2,{"$f":"'price data'!AA55","v":46.396751000000002},-3.7256196235261253E-2,{"$f":"'price data'!AB55","v":49.288780000000003},-1.0584182609034515E-2,{"$f":"'price data'!AC55","v":120.59815999999999},-5.2739298689319696E-2,{"$f":"'price data'!AD55","v":84.138572999999994},-0.10400457499319997,{"$f":"'price data'!AE55","v":106.209999},-0.12381782195806545,null,{"$f":"'price data'!AF55","v":3785.3798830000001},-8.7651581672096149E-2]
[{"$f":"'price data'!A56","v":"2022-07-01"},{"$f":"'price data'!B56","v":297.14999399999999},0.28048014773263807,{"$f":"'price data'!C56","v":36.097126000000003},0.13250754571071455,{"$f":"'price data'!D56","v":159.30999800000001},0.15291693090910952,{"$f":"'price data'!E56","v":195.57012900000001},0.1034846836692772,{"$f":"'price data'!F56","v":44.198321999999997},6.2058268429738689E-2,{"$f":"'price data'!G56","v":161.05938699999999},0.12330873855779155,{"$f":"'price data'!H56","v":106.099998},0.11684093243190033,{"$f":"'price data'!I56","v":14.394472},0.27752280348899588,{"$f":"'price data'!J56","v":57.569983999999998},0.15032798762165453,{"$f":"'price data'!K56","v":116.32},6.5336666255668571E-2,{"$f":"'price data'!L56","v":297.19125400000001},9.9093682634009486E-2,{"$f":"'price data'!M56","v":127.640793},-7.6513603219180132E-2,{"$f":"'price data'!N56","v":35.468066999999998},-2.9844865526396612E-2,{"$f":"'price data'!O56","v":172.243469},-1.6987552226968086E-2,{"$f":"'price data'!P56","v":112.503502},2.412717364312671E-2,{"$f":"'price data'!Q56","v":63.256905000000003},2.7029617653085303E-2,{"$f":"'price data'!R56","v":45.929188000000003},-1.8983261077741575E-2,{"$f":"'price data'!S56","v":260.469269},7.0184348304164798E-2,{"$f":"'price data'!T56","v":140.143967},0.10153589287968144,{"$f":"'price data'!U56","v":279.358093},8.9014731220908652E-2,{"$f":"'price data'!V56","v":224.89999399999999},0.25161302015384707,{"$f":"'price data'!W56","v":49.695160000000001},-3.7307627978090362E-2,{"$f":"'price data'!X56","v":137.04145800000001},-3.4527583690164856E-2,{"$f":"'price data'!Y56","v":162.01580799999999},0.17280442796703302,{"$f":"'price data'!Z56","v":97.724609000000001},4.4060859954309521E-2,{"$f":"'price data'!AA56","v":49.370525000000001},6.2124150973620854E-2,{"$f":"'price data'!AB56","v":44.860076999999997},-9.4148223398306655E-2,{"$f":"'price data'!AC56","v":130.98361199999999},8.2608189010345875E-2,{"$f":"'price data'!AD56","v":95.230637000000002},0.12383658906245523,{"$f":"'price data'!AE56","v":134.949997},0.23948606031541886,null,{"$f":"'price data'!AF56","v":4130.2900390000004},8.7201384625051226E-2]
[{"$f":"'price data'!A57","v":"2022-08-01"},{"$f":"'price data'!B57","v":275.60998499999999},-7.5250273094094378E-2,{"$f":"'price data'!C57","v":38.038367999999998},5.2382084567410364E-2,{"$f":"'price data'!D57","v":160.25},5.883118770115687E-3,{"$f":"'price data'!E57","v":183.48228499999999},-6.3800907889860134E-2,{"$f":"'price data'!F57","v":43.957217999999997},-5.4699818336188168E-3,{"$f":"'price data'!G57","v":155.43441799999999},-3.5549266863196441E-2,{"$f":"'price data'!H57","v":112.08000199999999},5.4830893103352332E-2,{"$f":"'price data'!I57","v":14.933408},3.6756606751466601E-2,{"$f":"'price data'!J57","v":57.203892000000003},-6.3793827361052734E-3,{"$f":"'price data'!K57","v":108.220001},-7.2178812330183945E-2,{"$f":"'price data'!L57","v":284.82720899999998},-4.249317222244349E-2,{"$f":"'price data'!M57","v":125.35714},-1.8053230684019449E-2,{"$f":"'price data'!N57","v":31.179859},-0.12886042905286929,{"$f":"'price data'!O57","v":159.23539700000001},-7.8525401694342981E-2,{"$f":"'price data'!P57","v":111.894966},-5.423722338091872E-3,{"$f":"'price data'!Q57","v":60.831913},-3.9089755472833984E-2,{"$f":"'price data'!R57","v":47.412689},3.178907419303785E-2,{"$f":"'price data'!S57","v":249.50140400000001},-4.3020342514420884E-2,{"$f":"'price data'!T57","v":121.662254},-0.14142143418510622,{"$f":"'price data'!U57","v":260.18292200000002},-7.1109516513844104E-2,{"$f":"'price data'!V57","v":223.55999800000001},-5.9760068313926603E-3,{"$f":"'price data'!W57","v":44.845638000000001},-0.10268121780468695,{"$f":"'price data'!X57","v":136.967941},-5.3660204381577692E-4,{"$f":"'price data'!Y57","v":156.74191300000001},-3.3093324243061793E-2,{"$f":"'price data'!Z57","v":93.580673000000004},-4.3329533527894877E-2,{"$f":"'price data'!AA57","v":45.819603000000001},-7.4641573553385868E-2,{"$f":"'price data'!AB57","v":41.117058},-8.7125173647054563E-2,{"$f":"'price data'!AC57","v":131.479568},3.7792469808481657E-3,{"$f":"'price data'!AD57","v":93.914124000000001},-1.392091701372559E-2,{"$f":"'price data'!AE57","v":126.769997},-6.2529919947827542E-2,null,{"$f":"'price data'!AF57","v":3955},-4.3367030648273505E-2]
[{"$f":"'price data'!A58","v":"2022-09-01"},{"$f":"'price data'!B58","v":265.25},-3.83139910326602E-2,{"$f":"'price data'!C58","v":32.018794999999997},-0.17227226041776597,{"$f":"'price data'!D58","v":121.08000199999999},-0.28028359512925705,{"$f":"'price data'!E58","v":162.989395},-0.11843298598436212,{"$f":"'price data'!F58","v":39.317729999999997},-0.11154128055042745,{"$f":"'price data'!G58","v":142.567184},-8.6410538192058073E-2,{"$f":"'price data'!H58","v":94.330001999999993},-0.17241362600922408,{"$f":"'price data'!I58","v":11.084137999999999},-0.29808577343817866,{"$f":"'price data'!J58","v":48.222938999999997},-0.1707871173200293,{"$f":"'price data'!K58","v":95.650002000000001},-0.12347048465919742,{"$f":"'price data'!L58","v":274.28066999999999},-3.7730787021128052E-2,{"$f":"'price data'!M58","v":117.410133},-6.5493568068648741E-2,{"$f":"'price data'!N58","v":25.426587999999999},-0.20397694329522173,{"$f":"'price data'!O58","v":162.31234699999999},1.9138955135842763E-2,{"$f":"'price data'!P58","v":102.813889},-8.4640176811951448E-2,{"$f":"'price data'!Q58","v":55.222878000000001},-9.673721219525537E-2,{"$f":"'price data'!R58","v":43.508491999999997},-8.5933755864794875E-2,{"$f":"'price data'!S58","v":229.44776899999999},-8.3789124887931068E-2,{"$f":"'price data'!T58","v":109.22110000000001},-0.10787452767473044,{"$f":"'price data'!U58","v":232.24548300000001},-0.11359000116173339,{"$f":"'price data'!V58","v":235.44000199999999},5.1776286964597254E-2,{"$f":"'price data'!W58","v":43.388126},-3.3040517047383595E-2,{"$f":"'price data'!X58","v":125.360321},-8.8554732474988851E-2,{"$f":"'price data'!Y58","v":137.971115},-0.12755623482132036,{"$f":"'price data'!Z58","v":84.820937999999998},-9.8281454421974626E-2,{"$f":"'price data'!AA58","v":43.031104999999997},-6.278878637000021E-2,{"$f":"'price data'!AB58","v":37.340702},-9.6339133743613733E-2,{"$f":"'price data'!AC58","v":129.21289100000001},-1.7390101206747385E-2,{"$f":"'price data'!AD58","v":86.612746999999999},-8.0933791506630909E-2,{"$f":"'price data'!AE58","v":113},-0.11498657857338955,null,{"$f":"'price data'!AF58","v":3585.6201169999999},-9.8049166673284727E-2]
[{"$f":"'price data'!A59","v":"2022-10-01"},{"$f":"'price data'!B59","v":227.53999300000001},-0.15334676114634421,{"$f":"'price data'!C59","v":39.162906999999997},0.20140697468836871,{"$f":"'price data'!D59","v":142.509995},0.16296063692834065,{"$f":"'price data'!E59","v":215.021255},0.27705174636591773,{"$f":"'price data'!F59","v":44.655106000000004},0.12729309470931316,{"$f":"'price data'!G59","v":179.51139800000001},0.23042534924974153,{"$f":"'price data'!H59","v":106.540001},0.12172121701107487,{"$f":"'price data'!I59","v":13.231688999999999},0.17709955707540023,{"$f":"'price data'!J59","v":60.682975999999996},0.22982837673480705,{"$f":"'price data'!K59","v":94.510002},-1.1990046627081509E-2,{"$f":"'price data'!L59","v":294.34927399999998},7.0615143847320941E-2,{"$f":"'price data'!M59","v":136.66061400000001},0.15182736682059619,{"$f":"'price data'!N59","v":28.05114},9.8233874659469686E-2,{"$f":"'price data'!O59","v":172.854309},6.2926548389795056E-2,{"$f":"'price data'!P59","v":123.84891500000001},0.18614194440067081,{"$f":"'price data'!Q59","v":59.428519999999999},7.3396921879551866E-2,{"$f":"'price data'!R59","v":47.028953999999999},7.7807317154118996E-2,{"$f":"'price data'!S59","v":271.13299599999999},0.16693404310160734,{"$f":"'price data'!T59","v":124.33414500000001},0.12959839101574869,{"$f":"'price data'!U59","v":231.47766100000001},-3.3115565251460124E-3,{"$f":"'price data'!V59","v":291.88000499999998},0.21488666360779615,{"$f":"'price data'!W59","v":46.154418999999997},6.1806900141734115E-2,{"$f":"'price data'!X59","v":133.72099299999999},6.4563328819141966E-2,{"$f":"'price data'!Y59","v":153.08604399999999},0.10395579074727528,{"$f":"'price data'!Z59","v":104.013931},0.20398241939582656,{"$f":"'price data'!AA59","v":44.266494999999999},2.8304844075559062E-2,{"$f":"'price data'!AB59","v":36.750644999999999},-1.5928161625865765E-2,{"$f":"'price data'!AC59","v":141.795456},9.2924206537530418E-2,{"$f":"'price data'!AD59","v":109.925072},0.23835197132690208,{"$f":"'price data'!AE59","v":102.44000200000001},-9.8110537857392613E-2,null,{"$f":"'price data'!AF59","v":3871.9799800000001},7.6834564400085875E-2]
[{"$f":"'price data'!A60","v":"2022-11-01"},{"$f":"'price data'!B60","v":194.699997},-0.15586611937791489,{"$f":"'price data'!C60","v":40.470001000000003},3.2830934778171228E-2,{"$f":"'price data'!D60","v":178.88000500000001},0.22730308031857052,{"$f":"'price data'!E60","v":236.41000399999999},9.4830719035058894E-2,{"$f":"'price data'!F60","v":49.325890000000001},9.9480438446968592E-2,{"$f":"'price data'!G60","v":181.90289300000001},1.323428522102468E-2,{"$f":"'price data'!H60","v":97.870002999999997},-8.4880412784364576E-2,{"$f":"'price data'!I60","v":13.756207},3.8875506058312505E-2,{"$f":"'price data'!J60","v":67.046852000000001},9.9728461144391489E-2,{"$f":"'price data'!K60","v":100.989998},6.6315812065778093E-2,{"$f":"'price data'!L60","v":322.041718},8.9914027138850938E-2,{"$f":"'price data'!M60","v":147.145599},7.3921983730708254E-2,{"$f":"'price data'!N60","v":29.669284999999999},5.6083062742367358E-2,{"$f":"'price data'!O60","v":176.85845900000001},2.2900650817007113E-2,{"$f":"'price data'!P60","v":137.16679400000001},0.10213526446014373,{"$f":"'price data'!Q60","v":63.162044999999999},6.0929321129719279E-2,{"$f":"'price data'!R60","v":48.918461000000001},3.9391396211422472E-2,{"$f":"'price data'!S60","v":271.26226800000001},4.7667083777377191E-4,{"$f":"'price data'!T60","v":124.51205400000001},1.4298713906554981E-3,{"$f":"'price data'!U60","v":254.422989},9.4514820839365188E-2,{"$f":"'price data'!V60","v":305.52999899999998},4.5705194162297805E-2,{"$f":"'price data'!W60","v":49.703999000000003},7.4092683298035394E-2,{"$f":"'price data'!X60","v":149.16000399999999},0.10926409463843266,{"$f":"'price data'!Y60","v":147.784851},-3.5242635757633901E-2,{"$f":"'price data'!Z60","v":106.822174},2.6640684604842129E-2,{"$f":"'price data'!AA60","v":46.262886000000002},4.4111971013704281E-2,{"$f":"'price data'!AB60","v":38.979999999999997},5.8892917554178144E-2,{"$f":"'price data'!AC60","v":151.847565},6.8491587351198105E-2,{"$f":"'price data'!AD60","v":110.450844},4.7716012449581209E-3,{"$f":"'price data'!AE60","v":96.540001000000004},-5.9319840264200417E-2,null,{"$f":"'price data'!AF60","v":4080.110107},5.2357976115313107E-2]
[{"$f":"'price data'!A61","v":"2022-12-01"},{"$f":"'price data'!B61","v":123.18},-0.45781319671093618,{"$f":"'price data'!C61","v":33.565353000000002},-0.1870666093545299,{"$f":"'price data'!D61","v":190.490005},6.2884508080269783E-2,{"$f":"'price data'!E61","v":239.55999800000001},1.3236296306158165E-2,{"$f":"'price data'!F61","v":47.262379000000003},-4.2734486289832854E-2,{"$f":"'price data'!G61","v":179.490005},-1.3353465813894707E-2,{"$f":"'price data'!H61","v":86.879997000000003},-0.11911227643539656,{"$f":"'price data'!I61","v":11.63},-0.16790217390529058,{"$f":"'price data'!J61","v":65.346703000000005},-2.5684671206154114E-2,{"$f":"'price data'!K61","v":88.230002999999996},-0.13507440699847154,{"$f":"'price data'!L61","v":315.85998499999999},-1.9382066206062951E-2,{"$f":"'price data'!M61","v":140.88999899999999},-4.3443129007890859E-2,{"$f":"'price data'!N61","v":26.43},-0.11561260698025279,{"$f":"'price data'!O61","v":176.64999399999999},-1.179406163532718E-3,{"$f":"'price data'!P61","v":133.11672999999999},-2.9971247291334806E-2,{"$f":"'price data'!Q61","v":63.610000999999997},7.0671394608317721E-3,{"$f":"'price data'!R61","v":44.580002},-9.2869477977464837E-2,{"$f":"'price data'!S61","v":263.52999899999998},-2.891892178315339E-2,{"$f":"'price data'!T61","v":119.91999800000001},-3.7577693378630067E-2,{"$f":"'price data'!U61","v":239.820007},-5.9109521809438223E-2,{"$f":"'price data'!V61","v":294.88000499999998},-3.5479459312481559E-2,{"$f":"'price data'!W61","v":51.240001999999997},3.043512341825139E-2,{"$f":"'price data'!X61","v":151.55999800000001},1.5961990826845539E-2,{"$f":"'price data'!Y61","v":129.929993},-0.12876171662443422,{"$f":"'price data'!Z61","v":99.459998999999996},-7.1409983466234644E-2,{"$f":"'price data'!AA61","v":43.029998999999997},-7.2442517757452751E-2,{"$f":"'price data'!AB61","v":39.400002000000001},1.0717172985893451E-2,{"$f":"'price data'!AC61","v":141.25747699999999},-7.2292852662934823E-2,{"$f":"'price data'!AD61","v":110.300003},-1.3666178456515083E-3,{"$f":"'price data'!AE61","v":84},-0.13914064174743387,null,{"$f":"'price data'!AF61","v":3839.5},-6.0781825273270251E-2]
[]
[]
["Stand Dev",null,{"$f":"STDEV(C5:C64)","v":0.19727891881717438},null,{"$f":"STDEV(E5:E64)","v":0.11563378459015487},null,{"$f":"STDEV(G5:G64)","v":0.13980861241499859},null,{"$f":"STDEV(I5:I64)","v":9.0907707779219221E-2},null,{"$f":"STDEV(K5:K64)","v":7.8288569200460567E-2},null,{"$f":"STDEV(M5:M64)","v":9.3420111768909436E-2},null,{"$f":"STDEV(O5:O64)","v":9.3456681309705664E-2},null,{"$f":"STDEV(Q5:Q64)","v":0.12444811788404476},null,{"$f":"STDEV(S5:S64)","v":0.12444872243413523},null,{"$f":"STDEV(U5:U64)","v":7.4161285035401148E-2},null,{"$f":"STDEV(W5:W64)","v":7.1417927313172133E-2},null,{"$f":"STDEV(Y5:Y64)","v":7.8408755418173798E-2},null,{"$f":"STDEV(AA5:AA64)","v":8.3393393339336999E-2},null,{"$f":"STDEV(AC5:AC64)","v":5.1570989912158999E-2},null,{"$f":"STDEV(AE5:AE64)","v":8.0374876905036613E-2},null,{"$f":"STDEV(AG5:AG64)","v":5.7408020670265014E-2},null,{"$f":"STDEV(AI5:AI64)","v":7.7546208864444216E-2},null,{"$f":"STDEV(AK5:AK64)","v":5.5727809380393616E-2},null,{"$f":"STDEV(AM5:AM64)","v":6.9468805196731834E-2},null,{"$f":"STDEV(AO5:AO64)","v":6.0909565536066614E-2},null,{"$f":"STDEV(AQ5:AQ64)","v":0.13474859502260558},null,{"$f":"STDEV(AS5:AS64)","v":7.3450380618437547E-2},null,{"$f":"STDEV(AU5:AU64)","v":4.9717116609557868E-2},null,{"$f":"STDEV(AW5:AW64)","v":9.281806793198917E-2},null,{"$f":"STDEV(AY5:AY64)","v":9.7754855367170407E-2},null,{"$f":"STDEV(BA5:BA64)","v":8.8770477482780497E-2},null,{"$f":"STDEV(BC5:BC64)","v":4.9784125660924106E-2},null,{"$f":"STDEV(BE5:BE64)","v":5.8449748924474632E-2},null,{"$f":"STDEV(BG5:BG64)","v":0.10014907516827225},null,{"$f":"STDEV(BI5:BI64)","v":9.4478294743733551E-2},null,null,{"$f":"STDEV(BL5:BL64)","v":5.4431760253897898E-2}]

{"sheet":"Corr. Matrix","index":3,"n_rows":69,"n_cols":32,"rows_kept":69,"cut":false,"hidden":false,"merged":[[38,1,38,2]]}
[]
["Correlation Matrix"]
[]
[null,null,"_1","_2","_3","_4","_5","_6","_7","_8","_9","_10","_11","_12","_13","_14","_15","_16","_17","_18","_19","_20","_21","_22","_23","_24","_25","_26","_27","_28","_29","_30"]
[null,null,{"$f":"'Returns & Stand Dev'!B2","v":"TSLA"},{"$f":"'Returns & Stand Dev'!D2","v":"GM"},{"$f":"'Returns & Stand Dev'!F2","v":"BA"},{"$f":"'Returns & Stand Dev'!H2","v":"CAT"},{"$f":"'Returns & Stand Dev'!J2","v":"CSCO"},{"$f":"'Returns & Stand Dev'!L2","v":"CVX"},{"$f":"'Returns & Stand Dev'!N2","v":"DIS"},{"$f":"'Returns & Stand Dev'!P2","v":"F"},{"$f":"'Returns & Stand Dev'!R2","v":"GE"},{"$f":"'Returns & Stand Dev'!T2","v":"GOOGL"},{"$f":"'Returns & Stand Dev'!V2","v":"HD"},{"$f":"'Returns & Stand Dev'!X2","v":"IBM"},{"$f":"'Returns & Stand Dev'!Z2","v":"INTC"},{"$f":"'Returns & Stand Dev'!AB2","v":"JNJ"},{"$f":"'Returns & Stand Dev'!AD2","v":"JPM"},{"$f":"'Returns & Stand Dev'!AF2","v":"KO"},{"$f":"'Returns & Stand Dev'!AH2","v":"KR"},{"$f":"'Returns & Stand Dev'!AJ2","v":"MCD"},{"$f":"'Returns & Stand Dev'!AL2","v":"MMM"},{"$f":"'Returns & Stand Dev'!AN2","v":"MSFT"},{"$f":"'Returns & Stand Dev'!AP2","v":"NFLX"},{"$f":"'Returns & Stand Dev'!AR2","v":"PFE"},{"$f":"'Returns & Stand Dev'!AT2","v":"PG"},{"$f":"'Returns & Stand Dev'!AV2","v":"AAPL"},{"$f":"'Returns & Stand Dev'!AX2","v":"PRU"},{"$f":"'Returns & Stand Dev'!AZ2","v":"TFC"},{"$f":"'Returns & Stand Dev'!BB2","v":"VZ"},{"$f":"'Returns & Stand Dev'!BD2","v":"WMT"},{"$f":"'Returns & Stand Dev'!BF2","v":"XOM"},{"$f":"'Returns & Stand Dev'!BH2","v":"AMZN"}]
["_1",{"$f":"C5","v":"TSLA"},{"$f":"CORREL(INDIRECT(C$4),INDIRECT($A6))","v":1},0.40455285066309998,0.17533155649301116,8.9332552249271224E-2,0.1605738566891855,0.22296760972303381,0.34399298411418933,0.29333551603126767,0.19484634621627522,0.48418946285348752,{"$f":"CORREL(INDIRECT(M$4),INDIRECT($A6))","v":0.34665424386114008},4.5039331165123084E-2,0.2551350842146618,0.29903387629938516,0.23414210886530273,0.19275031272823948,0.27026036737627812,0.30795682706042676,0.30329766174269546,0.54062102291660064,{"$f":"CORREL(INDIRECT(W$4),INDIRECT($A6))","v":0.33070780102698405},0.16405166873006272,0.12829615448500722,0.60409420310284312,0.32231986744525903,0.31126424908592021,0.1158380151560765,0.33098851588775646,0.15252108647574317,0.52145743482478424]
["_2",{"$f":"D5","v":"GM"},0.40455285066309998,0.99999999999999989,0.56226203855165535,0.48080783374654817,0.39900140989214067,0.54979723048806561,0.51895430832907508,0.81032028198410844,0.59009927206993018,0.51815553487189836,0.54778462978469866,0.32692940696942224,0.4562364577139929,0.19424862437617174,0.6898103092857204,0.32655143429090333,0.15232798013487747,0.50555705208379276,0.56789008056319912,0.38616920290407036,0.3063641168717614,0.17968381416305282,0.27033838945936844,0.44020058370636667,0.62238906006980188,0.65056456294547915,0.1666865679917976,0.26573523317513664,0.51934700530293909,0.25729385774498159]
["_3",{"$f":"E5","v":"BA"},0.17533155649301116,0.56226203855165535,0.99999999999999978,0.41926056526779804,0.44564955259694494,0.49977979308044646,0.50308491108677111,0.55500848038680528,0.60897282174429579,0.35434986104408617,0.35037860015574712,0.4278311993317469,0.36093046783634691,0.16391597061719146,0.60223841175771942,0.44443071458875133,0.11529963626409469,0.41993159774378647,0.3885403320389858,0.3578097157605426,0.26816361406591055,7.7814653211338028E-2,0.28057507440305135,0.29629853034521936,0.58487078300869666,0.6073458608554767,0.2340215435800844,0.13764003619878759,0.49213530745592499,0.15685840749689942]
["_4",{"$f":"F5","v":"CAT"},8.9332552249271224E-2,0.48080783374654817,0.41926056526779804,1,0.47130283983412735,0.58772004471257677,0.45571414668336546,0.48928842143198764,0.51209462881340839,0.40795126733430198,0.40889467439597754,0.50855831430081078,0.47750433217318167,0.40273094961248712,0.66338359419496373,0.32815234790064163,0.22808379850814825,0.32971782823958878,0.75036825769967996,0.42601584088947986,0.32806360378625493,0.31693206633253596,0.25133064108610448,0.32801584704740644,0.63410182231953283,0.43855966296270515,0.15026770314533622,0.28166883008384674,0.51474473861286452,0.2903028799668208]
["_5",{"$f":"G5","v":"CSCO"},0.1605738566891855,0.39900140989214067,0.44564955259694494,0.47130283983412735,1.0000000000000002,0.42837896057494856,0.47570394481412287,0.45023007373963403,0.367878842017477,0.43525076983174549,0.42423645490321449,0.5186919924577974,0.50116600172027392,0.44748233137506982,0.5387406120370235,0.30278443940883742,0.32292072467969363,0.36313954448685426,0.53051047530531115,0.50252106823375631,0.40835219478160661,0.464172572592082,0.39480307384961943,0.45727842716771577,0.54545995303367067,0.37635178473366532,0.27412910318552375,0.36185457685921796,0.36258296847591348,0.41014094044094751]
["_6",{"$f":"H5","v":"CVX"},0.22296760972303381,0.54979723048806561,0.49977979308044646,0.58772004471257677,0.42837896057494856,0.99999999999999978,0.51331592159312234,0.56876094539142008,0.49188852409637229,0.42786349757505254,0.43143229512686299,0.47391614845022345,0.4466405325788495,0.41801085081763845,0.64271568999895468,0.45171853118654826,0.17522692000754883,0.51375933295425658,0.5677606225259153,0.36142550105389343,0.20413089082821312,0.29320284259355789,0.20475169033874785,0.28304146383390189,0.73155333067896156,0.60452727798950912,0.339091546758363,0.24197944640605837,0.8984353592772033,0.27848019580391337]
["_7",{"$f":"I5","v":"DIS"},0.34399298411418933,0.51895430832907508,0.50308491108677111,0.45571414668336546,0.47570394481412287,0.51331592159312234,1,0.54571717791091623,0.52405483791393659,0.57794467508574721,0.32918175510752518,0.3112242370518718,0.35205416342081541,0.36605515119960391,0.73138445775496341,0.52977231756572485,0.18745093617499128,0.46366270849269176,0.44817225816144973,0.5120552640619066,0.42636040998216379,0.15888533875344729,0.2691564087154944,0.49719901180003262,0.65564871259070245,0.5729576315213124,0.29280530033843111,0.3080502647401569,0.475892019480394,0.44902925336457805]
["_8",{"$f":"J5","v":"F"},0.29333551603126767,0.81032028198410844,0.55500848038680528,0.48928842143198764,0.45023007373963403,0.56876094539142008,0.54571717791091623,1,0.56311597396290802,0.47938872577405206,0.49264973635416948,0.25470292044574239,0.36054664452080665,0.20784944483677856,0.66931650485450755,0.35565406380206277,0.13843298134393869,0.49699524608900719,0.45545338413975101,0.46525632686533475,0.35257532414753245,0.16639462984955758,0.25236080955107076,0.44824458735900552,0.62665143582255034,0.65235993375377832,0.11256163599756464,0.26353703579682303,0.56401845844800869,0.33463598950605694]
["_9",{"$f":"K5","v":"GE"},0.19484634621627522,0.59009927206993018,0.60897282174429579,0.51209462881340839,0.367878842017477,0.49188852409637229,0.52405483791393659,0.56311597396290802,1,0.45899991016737435,0.24230980247850642,0.34300327516203766,0.37541225482072621,9.9613941176182566E-2,0.67427196240889298,0.29390954525696372,6.7000355757358077E-2,0.2256262873851741,0.39383113556098043,0.29535280052410895,0.38841675837373196,1.6383226860291238E-2,8.4158189422684174E-2,0.3563461445596568,0.65492242064760831,0.56631376924878529,8.5454043997851739E-2,0.17697020432632332,0.49135928071653118,0.18929091868877077]
["_10",{"$f":"L5","v":"GOOGL"},0.48418946285348752,0.51815553487189836,0.35434986104408617,0.40795126733430198,0.43525076983174549,0.42786349757505254,0.57794467508574721,0.47938872577405206,0.45899991016737435,1,0.5319803259680993,0.3820088901526793,0.34886799630149717,0.30093564377197224,0.58245020539060288,0.42192534214389971,0.27966968797756908,0.36682072550704475,0.54685902510990902,0.74601962464601745,0.42754567514204622,0.30011413759634725,0.28210274403474167,0.56049359112495767,0.58639573907940123,0.59269781549875045,0.27982818068701426,0.26794161019264257,0.34917950633678213,0.62919655074857017]
["_11",{"$f":"M5","v":"HD"},{"$f":"CORREL(INDIRECT(C$4),INDIRECT($A16))","v":0.34665424386114008},0.54778462978469866,0.35037860015574712,0.40889467439597754,0.42423645490321449,0.43143229512686299,0.32918175510752518,0.49264973635416948,0.24230980247850642,0.5319803259680993,{"$f":"CORREL(INDIRECT(M$4),INDIRECT($A16))","v":1},0.51687578327356776,0.25024488305048892,0.35999228475685069,0.45342115707258007,0.44128950382871418,0.18473078664490691,0.60463942007183924,0.57848360314551905,0.60651771631423079,{"$f":"CORREL(INDIRECT(W$4),INDIRECT($A16))","v":0.32799521602046611},0.42644337116587683,0.44952000032066125,0.46535740556786925,0.48274353517109186,0.38142578380638498,0.22201594355118726,0.39313697265527575,0.34671925357173167,0.46090805407684177]
["_12",{"$f":"N5","v":"IBM"},4.5039331165123084E-2,0.32692940696942224,0.4278311993317469,0.50855831430081078,0.5186919924577974,0.47391614845022345,0.3112242370518718,0.25470292044574239,0.34300327516203766,0.3820088901526793,0.51687578327356776,0.99999999999999989,0.40057165654124582,0.52001809106433583,0.47044471474970356,0.42604212878265785,0.14672693064677958,0.50620455674625509,0.58173359010439951,0.31946498901391818,0.14397643665138443,0.37939024860247544,0.45019749858541142,0.30556392433296259,0.64303657313411,0.37716637145721882,0.26235121778994824,0.19300885723529401,0.49901417566218187,0.28139920468360841]
["_13",{"$f":"O5","v":"INTC"},0.2551350842146618,0.4562364577139929,0.36093046783634691,0.47750433217318167,0.50116600172027392,0.4466405325788495,0.35205416342081541,0.36054664452080665,0.37541225482072621,0.34886799630149717,0.25024488305048892,0.40057165654124582,1.0000000000000002,0.38434720595561034,0.47530416437137363,0.12301725878716287,0.18352391740843624,0.30101847361713929,0.53628787653726906,0.44504166454424149,0.23963710198297852,0.19492880905286336,0.21879883629266439,0.3708390602702395,0.40964659521797442,0.33354757637150712,0.34667026213322594,9.1343275255345788E-2,0.39491136743792593,0.23251408184460945]
["_14",{"$f":"P5","v":"JNJ"},0.29903387629938516,0.19424862437617174,0.16391597061719146,0.40273094961248712,0.44748233137506982,0.41801085081763845,0.36605515119960391,0.20784944483677856,9.9613941176182566E-2,0.30093564377197224,0.35999228475685069,0.52001809106433583,0.38434720595561034,1,0.41347159232004838,0.51895859230664465,0.33105125081605158,0.52506963368637549,0.59171404320870924,0.44683058810147586,7.4561095000831412E-2,0.55187539441389499,0.47481989562255678,0.38555379548558594,0.54774102454306828,0.30262000078199702,0.4530816729470164,0.48569406781557217,0.43378326199086437,0.24427507024247411]
["_15",{"$f":"Q5","v":"JPM"},0.23414210886530273,0.6898103092857204,0.60223841175771942,0.66338359419496373,0.5387406120370235,0.64271568999895468,0.73138445775496341,0.66931650485450755,0.67427196240889298,0.58245020539060288,0.45342115707258007,0.47044471474970356,0.47530416437137363,0.41347159232004838,1,0.4877733659838201,0.17389637968585392,0.45120651686031449,0.59542097860539078,0.47481831416773479,0.37973048156701861,0.31056512432801697,0.28190326370696617,0.39745274775501788,0.80953259471053063,0.78651198311452541,0.35814387061871089,0.2116078091357611,0.62074760173730481,0.28035848812790026]
["_16",{"$f":"R5","v":"KO"},0.19275031272823948,0.32655143429090333,0.44443071458875133,0.32815234790064163,0.30278443940883742,0.45171853118654826,0.52977231756572485,0.35565406380206277,0.29390954525696372,0.42192534214389971,0.44128950382871418,0.42604212878265785,0.12301725878716287,0.51895859230664465,0.4877733659838201,0.99999999999999989,6.3507801269343606E-2,0.68363711777813208,0.4016564849546404,0.33664357996533312,-9.9600233233095581E-2,0.27137200354490626,0.65024437210668329,0.26290419863402831,0.56224337187588547,0.4473154355952228,0.41377933269894951,0.38109701840010518,0.41295904607426442,7.0674098113433351E-2]
["_17",{"$f":"S5","v":"KR"},0.27026036737627812,0.15232798013487747,0.11529963626409469,0.22808379850814825,0.32292072467969363,0.17522692000754883,0.18745093617499128,0.13843298134393869,6.7000355757358077E-2,0.27966968797756908,0.18473078664490691,0.14672693064677958,0.18352391740843624,0.33105125081605158,0.17389637968585392,6.3507801269343606E-2,0.99999999999999989,0.14882924529481939,0.29848089436445502,0.31680632960909771,0.13829531027464845,0.26284653377677342,0.23635494101497134,0.29714535282364191,0.19602491172501388,7.0604697154232232E-2,0.25151863049403195,0.50608487052957307,9.1057766805704654E-2,0.24843621770914301]
["_18",{"$f":"T5","v":"MCD"},0.30795682706042676,0.50555705208379276,0.41993159774378647,0.32971782823958878,0.36313954448685426,0.51375933295425658,0.46366270849269176,0.49699524608900719,0.2256262873851741,0.36682072550704475,0.60463942007183924,0.50620455674625509,0.30101847361713929,0.52506963368637549,0.45120651686031449,0.68363711777813208,0.14882924529481939,1,0.47729504216928015,0.41083539118551171,0.11701016551928697,0.37715529554979554,0.54463374765645678,0.38057338992278178,0.59785692007590219,0.44149306150031226,0.3976853977197895,0.4461016675743204,0.45927863348474796,0.24516028480347068]
["_19",{"$f":"U5","v":"MMM"},0.30329766174269546,0.56789008056319912,0.3885403320389858,0.75036825769967996,0.53051047530531115,0.5677606225259153,0.44817225816144973,0.45545338413975101,0.39383113556098043,0.54685902510990902,0.57848360314551905,0.58173359010439951,0.53628787653726906,0.59171404320870924,0.59542097860539078,0.4016564849546404,0.29848089436445502,0.47729504216928015,0.99999999999999978,0.55704699031507554,0.2897604629685735,0.42388887328117136,0.46231683425505082,0.48895316346746942,0.60513244094039864,0.47012650303194231,0.33809850824674087,0.36494408610428886,0.52415573490536349,0.38972267292273022]
["_20",{"$f":"V5","v":"MSFT"},0.54062102291660064,0.38616920290407036,0.3578097157605426,0.42601584088947986,0.50252106823375631,0.36142550105389343,0.5120552640619066,0.46525632686533475,0.29535280052410895,0.74601962464601745,0.60651771631423079,0.31946498901391818,0.44504166454424149,0.44683058810147586,0.47481831416773479,0.33664357996533312,0.31680632960909771,0.41083539118551171,0.55704699031507554,1,0.50147122404530453,0.32073252758774107,0.33650890704351472,0.69540032677856634,0.4850081792751082,0.40626078260475545,0.2756119846232738,0.39136292763024833,0.30382356223899659,0.73262526618772084]
["_21",{"$f":"W5","v":"NFLX"},{"$f":"CORREL(INDIRECT(C$4),INDIRECT($A26))","v":0.33070780102698405},0.3063641168717614,0.26816361406591055,0.32806360378625493,0.40835219478160661,0.20413089082821312,0.42636040998216379,0.35257532414753245,0.38841675837373196,0.42754567514204622,{"$f":"CORREL(INDIRECT(M$4),INDIRECT($A26))","v":0.32799521602046611},0.14397643665138443,0.23963710198297852,7.4561095000831412E-2,0.37973048156701861,-9.9600233233095581E-2,0.13829531027464845,0.11701016551928697,0.2897604629685735,0.50147122404530453,{"$f":"CORREL(INDIRECT(W$4),INDIRECT($A26))","v":1},0.16223136878451808,-7.4454540018756524E-2,0.41787185888091843,0.25531513385776977,0.26441096916338624,4.5656737209093898E-2,7.6191196614313408E-2,0.12280318887895435,0.63238500334331904]
["_22",{"$f":"X5","v":"PFE"},0.16405166873006272,0.17968381416305282,7.7814653211338028E-2,0.31693206633253596,0.464172572592082,0.29320284259355789,0.15888533875344729,0.16639462984955758,1.6383226860291238E-2,0.30011413759634725,0.42644337116587683,0.37939024860247544,0.19492880905286336,0.55187539441389499,0.31056512432801697,0.27137200354490626,0.26284653377677342,0.37715529554979554,0.42388887328117136,0.32073252758774107,0.16223136878451808,1.0000000000000002,0.34043298903911418,0.28316870279615169,0.35041642685758201,0.13829777874208254,0.40663315867060135,0.29032069390376308,0.14877147613652206,0.27071121146302801]
["_23",{"$f":"Y5","v":"PG"},0.12829615448500722,0.27033838945936844,0.28057507440305135,0.25133064108610448,0.39480307384961943,0.20475169033874785,0.2691564087154944,0.25236080955107076,8.4158189422684174E-2,0.28210274403474167,0.44952000032066125,0.45019749858541142,0.21879883629266439,0.47481989562255678,0.28190326370696617,0.65024437210668329,0.23635494101497134,0.54463374765645678,0.46231683425505082,0.33650890704351472,-7.4454540018756524E-2,0.34043298903911418,1,0.33573614344795799,0.35890855496843932,0.23122934575492873,0.47209653536601387,0.54586140485107726,0.17424503321951779,8.1199411878375524E-2]
["_24",{"$f":"Z5","v":"AAPL"},0.60409420310284312,0.44020058370636667,0.29629853034521936,0.32801584704740644,0.45727842716771577,0.28304146383390189,0.49719901180003262,0.44824458735900552,0.3563461445596568,0.56049359112495767,0.46535740556786925,0.30556392433296259,0.3708390602702395,0.38555379548558594,0.39745274775501788,0.26290419863402831,0.29714535282364191,0.38057338992278178,0.48895316346746942,0.69540032677856634,0.41787185888091843,0.28316870279615169,0.33573614344795799,1,0.45938749844258564,0.33060655402307443,0.13417529860185162,0.3842732722453428,0.30512917403409257,0.65946986479603287]
["_25",{"$f":"AA5","v":"PRU"},0.32231986744525903,0.62238906006980188,0.58487078300869666,0.63410182231953283,0.54545995303367067,0.73155333067896156,0.65564871259070245,0.62665143582255034,0.65492242064760831,0.58639573907940123,0.48274353517109186,0.64303657313411,0.40964659521797442,0.54774102454306828,0.80953259471053063,0.56224337187588547,0.19602491172501388,0.59785692007590219,0.60513244094039864,0.4850081792751082,0.25531513385776977,0.35041642685758201,0.35890855496843932,0.45938749844258564,1,0.80341756046947699,0.26698952898192396,0.38195305957516645,0.74123856373160002,0.35381550406540435]
["_26",{"$f":"AB5","v":"TFC"},0.31126424908592021,0.65056456294547915,0.6073458608554767,0.43855966296270515,0.37635178473366532,0.60452727798950912,0.5729576315213124,0.65235993375377832,0.56631376924878529,0.59269781549875045,0.38142578380638498,0.37716637145721882,0.33354757637150712,0.30262000078199702,0.78651198311452541,0.4473154355952228,7.0604697154232232E-2,0.44149306150031226,0.47012650303194231,0.40626078260475545,0.26441096916338624,0.13829777874208254,0.23122934575492873,0.33060655402307443,0.80341756046947699,1.0000000000000002,0.32493453637497954,0.13379870620584913,0.63795968796054903,0.29175352074096234]
["_27",{"$f":"AC5","v":"VZ"},0.1158380151560765,0.1666865679917976,0.2340215435800844,0.15026770314533622,0.27412910318552375,0.339091546758363,0.29280530033843111,0.11256163599756464,8.5454043997851739E-2,0.27982818068701426,0.22201594355118726,0.26235121778994824,0.34667026213322594,0.4530816729470164,0.35814387061871089,0.41377933269894951,0.25151863049403195,0.3976853977197895,0.33809850824674087,0.2756119846232738,4.5656737209093898E-2,0.40663315867060135,0.47209653536601387,0.13417529860185162,0.26698952898192396,0.32493453637497954,1,0.2407263919253218,0.28003229238028543,0.13441418285774642]
["_28",{"$f":"AD5","v":"WMT"},0.33098851588775646,0.26573523317513664,0.13764003619878759,0.28166883008384674,0.36185457685921796,0.24197944640605837,0.3080502647401569,0.26353703579682303,0.17697020432632332,0.26794161019264257,0.39313697265527575,0.19300885723529401,9.1343275255345788E-2,0.48569406781557217,0.2116078091357611,0.38109701840010518,0.50608487052957307,0.4461016675743204,0.36494408610428886,0.39136292763024833,7.6191196614313408E-2,0.29032069390376308,0.54586140485107726,0.3842732722453428,0.38195305957516645,0.13379870620584913,0.2407263919253218,1,0.15889832832531356,0.23584230781683074]
["_29",{"$f":"AE5","v":"XOM"},0.15252108647574317,0.51934700530293909,0.49213530745592499,0.51474473861286452,0.36258296847591348,0.8984353592772033,0.475892019480394,0.56401845844800869,0.49135928071653118,0.34917950633678213,0.34671925357173167,0.49901417566218187,0.39491136743792593,0.43378326199086437,0.62074760173730481,0.41295904607426442,9.1057766805704654E-2,0.45927863348474796,0.52415573490536349,0.30382356223899659,0.12280318887895435,0.14877147613652206,0.17424503321951779,0.30512917403409257,0.74123856373160002,0.63795968796054903,0.28003229238028543,0.15889832832531356,1,0.17837212930735841]
["_30",{"$f":"AF5","v":"AMZN"},0.52145743482478424,0.25729385774498159,0.15685840749689942,0.2903028799668208,0.41014094044094751,0.27848019580391337,0.44902925336457805,0.33463598950605694,0.18929091868877077,0.62919655074857017,0.46090805407684177,0.28139920468360841,0.23251408184460945,0.24427507024247411,0.28035848812790026,7.0674098113433351E-2,0.24843621770914301,0.24516028480347068,0.38972267292273022,0.73262526618772084,0.63238500334331904,0.27071121146302801,8.1199411878375524E-2,0.65946986479603287,0.35381550406540435,0.29175352074096234,0.13441418285774642,0.23584230781683074,0.17837212930735841,1]
[]
[]
[]
[null,"Standard Deviations"]
[null,{"$f":"'Returns & Stand Dev'!C66","v":0.19727891881717438},{"$f":"'Returns & Stand Dev'!BL$66","v":5.4431760253897898E-2}]
[null,{"$f":"'Returns & Stand Dev'!E66","v":0.11563378459015487},{"$f":"'Returns & Stand Dev'!BL$66","v":5.4431760253897898E-2}]
[null,{"$f":"'Returns & Stand Dev'!G66","v":0.13980861241499859},{"$f":"'Returns & Stand Dev'!BL$66","v":5.4431760253897898E-2}]
[null,{"$f":"'Returns & Stand Dev'!I66","v":9.0907707779219221E-2},{"$f":"'Returns & Stand Dev'!BL$66","v":5.4431760253897898E-2}]
[null,{"$f":"'Returns & Stand Dev'!K66","v":7.8288569200460567E-2},{"$f":"'Returns & Stand Dev'!BL$66","v":5.4431760253897898E-2}]
[null,{"$f":"'Returns & Stand Dev'!M66","v":9.3420111768909436E-2},{"$f":"'Returns & Stand Dev'!BL$66","v":5.4431760253897898E-2}]
[null,{"$f":"'Returns & Stand Dev'!O66","v":9.3456681309705664E-2},{"$f":"'Returns & Stand Dev'!BL$66","v":5.4431760253897898E-2}]
[null,{"$f":"'Returns & Stand Dev'!Q66","v":0.12444811788404476},{"$f":"'Returns & Stand Dev'!BL$66","v":5.4431760253897898E-2}]
[null,{"$f":"'Returns & Stand Dev'!S66","v":0.12444872243413523},{"$f":"'Returns & Stand Dev'!BL$66","v":5.4431760253897898E-2}]
[null,{"$f":"'Returns & Stand Dev'!U66","v":7.4161285035401148E-2},{"$f":"'Returns & Stand Dev'!BL$66","v":5.4431760253897898E-2}]
[null,{"$f":"'Returns & Stand Dev'!W66","v":7.1417927313172133E-2},{"$f":"'Returns & Stand Dev'!BL$66","v":5.4431760253897898E-2}]
[null,{"$f":"'Returns & Stand Dev'!Y66","v":7.8408755418173798E-2},{"$f":"'Returns & Stand Dev'!BL$66","v":5.4431760253897898E-2}]
[null,{"$f":"'Returns & Stand Dev'!AA66","v":8.3393393339336999E-2},{"$f":"'Returns & Stand Dev'!BL$66","v":5.4431760253897898E-2}]
[null,{"$f":"'Returns & Stand Dev'!AC66","v":5.1570989912158999E-2},{"$f":"'Returns & Stand Dev'!BL$66","v":5.4431760253897898E-2}]
[null,{"$f":"'Returns & Stand Dev'!AE66","v":8.0374876905036613E-2},{"$f":"'Returns & Stand Dev'!BL$66","v":5.4431760253897898E-2}]
[null,{"$f":"'Returns & Stand Dev'!AG66","v":5.7408020670265014E-2},{"$f":"'Returns & Stand Dev'!BL$66","v":5.4431760253897898E-2}]
[null,{"$f":"'Returns & Stand Dev'!AI66","v":7.7546208864444216E-2},{"$f":"'Returns & Stand Dev'!BL$66","v":5.4431760253897898E-2}]
[null,{"$f":"'Returns & Stand Dev'!AK66","v":5.5727809380393616E-2},{"$f":"'Returns & Stand Dev'!BL$66","v":5.4431760253897898E-2}]
[null,{"$f":"'Returns & Stand Dev'!AM66","v":6.9468805196731834E-2},{"$f":"'Returns & Stand Dev'!BL$66","v":5.4431760253897898E-2}]
[null,{"$f":"'Returns & Stand Dev'!AO66","v":6.0909565536066614E-2},{"$f":"'Returns & Stand Dev'!BL$66","v":5.4431760253897898E-2}]
[null,{"$f":"'Returns & Stand Dev'!AQ66","v":0.13474859502260558},{"$f":"'Returns & Stand Dev'!BL$66","v":5.4431760253897898E-2}]
[null,{"$f":"'Returns & Stand Dev'!AS66","v":7.3450380618437547E-2},{"$f":"'Returns & Stand Dev'!BL$66","v":5.4431760253897898E-2}]
[null,{"$f":"'Returns & Stand Dev'!AU66","v":4.9717116609557868E-2},{"$f":"'Returns & Stand Dev'!BL$66","v":5.4431760253897898E-2}]
[null,{"$f":"'Returns & Stand Dev'!AW66","v":9.281806793198917E-2},{"$f":"'Returns & Stand Dev'!BL$66","v":5.4431760253897898E-2}]
[null,{"$f":"'Returns & Stand Dev'!AY66","v":9.7754855367170407E-2},{"$f":"'Returns & Stand Dev'!BL$66","v":5.4431760253897898E-2}]
[null,{"$f":"'Returns & Stand Dev'!BA66","v":8.8770477482780497E-2},{"$f":"'Returns & Stand Dev'!BL$66","v":5.4431760253897898E-2}]
[null,{"$f":"'Returns & Stand Dev'!BC66","v":4.9784125660924106E-2},{"$f":"'Returns & Stand Dev'!BL$66","v":5.4431760253897898E-2}]
[null,{"$f":"'Returns & Stand Dev'!BE66","v":5.8449748924474632E-2},{"$f":"'Returns & Stand Dev'!BL$66","v":5.4431760253897898E-2}]
[null,{"$f":"'Returns & Stand Dev'!BG66","v":0.10014907516827225},{"$f":"'Returns & Stand Dev'!BL$66","v":5.4431760253897898E-2}]
[null,{"$f":"'Returns & Stand Dev'!BI66","v":9.4478294743733551E-2},{"$f":"'Returns & Stand Dev'!BL$66","v":5.4431760253897898E-2}]

{"sheet":"Var-Cov Matrix","index":4,"n_rows":67,"n_cols":31,"rows_kept":67,"cut":false,"hidden":false,"merged":[[35,0,35,5]]}
[]
["Variance/Covariance Matrix"]
[]
[null,{"$f":"'Corr. Matrix'!C5","v":"TSLA"},{"$f":"'Corr. Matrix'!D5","v":"GM"},{"$f":"'Corr. Matrix'!E5","v":"BA"},{"$f":"'Corr. Matrix'!F5","v":"CAT"},{"$f":"'Corr. Matrix'!G5","v":"CSCO"},{"$f":"'Corr. Matrix'!H5","v":"CVX"},{"$f":"'Corr. Matrix'!I5","v":"DIS"},{"$f":"'Corr. Matrix'!J5","v":"F"},{"$f":"'Corr. Matrix'!K5","v":"GE"},{"$f":"'Corr. Matrix'!L5","v":"GOOGL"},{"$f":"'Corr. Matrix'!M5","v":"HD"},{"$f":"'Corr. Matrix'!N5","v":"IBM"},{"$f":"'Corr. Matrix'!O5","v":"INTC"},{"$f":"'Corr. Matrix'!P5","v":"JNJ"},{"$f":"'Corr. Matrix'!Q5","v":"JPM"},{"$f":"'Corr. Matrix'!R5","v":"KO"},{"$f":"'Corr. Matrix'!S5","v":"KR"},{"$f":"'Corr. Matrix'!T5","v":"MCD"},{"$f":"'Corr. Matrix'!U5","v":"MMM"},{"$f":"'Corr. Matrix'!V5","v":"MSFT"},{"$f":"'Corr. Matrix'!W5","v":"NFLX"},{"$f":"'Corr. Matrix'!X5","v":"PFE"},{"$f":"'Corr. Matrix'!Y5","v":"PG"},{"$f":"'Corr. Matrix'!Z5","v":"AAPL"},{"$f":"'Corr. Matrix'!AA5","v":"PRU"},{"$f":"'Corr. Matrix'!AB5","v":"TFC"},{"$f":"'Corr. Matrix'!AC5","v":"VZ"},{"$f":"'Corr. Matrix'!AD5","v":"WMT"},{"$f":"'Corr. Matrix'!AE5","v":"XOM"},{"$f":"'Corr. Matrix'!AF5","v":"AMZN"}]
[{"$f":"'Corr. Matrix'!B6","v":"TSLA"},{"$f":"'Corr. Matrix'!C6*'Corr. Matrix'!B$40*'Corr. Matrix'!B40","v":3.8918971809673283E-2},{"$f":"B6","v":9.228703322120245E-3},{"$f":"B7","v":4.8358708386626566E-3},{"$f":"B8","v":1.6021055629552769E-3},{"$f":"B9","v":2.4800125214084674E-3},{"$f":"B10","v":4.1092526110272929E-3},{"$f":"B11","v":6.342210015368336E-3},{"$f":"B12","v":7.2016773632611495E-3},{"$f":"B13","v":4.7836939640915569E-3},{"$f":"B14","v":7.0839136632052119E-3},{"$f":"B15","v":4.8840988199309234E-3},{"$f":"B16","v":6.9668614223945152E-4},{"$f":"B17","v":4.197420783865668E-3},{"$f":"B18","v":3.042331523565066E-3},{"$f":"B19","v":3.712620219287411E-3},{"$f":"B20","v":2.1829728978155927E-3},{"$f":"B21","v":4.1345058662408934E-3},{"$f":"B22","v":3.3856533307155732E-3},{"$f":"B23","v":4.1566128006092096E-3},{"$f":"B24","v":6.4961958656212029E-3},{"$f":"B25","v":8.7912243707464494E-3},{"$f":"B26","v":2.3771434055545023E-3},{"$f":"B27","v":1.2583465178222554E-3},{"$f":"B28","v":1.1061598002892638E-2},{"$f":"B29","v":6.2159296754424288E-3},{"$f":"B30","v":5.4510288019304918E-3},{"$f":"B31","v":1.1376866729976207E-3},{"$f":"B32","v":3.8165965611608663E-3},{"$f":"B33","v":3.0134050554888178E-3},{"$f":"B34","v":9.7192239456534765E-3}]
[{"$f":"'Corr. Matrix'!B7","v":"GM"},{"$f":"'Corr. Matrix'!C7*'Corr. Matrix'!B$40*'Corr. Matrix'!B41","v":9.228703322120245E-3},{"$f":"'Corr. Matrix'!D7*'Corr. Matrix'!B$41*'Corr. Matrix'!B41","v":1.3371172138642336E-2},{"$f":"C7","v":9.0898648943563282E-3},{"$f":"C8","v":5.0542530536858169E-3},{"$f":"C9","v":3.6120813786487699E-3},{"$f":"C10","v":5.9391961724436565E-3},{"$f":"C11","v":5.60820934443152E-3},{"$f":"C12","v":1.1660838541463589E-2},{"$f":"C13","v":8.491809862272064E-3},{"$f":"C14","v":4.4434687274929937E-3},{"$f":"C15","v":4.523783624816799E-3},{"$f":"C16","v":2.9641712249099776E-3},{"$f":"C17","v":4.3995309027169667E-3},{"$f":"C18","v":1.1583722891491369E-3},{"$f":"C19","v":6.4111323345119268E-3},{"$f":"C20","v":2.1677485728196924E-3},{"$f":"C21","v":1.3659191502441922E-3},{"$f":"C22","v":3.2578184936941684E-3},{"$f":"C23","v":4.5618274297905236E-3},{"$f":"C24","v":2.7198683126413042E-3},{"$f":"C25","v":4.7736094266650833E-3},{"$f":"C26","v":1.5261167127371183E-3},{"$f":"C27","v":1.5541695488443851E-3},{"$f":"C28","v":4.7246308140210169E-3},{"$f":"C29","v":7.0353389816085526E-3},{"$f":"C30","v":6.677958239422895E-3},{"$f":"C31","v":9.5956904360706757E-4},{"$f":"C32","v":1.796042173015878E-3},{"$f":"C33","v":6.0143585429351925E-3},{"$f":"C34","v":2.8109052366091605E-3}]
[{"$f":"'Corr. Matrix'!B8","v":"BA"},{"$f":"'Corr. Matrix'!C8*'Corr. Matrix'!B$40*'Corr. Matrix'!B42","v":4.8358708386626566E-3},{"$f":"'Corr. Matrix'!D8*'Corr. Matrix'!B$41*'Corr. Matrix'!B42","v":9.0898648943563282E-3},{"$f":"'Corr. Matrix'!E8*'Corr. Matrix'!B$42*'Corr. Matrix'!B42","v":1.9546448105407295E-2},{"$f":"$D8","v":5.3286678234412349E-3},{"$f":"$D9","v":4.8778198449384918E-3},{"$f":"$D10","v":6.5275919905059925E-3},{"$f":"$D11","v":6.573332066629663E-3},{"$f":"$D12","v":9.6565474164200821E-3},{"$f":"$D13","v":1.0595520074446496E-2},{"$f":"$D14","v":3.6740362643981708E-3},{"$f":"$D15","v":3.4984747242020014E-3},{"$f":"$D16","v":4.6899794288316693E-3},{"$f":"$D17","v":4.208129689788744E-3},{"$f":"$D18","v":1.1818453830303773E-3},{"$f":"$D19","v":6.7674132646637266E-3},{"$f":"$D20","v":3.5670612296043796E-3},{"$f":"$D21","v":1.2500357486973752E-3},{"$f":"$D22","v":3.2717826974546392E-3},{"$f":"$D23","v":3.7736347441403558E-3},{"$f":"$D24","v":3.0469936988199845E-3},{"$f":"$D25","v":5.051938105148754E-3},{"$f":"$D26","v":7.9907834666464528E-4},{"$f":"$D27","v":1.9502439779994253E-3},{"$f":"$D28","v":3.8449964824655409E-3},{"$f":"$D29","v":7.9934118463098492E-3},{"$f":"$D30","v":7.5376949457660169E-3},{"$f":"$D31","v":1.6288483384669017E-3},{"$f":"$D32","v":1.1247638600756858E-3},{"$f":"$D33","v":6.8907325259325936E-3},{"$f":"$D34","v":2.0719237704766623E-3}]
[{"$f":"'Corr. Matrix'!B9","v":"CAT"},{"$f":"'Corr. Matrix'!C9*'Corr. Matrix'!B$40*'Corr. Matrix'!B43","v":1.6021055629552769E-3},{"$f":"'Corr. Matrix'!D9*'Corr. Matrix'!B$41*'Corr. Matrix'!B43","v":5.0542530536858169E-3},{"$f":"'Corr. Matrix'!E9*'Corr. Matrix'!B$42*'Corr. Matrix'!B43","v":5.3286678234412349E-3},{"$f":"'Corr. Matrix'!F9*'Corr. Matrix'!B$43*'Corr. Matrix'!B43","v":8.2642113336719152E-3},{"$f":"$E9","v":3.354278510404287E-3},{"$f":"$E10","v":4.9912760836017377E-3},{"$f":"$E11","v":3.8717167090474487E-3},{"$f":"$E12","v":5.5354633388675252E-3},{"$f":"$E13","v":5.7935047920859113E-3},{"$f":"$E14","v":2.7503390833741579E-3},{"$f":"$E15","v":2.6547241669792271E-3},{"$f":"$E16","v":3.6249834363720739E-3},{"$f":"$E17","v":3.6200091586235223E-3},{"$f":"$E18","v":1.8880834316142014E-3},{"$f":"$E19","v":4.8471421364019857E-3},{"$f":"$E20","v":1.7125718320995485E-3},{"$f":"$E21","v":1.6078877072358908E-3},{"$f":"$E22","v":1.6703793386055525E-3},{"$f":"$E23","v":4.7387630213269411E-3},{"$f":"$E24","v":2.3589131808523889E-3},{"$f":"$E25","v":4.0186761015955971E-3},{"$f":"$E26","v":2.1162206117239088E-3},{"$f":"$E27","v":1.1359313345029535E-3},{"$f":"$E28","v":2.7677576326007466E-3},{"$f":"$E29","v":5.635053530840148E-3},{"$f":"$E30","v":3.5391416700613311E-3},{"$f":"$E31","v":6.8007567253126162E-4},{"$f":"$E32","v":1.4966565378114751E-3},{"$f":"$E33","v":4.6864022906924112E-3},{"$f":"$E34","v":2.4933548879493071E-3}]
[{"$f":"'Corr. Matrix'!B10","v":"CSCO"},{"$f":"'Corr. Matrix'!C10*'Corr. Matrix'!B$40*'Corr. Matrix'!B44","v":2.4800125214084674E-3},{"$f":"'Corr. Matrix'!D10*'Corr. Matrix'!B$41*'Corr. Matrix'!B44","v":3.6120813786487699E-3},{"$f":"'Corr. Matrix'!E10*'Corr. Matrix'!B$42*'Corr. Matrix'!B44","v":4.8778198449384918E-3},{"$f":"'Corr. Matrix'!F10*'Corr. Matrix'!B$43*'Corr. Matrix'!B44","v":3.354278510404287E-3},{"$f":"'Corr. Matrix'!G10*'Corr. Matrix'!B$44*'Corr. Matrix'!B44","v":6.1291000674553037E-3},{"$f":"$F10","v":3.1330467208975231E-3},{"$f":"$F11","v":3.4805306599215249E-3},{"$f":"$F12","v":4.386530867380189E-3},{"$f":"$F13","v":3.5842113382827971E-3},{"$f":"$F14","v":2.5270576543900305E-3},{"$f":"$F15","v":2.3719939825064752E-3},{"$f":"$F16","v":3.1839956062994995E-3},{"$f":"$F17","v":3.2719872557384227E-3},{"$f":"$F18","v":1.8066736724400381E-3},{"$f":"$F19","v":3.3899898050023889E-3},{"$f":"$F20","v":1.360831901315282E-3},{"$f":"$F21","v":1.9604458226483963E-3},{"$f":"$F22","v":1.5843235290961401E-3},{"$f":"$F23","v":2.8852413601632614E-3},{"$f":"$F24","v":2.3962831394129542E-3},{"$f":"$F25","v":4.3078194795867939E-3},{"$f":"$F26","v":2.6691432440389632E-3},{"$f":"$F27","v":1.536684867937706E-3},{"$f":"$F28","v":3.322856553708784E-3},{"$f":"$F29","v":4.1744528896378291E-3},{"$f":"$F30","v":2.6155371428548181E-3},{"$f":"$F31","v":1.0684258462039661E-3},{"$f":"$F32","v":1.6558274426433978E-3},{"$f":"$F33","v":2.842841844748673E-3},{"$f":"$F34","v":3.0336363874644027E-3}]
[{"$f":"'Corr. Matrix'!B11","v":"CVX"},{"$f":"'Corr. Matrix'!C11*'Corr. Matrix'!B$40*'Corr. Matrix'!B45","v":4.1092526110272929E-3},{"$f":"'Corr. Matrix'!D11*'Corr. Matrix'!B$41*'Corr. Matrix'!B45","v":5.9391961724436565E-3},{"$f":"'Corr. Matrix'!E11*'Corr. Matrix'!B$42*'Corr. Matrix'!B45","v":6.5275919905059925E-3},{"$f":"'Corr. Matrix'!F11*'Corr. Matrix'!B$43*'Corr. Matrix'!B45","v":4.9912760836017377E-3},{"$f":"'Corr. Matrix'!G11*'Corr. Matrix'!B$44*'Corr. Matrix'!B45","v":3.1330467208975231E-3},{"$f":"'Corr. Matrix'!H11*'Corr. Matrix'!B$45*'Corr. Matrix'!B45","v":8.7273172829155296E-3},{"$f":"$G11","v":4.4816245709998837E-3},{"$f":"$G12","v":6.6123903411281909E-3},{"$f":"$G13","v":5.7187026508059803E-3},{"$f":"$G14","v":2.9643048597761735E-3},{"$f":"$G15","v":2.8784605112821744E-3},{"$f":"$G16","v":3.4714143165447365E-3},{"$f":"$G17","v":3.479606722441568E-3},{"$f":"$G18","v":2.013879150918271E-3},{"$f":"$G19","v":4.8259143010368263E-3},{"$f":"$G20","v":2.4225952605883036E-3},{"$f":"$G21","v":1.2694096061330296E-3},{"$f":"$G22","v":2.6746815287407052E-3},{"$f":"$G23","v":3.6846435460963882E-3},{"$f":"$G24","v":2.0565755865978217E-3},{"$f":"$G25","v":2.569646360468305E-3},{"$f":"$G26","v":2.0118824843842623E-3},{"$f":"$G27","v":9.5098531731455972E-4},{"$f":"$G28","v":2.4542735573314387E-3},{"$f":"$G29","v":6.6807421798840772E-3},{"$f":"$G30","v":5.013313237556067E-3},{"$f":"$G31","v":1.5770600490231609E-3},{"$f":"$G32","v":1.3213002322521809E-3},{"$f":"$G33","v":8.4057053349203964E-3},{"$f":"$G34","v":2.4579143447748036E-3}]
[{"$f":"'Corr. Matrix'!B12","v":"DIS"},{"$f":"'Corr. Matrix'!C12*'Corr. Matrix'!B$40*'Corr. Matrix'!B46","v":6.342210015368336E-3},{"$f":"'Corr. Matrix'!D12*'Corr. Matrix'!B$41*'Corr. Matrix'!B46","v":5.60820934443152E-3},{"$f":"'Corr. Matrix'!E12*'Corr. Matrix'!B$42*'Corr. Matrix'!B46","v":6.573332066629663E-3},{"$f":"'Corr. Matrix'!F12*'Corr. Matrix'!B$43*'Corr. Matrix'!B46","v":3.8717167090474487E-3},{"$f":"'Corr. Matrix'!G12*'Corr. Matrix'!B$44*'Corr. Matrix'!B46","v":3.4805306599215249E-3},{"$f":"'Corr. Matrix'!H12*'Corr. Matrix'!B$45*'Corr. Matrix'!B46","v":4.4816245709998837E-3},{"$f":"'Corr. Matrix'!I12*'Corr. Matrix'!B$46*'Corr. Matrix'!B46","v":8.7341512814238884E-3},{"$f":"$H12","v":6.3469680540084146E-3},{"$f":"$H13","v":6.0950536420698708E-3},{"$f":"$H14","v":4.0056580122048392E-3},{"$f":"$H15","v":2.197117854800056E-3},{"$f":"$H16","v":2.2805958320561005E-3},{"$f":"$H17","v":2.743793896012813E-3},{"$f":"$H18","v":1.7642590159470963E-3},{"$f":"$H19","v":5.4938450073499243E-3},{"$f":"$H20","v":2.8423148855798736E-3},{"$f":"$H21","v":1.3584965482078657E-3},{"$f":"$H22","v":2.4148185002244461E-3},{"$f":"$H23","v":2.9096795025239219E-3},{"$f":"$H24","v":2.9148263832381753E-3},{"$f":"$H25","v":5.3692233691444678E-3},{"$f":"$H26","v":1.0906570973872578E-3},{"$f":"$H27","v":1.2506074553270145E-3},{"$f":"$H28","v":4.3129372130770718E-3},{"$f":"$H29","v":5.9899045960305052E-3},{"$f":"$H30","v":4.7533677931199088E-3},{"$f":"$H31","v":1.3623232645243201E-3},{"$f":"$H32","v":1.6827305959491946E-3},{"$f":"$H33","v":4.4541590414033183E-3},{"$f":"$H34","v":3.9647612155882831E-3}]
[{"$f":"'Corr. Matrix'!B13","v":"F"},{"$f":"'Corr. Matrix'!C13*'Corr. Matrix'!B$40*'Corr. Matrix'!B47","v":7.2016773632611495E-3},{"$f":"'Corr. Matrix'!D13*'Corr. Matrix'!B$41*'Corr. Matrix'!B47","v":1.1660838541463589E-2},{"$f":"'Corr. Matrix'!E13*'Corr. Matrix'!B$42*'Corr. Matrix'!B47","v":9.6565474164200821E-3},{"$f":"'Corr. Matrix'!F13*'Corr. Matrix'!B$43*'Corr. Matrix'!B47","v":5.5354633388675252E-3},{"$f":"'Corr. Matrix'!G13*'Corr. Matrix'!B$44*'Corr. Matrix'!B47","v":4.386530867380189E-3},{"$f":"'Corr. Matrix'!H13*'Corr. Matrix'!B$45*'Corr. Matrix'!B47","v":6.6123903411281909E-3},{"$f":"'Corr. Matrix'!I13*'Corr. Matrix'!B$46*'Corr. Matrix'!B47","v":6.3469680540084146E-3},{"$f":"'Corr. Matrix'!J13*'Corr. Matrix'!B$47*'Corr. Matrix'!B47","v":1.5487334044881102E-2},{"$f":"$I13","v":8.7212075608705201E-3},{"$f":"$I14","v":4.4243899325523001E-3},{"$f":"$I15","v":4.3785854496292747E-3},{"$f":"$I16","v":2.4853457701212397E-3},{"$f":"$I17","v":3.741807463511505E-3},{"$f":"$I18","v":1.3339595775690818E-3},{"$f":"$I19","v":6.6948397828493012E-3},{"$f":"$I20","v":2.5409064851546681E-3},{"$f":"$I21","v":1.3359446821152303E-3},{"$f":"$I22","v":3.44677186319852E-3},{"$f":"$I23","v":3.9375138612671784E-3},{"$f":"$I24","v":3.5266805466741638E-3},{"$f":"$I25","v":5.9124093122997134E-3},{"$f":"$I26","v":1.5209736472732347E-3},{"$f":"$I27","v":1.5614072017752229E-3},{"$f":"$I28","v":5.1776884060422647E-3},{"$f":"$I29","v":7.6234702429727854E-3},{"$f":"$I30","v":7.2068281907943762E-3},{"$f":"$I31","v":6.9738020147193879E-4},{"$f":"$I32","v":1.9169581848622261E-3},{"$f":"$I33","v":7.0295673010156243E-3},{"$f":"$I34","v":3.9345314906726681E-3}]
[{"$f":"'Corr. Matrix'!B14","v":"GE"},{"$f":"'Corr. Matrix'!C14*'Corr. Matrix'!B$40*'Corr. Matrix'!B48","v":4.7836939640915569E-3},{"$f":"'Corr. Matrix'!D14*'Corr. Matrix'!B$41*'Corr. Matrix'!B48","v":8.491809862272064E-3},{"$f":"'Corr. Matrix'!E14*'Corr. Matrix'!B$42*'Corr. Matrix'!B48","v":1.0595520074446496E-2},{"$f":"'Corr. Matrix'!F14*'Corr. Matrix'!B$43*'Corr. Matrix'!B48","v":5.7935047920859113E-3},{"$f":"'Corr. Matrix'!G14*'Corr. Matrix'!B$44*'Corr. Matrix'!B48","v":3.5842113382827971E-3},{"$f":"'Corr. Matrix'!H14*'Corr. Matrix'!B$45*'Corr. Matrix'!B48","v":5.7187026508059803E-3},{"$f":"'Corr. Matrix'!I14*'Corr. Matrix'!B$46*'Corr. Matrix'!B48","v":6.0950536420698708E-3},{"$f":"'Corr. Matrix'!J14*'Corr. Matrix'!B$47*'Corr. Matrix'!B48","v":8.7212075608705201E-3},{"$f":"'Corr. Matrix'!K14*'Corr. Matrix'!B$48*'Corr. Matrix'!B48","v":1.5487484515488432E-2},{"$f":"$J14","v":4.2362373950286039E-3},{"$f":"$J15","v":2.1536179788471206E-3},{"$f":"$J16","v":3.3469811763322675E-3},{"$f":"$J17","v":3.8961039361980489E-3},{"$f":"$J18","v":6.393166770848679E-4},{"$f":"$J19","v":6.7444395210265601E-3},{"$f":"$J20","v":2.0997940792064538E-3},{"$f":"$J21","v":6.4658871697283182E-4},{"$f":"$J22","v":1.564775765844633E-3},{"$f":"$J23","v":3.4047899135495525E-3},{"$f":"$J24","v":2.2388089658869816E-3},{"$f":"$J25","v":6.5134734563764476E-3},{"$f":"$J26","v":1.497558988797582E-4},{"$f":"$J27","v":5.2070621279610811E-4},{"$f":"$J28","v":4.116186377319175E-3},{"$f":"$J29","v":7.9674370056858953E-3},{"$f":"$J30","v":6.2562791679060432E-3},{"$f":"$J31","v":5.2943658281156072E-4},{"$f":"$J32","v":1.2872806610752599E-3},{"$f":"$J33","v":6.1240192767765414E-3},{"$f":"$J34","v":2.2256264174205023E-3}]
[{"$f":"'Corr. Matrix'!B15","v":"GOOGL"},{"$f":"'Corr. Matrix'!C15*'Corr. Matrix'!B$40*'Corr. Matrix'!B49","v":7.0839136632052119E-3},{"$f":"'Corr. Matrix'!D15*'Corr. Matrix'!B$41*'Corr. Matrix'!B49","v":4.4434687274929937E-3},{"$f":"'Corr. Matrix'!E15*'Corr. Matrix'!B$42*'Corr. Matrix'!B49","v":3.6740362643981708E-3},{"$f":"'Corr. Matrix'!F15*'Corr. Matrix'!B$43*'Corr. Matrix'!B49","v":2.7503390833741579E-3},{"$f":"'Corr. Matrix'!G15*'Corr. Matrix'!B$44*'Corr. Matrix'!B49","v":2.5270576543900305E-3},{"$f":"'Corr. Matrix'!H15*'Corr. Matrix'!B$45*'Corr. Matrix'!B49","v":2.9643048597761735E-3},{"$f":"'Corr. Matrix'!I15*'Corr. Matrix'!B$46*'Corr. Matrix'!B49","v":4.0056580122048392E-3},{"$f":"'Corr. Matrix'!J15*'Corr. Matrix'!B$47*'Corr. Matrix'!B49","v":4.4243899325523001E-3},{"$f":"'Corr. Matrix'!K15*'Corr. Matrix'!B$48*'Corr. Matrix'!B49","v":4.2362373950286039E-3},{"$f":"'Corr. Matrix'!L15*'Corr. Matrix'!B$49*'Corr. Matrix'!B49","v":5.4998961981020146E-3},{"$f":"$K15","v":2.8176046780732842E-3},{"$f":"$K16","v":2.2213412261542142E-3},{"$f":"$K17","v":2.1575954785604552E-3},{"$f":"$K18","v":1.1509497006566413E-3},{"$f":"$K19","v":3.4718133598414542E-3},{"$f":"$K20","v":1.7963271382693072E-3},{"$f":"$K21","v":1.6083598195602837E-3},{"$f":"$K22","v":1.5160135519366408E-3},{"$f":"$K23","v":2.817360749252098E-3},{"$f":"$K24","v":3.3698688588322686E-3},{"$f":"$K25","v":4.2725190695201741E-3},{"$f":"$K26","v":1.6347741113180072E-3},{"$f":"$K27","v":1.0401368682131948E-3},{"$f":"$K28","v":3.8581616657688274E-3},{"$f":"$K29","v":4.2511496159903196E-3},{"$f":"$K30","v":3.9019269001107104E-3},{"$f":"$K31","v":1.0331409590380511E-3},{"$f":"$K32","v":1.1614487725894438E-3},{"$f":"$K33","v":2.5934204808576509E-3},{"$f":"$K34","v":4.408548527042172E-3}]
[{"$f":"'Corr. Matrix'!B16","v":"HD"},{"$f":"'Corr. Matrix'!C16*'Corr. Matrix'!B$40*'Corr. Matrix'!B50","v":4.8840988199309234E-3},{"$f":"'Corr. Matrix'!D16*'Corr. Matrix'!B$41*'Corr. Matrix'!B50","v":4.523783624816799E-3},{"$f":"'Corr. Matrix'!E16*'Corr. Matrix'!B$42*'Corr. Matrix'!B50","v":3.4984747242020014E-3},{"$f":"'Corr. Matrix'!F16*'Corr. Matrix'!B$43*'Corr. Matrix'!B50","v":2.6547241669792271E-3},{"$f":"'Corr. Matrix'!G16*'Corr. Matrix'!B$44*'Corr. Matrix'!B50","v":2.3719939825064752E-3},{"$f":"'Corr. Matrix'!H16*'Corr. Matrix'!B$45*'Corr. Matrix'!B50","v":2.8784605112821744E-3},{"$f":"'Corr. Matrix'!I16*'Corr. Matrix'!B$46*'Corr. Matrix'!B50","v":2.197117854800056E-3},{"$f":"'Corr. Matrix'!J16*'Corr. Matrix'!B$47*'Corr. Matrix'!B50","v":4.3785854496292747E-3},{"$f":"'Corr. Matrix'!K16*'Corr. Matrix'!B$48*'Corr. Matrix'!B50","v":2.1536179788471206E-3},{"$f":"'Corr. Matrix'!L16*'Corr. Matrix'!B$49*'Corr. Matrix'!B50","v":2.8176046780732842E-3},{"$f":"'Corr. Matrix'!M16*'Corr. Matrix'!B$50*'Corr. Matrix'!B50","v":5.1005203417095381E-3},{"$f":"$L16","v":2.8943962534223469E-3},{"$f":"$L17","v":1.4904042963603975E-3},{"$f":"$L18","v":1.3258851392857166E-3},{"$f":"$L19","v":2.6027313526491395E-3},{"$f":"$L20","v":1.8092701293655436E-3},{"$f":"$L21","v":1.0230741044185792E-3},{"$f":"$L22","v":2.4064435116251666E-3},{"$f":"$L23","v":2.8700411593117004E-3},{"$f":"$L24","v":2.6383732480715068E-3},{"$f":"$L25","v":3.1564506012181459E-3},{"$f":"$L26","v":2.2369828807728221E-3},{"$f":"$L27","v":1.5961077074057117E-3},{"$f":"$L28","v":3.0847956199325211E-3},{"$f":"$L29","v":3.3702494457609382E-3},{"$f":"$L30","v":2.4181645223778736E-3},{"$f":"$L31","v":7.893730400144914E-4},{"$f":"$L32","v":1.6410952217857282E-3},{"$f":"$L33","v":2.4798884398778589E-3},{"$f":"$L34","v":3.1099512778933578E-3}]
[{"$f":"'Corr. Matrix'!B17","v":"IBM"},{"$f":"'Corr. Matrix'!C17*'Corr. Matrix'!B$40*'Corr. Matrix'!B51","v":6.9668614223945152E-4},{"$f":"'Corr. Matrix'!D17*'Corr. Matrix'!B$41*'Corr. Matrix'!B51","v":2.9641712249099776E-3},{"$f":"'Corr. Matrix'!E17*'Corr. Matrix'!B$42*'Corr. Matrix'!B51","v":4.6899794288316693E-3},{"$f":"'Corr. Matrix'!F17*'Corr. Matrix'!B$43*'Corr. Matrix'!B51","v":3.6249834363720739E-3},{"$f":"'Corr. Matrix'!G17*'Corr. Matrix'!B$44*'Corr. Matrix'!B51","v":3.1839956062994995E-3},{"$f":"'Corr. Matrix'!H17*'Corr. Matrix'!B$45*'Corr. Matrix'!B51","v":3.4714143165447365E-3},{"$f":"'Corr. Matrix'!I17*'Corr. Matrix'!B$46*'Corr. Matrix'!B51","v":2.2805958320561005E-3},{"$f":"'Corr. Matrix'!J17*'Corr. Matrix'!B$47*'Corr. Matrix'!B51","v":2.4853457701212397E-3},{"$f":"'Corr. Matrix'!K17*'Corr. Matrix'!B$48*'Corr. Matrix'!B51","v":3.3469811763322675E-3},{"$f":"'Corr. Matrix'!L17*'Corr. Matrix'!B$49*'Corr. Matrix'!B51","v":2.2213412261542142E-3},{"$f":"'Corr. Matrix'!M17*'Corr. Matrix'!B$50*'Corr. Matrix'!B51","v":2.8943962534223469E-3},{"$f":"'Corr. Matrix'!N17*'Corr. Matrix'!B$51*'Corr. Matrix'!B51","v":6.1479329262269979E-3},{"$f":"$M17","v":2.6192468046237183E-3},{"$f":"$M18","v":2.1027540633794363E-3},{"$f":"$M19","v":2.9647868447407657E-3},{"$f":"$M20","v":1.9177397923859445E-3},{"$f":"$M21","v":8.9214400943616462E-4},{"$f":"$M22","v":2.2118851974605603E-3},{"$f":"$M23","v":3.1686810827865975E-3},{"$f":"$M24","v":1.525714703964183E-3},{"$f":"$M25","v":1.5211786688859041E-3},{"$f":"$M26","v":2.1849664615802922E-3},{"$f":"$M27","v":1.7549856566407881E-3},{"$f":"$M28","v":2.2238176018500406E-3},{"$f":"$M29","v":4.928770225802165E-3},{"$f":"$M30","v":2.6252222708082898E-3},{"$f":"$M31","v":1.0240909517789103E-3},{"$f":"$M32","v":8.8455420152279928E-4},{"$f":"$M33","v":3.9185409210718038E-3},{"$f":"$M34","v":2.0845843454307717E-3}]
[{"$f":"'Corr. Matrix'!B18","v":"INTC"},{"$f":"'Corr. Matrix'!C18*'Corr. Matrix'!B$40*'Corr. Matrix'!B52","v":4.197420783865668E-3},{"$f":"'Corr. Matrix'!D18*'Corr. Matrix'!B$41*'Corr. Matrix'!B52","v":4.3995309027169667E-3},{"$f":"'Corr. Matrix'!E18*'Corr. Matrix'!B$42*'Corr. Matrix'!B52","v":4.208129689788744E-3},{"$f":"'Corr. Matrix'!F18*'Corr. Matrix'!B$43*'Corr. Matrix'!B52","v":3.6200091586235223E-3},{"$f":"'Corr. Matrix'!G18*'Corr. Matrix'!B$44*'Corr. Matrix'!B52","v":3.2719872557384227E-3},{"$f":"'Corr. Matrix'!H18*'Corr. Matrix'!B$45*'Corr. Matrix'!B52","v":3.479606722441568E-3},{"$f":"'Corr. Matrix'!I18*'Corr. Matrix'!B$46*'Corr. Matrix'!B52","v":2.743793896012813E-3},{"$f":"'Corr. Matrix'!J18*'Corr. Matrix'!B$47*'Corr. Matrix'!B52","v":3.741807463511505E-3},{"$f":"'Corr. Matrix'!K18*'Corr. Matrix'!B$48*'Corr. Matrix'!B52","v":3.8961039361980489E-3},{"$f":"'Corr. Matrix'!L18*'Corr. Matrix'!B$49*'Corr. Matrix'!B52","v":2.1575954785604552E-3},{"$f":"'Corr. Matrix'!M18*'Corr. Matrix'!B$50*'Corr. Matrix'!B52","v":1.4904042963603975E-3},{"$f":"'Corr. Matrix'!N18*'Corr. Matrix'!B$51*'Corr. Matrix'!B52","v":2.6192468046237183E-3},{"$f":"'Corr. Matrix'!O18*'Corr. Matrix'!B$52*'Corr. Matrix'!B52","v":6.9544580526493781E-3},{"$f":"$N18","v":1.652954282767092E-3},{"$f":"$N19","v":3.1858372518524421E-3},{"$f":"$N20","v":5.8893893235088639E-4},{"$f":"$N21","v":1.186820084936976E-3},{"$f":"$N22","v":1.398932522423197E-3},{"$f":"$N23","v":3.1068440542665315E-3},{"$f":"$N24","v":2.2605692670028504E-3},{"$f":"$N25","v":2.6928362840326816E-3},{"$f":"$N26","v":1.1939928497240728E-3},{"$f":"$N27","v":9.0715727375012003E-4},{"$f":"$N28","v":2.8704477233456776E-3},{"$f":"$N29","v":3.3394837384893086E-3},{"$f":"$N30","v":2.4692097955290575E-3},{"$f":"$N31","v":1.4392595472565808E-3},{"$f":"$N32","v":4.4523661857966547E-4},{"$f":"$N33","v":3.2982093922601144E-3},{"$f":"$N34","v":1.831947199936618E-3}]
[{"$f":"'Corr. Matrix'!B19","v":"JNJ"},{"$f":"'Corr. Matrix'!C19*'Corr. Matrix'!B$40*'Corr. Matrix'!B53","v":3.042331523565066E-3},{"$f":"'Corr. Matrix'!D19*'Corr. Matrix'!B$41*'Corr. Matrix'!B53","v":1.1583722891491369E-3},{"$f":"'Corr. Matrix'!E19*'Corr. Matrix'!B$42*'Corr. Matrix'!B53","v":1.1818453830303773E-3},{"$f":"'Corr. Matrix'!F19*'Corr. Matrix'!B$43*'Corr. Matrix'!B53","v":1.8880834316142014E-3},{"$f":"'Corr. Matrix'!G19*'Corr. Matrix'!B$44*'Corr. Matrix'!B53","v":1.8066736724400381E-3},{"$f":"'Corr. Matrix'!H19*'Corr. Matrix'!B$45*'Corr. Matrix'!B53","v":2.013879150918271E-3},{"$f":"'Corr. Matrix'!I19*'Corr. Matrix'!B$46*'Corr. Matrix'!B53","v":1.7642590159470963E-3},{"$f":"'Corr. Matrix'!J19*'Corr. Matrix'!B$47*'Corr. Matrix'!B53","v":1.3339595775690818E-3},{"$f":"'Corr. Matrix'!K19*'Corr. Matrix'!B$48*'Corr. Matrix'!B53","v":6.393166770848679E-4},{"$f":"'Corr. Matrix'!L19*'Corr. Matrix'!B$49*'Corr. Matrix'!B53","v":1.1509497006566413E-3},{"$f":"'Corr. Matrix'!M19*'Corr. Matrix'!B$50*'Corr. Matrix'!B53","v":1.3258851392857166E-3},{"$f":"'Corr. Matrix'!N19*'Corr. Matrix'!B$51*'Corr. Matrix'!B53","v":2.1027540633794363E-3},{"$f":"'Corr. Matrix'!O19*'Corr. Matrix'!B$52*'Corr. Matrix'!B53","v":1.652954282767092E-3},{"$f":"'Corr. Matrix'!P19*'Corr. Matrix'!B$53*'Corr. Matrix'!B53","v":2.6595670005200053E-3},{"$f":"$O19","v":1.7138446977927571E-3},{"$f":"$O20","v":1.5364228169351376E-3},{"$f":"$O21","v":1.3239185628493332E-3},{"$f":"$O22","v":1.5090177279939976E-3},{"$f":"$O23","v":2.1198599691237231E-3},{"$f":"$O24","v":1.4035693146515109E-3},{"$f":"$O25","v":5.1813387977337388E-4},{"$f":"$O26","v":2.0904536839296993E-3},{"$f":"$O27","v":1.2174196560031129E-3},{"$f":"$O28","v":1.8455379270500396E-3},{"$f":"$O29","v":2.7613348569150778E-3},{"$f":"$O30","v":1.3853887344733274E-3},{"$f":"$O31","v":1.1632494274204546E-3},{"$f":"$O32","v":1.4640331714311559E-3},{"$f":"$O33","v":2.2403981285832038E-3},{"$f":"$O34","v":1.1901909966969589E-3}]
[{"$f":"'Corr. Matrix'!B20","v":"JPM"},{"$f":"'Corr. Matrix'!C20*'Corr. Matrix'!B$40*'Corr. Matrix'!B54","v":3.712620219287411E-3},{"$f":"'Corr. Matrix'!D20*'Corr. Matrix'!B$41*'Corr. Matrix'!B54","v":6.4111323345119268E-3},{"$f":"'Corr. Matrix'!E20*'Corr. Matrix'!B$42*'Corr. Matrix'!B54","v":6.7674132646637266E-3},{"$f":"'Corr. Matrix'!F20*'Corr. Matrix'!B$43*'Corr. Matrix'!B54","v":4.8471421364019857E-3},{"$f":"'Corr. Matrix'!G20*'Corr. Matrix'!B$44*'Corr. Matrix'!B54","v":3.3899898050023889E-3},{"$f":"'Corr. Matrix'!H20*'Corr. Matrix'!B$45*'Corr. Matrix'!B54","v":4.8259143010368263E-3},{"$f":"'Corr. Matrix'!I20*'Corr. Matrix'!B$46*'Corr. Matrix'!B54","v":5.4938450073499243E-3},{"$f":"'Corr. Matrix'!J20*'Corr. Matrix'!B$47*'Corr. Matrix'!B54","v":6.6948397828493012E-3},{"$f":"'Corr. Matrix'!K20*'Corr. Matrix'!B$48*'Corr. Matrix'!B54","v":6.7444395210265601E-3},{"$f":"'Corr. Matrix'!L20*'Corr. Matrix'!B$49*'Corr. Matrix'!B54","v":3.4718133598414542E-3},{"$f":"'Corr. Matrix'!M20*'Corr. Matrix'!B$50*'Corr. Matrix'!B54","v":2.6027313526491395E-3},{"$f":"'Corr. Matrix'!N20*'Corr. Matrix'!B$51*'Corr. Matrix'!B54","v":2.9647868447407657E-3},{"$f":"'Corr. Matrix'!O20*'Corr. Matrix'!B$52*'Corr. Matrix'!B54","v":3.1858372518524421E-3},{"$f":"'Corr. Matrix'!P20*'Corr. Matrix'!B$53*'Corr. Matrix'!B54","v":1.7138446977927571E-3},{"$f":"'Corr. Matrix'!Q20*'Corr. Matrix'!B$54*'Corr. Matrix'!B54","v":6.460120837499788E-3},{"$f":"$P20","v":2.2506656200302101E-3},{"$f":"$P21","v":1.0838556153224582E-3},{"$f":"$P22","v":2.0210062473665063E-3},{"$f":"$P23","v":3.3245608202130037E-3},{"$f":"$P24","v":2.3245199843945088E-3},{"$f":"$P25","v":4.1126336675610465E-3},{"$f":"$P26","v":1.8334414916323903E-3},{"$f":"$P27","v":1.1264874510573137E-3},{"$f":"$P28","v":2.9650931987521105E-3},{"$f":"$P29","v":6.360525498805422E-3},{"$f":"$P30","v":5.6116970901953275E-3},{"$f":"$P31","v":1.4330743667947119E-3},{"$f":"$P32","v":9.9411050140777216E-4},{"$f":"$P33","v":4.9966889425069189E-3},{"$f":"$P34","v":2.1289530114598724E-3}]
[{"$f":"'Corr. Matrix'!B21","v":"KO"},{"$f":"'Corr. Matrix'!C21*'Corr. Matrix'!B$40*'Corr. Matrix'!B55","v":2.1829728978155927E-3},{"$f":"'Corr. Matrix'!D21*'Corr. Matrix'!B$41*'Corr. Matrix'!B55","v":2.1677485728196924E-3},{"$f":"'Corr. Matrix'!E21*'Corr. Matrix'!B$42*'Corr. Matrix'!B55","v":3.5670612296043796E-3},{"$f":"'Corr. Matrix'!F21*'Corr. Matrix'!B$43*'Corr. Matrix'!B55","v":1.7125718320995485E-3},{"$f":"'Corr. Matrix'!G21*'Corr. Matrix'!B$44*'Corr. Matrix'!B55","v":1.360831901315282E-3},{"$f":"'Corr. Matrix'!H21*'Corr. Matrix'!B$45*'Corr. Matrix'!B55","v":2.4225952605883036E-3},{"$f":"'Corr. Matrix'!I21*'Corr. Matrix'!B$46*'Corr. Matrix'!B55","v":2.8423148855798736E-3},{"$f":"'Corr. Matrix'!J21*'Corr. Matrix'!B$47*'Corr. Matrix'!B55","v":2.5409064851546681E-3},{"$f":"'Corr. Matrix'!K21*'Corr. Matrix'!B$48*'Corr. Matrix'!B55","v":2.0997940792064538E-3},{"$f":"'Corr. Matrix'!L21*'Corr. Matrix'!B$49*'Corr. Matrix'!B55","v":1.7963271382693072E-3},{"$f":"'Corr. Matrix'!M21*'Corr. Matrix'!B$50*'Corr. Matrix'!B55","v":1.8092701293655436E-3},{"$f":"'Corr. Matrix'!N21*'Corr. Matrix'!B$51*'Corr. Matrix'!B55","v":1.9177397923859445E-3},{"$f":"'Corr. Matrix'!O21*'Corr. Matrix'!B$52*'Corr. Matrix'!B55","v":5.8893893235088639E-4},{"$f":"'Corr. Matrix'!P21*'Corr. Matrix'!B$53*'Corr. Matrix'!B55","v":1.5364228169351376E-3},{"$f":"'Corr. Matrix'!Q21*'Corr. Matrix'!B$54*'Corr. Matrix'!B55","v":2.2506656200302101E-3},{"$f":"'Corr. Matrix'!R21*'Corr. Matrix'!B$55*'Corr. Matrix'!B55","v":3.2956808372775746E-3},{"$f":"$Q21","v":2.827224014391597E-4},{"$f":"$Q22","v":2.1871077500126893E-3},{"$f":"$Q23","v":1.6018328141977818E-3},{"$f":"$Q24","v":1.1771407972150797E-3},{"$f":"$Q25","v":-7.7047255699297813E-4},{"$f":"$Q26","v":1.1442783079279317E-3},{"$f":"$Q27","v":1.8559022950912862E-3},{"$f":"$Q28","v":1.4008854331865408E-3},{"$f":"$Q29","v":3.155260751471062E-3},{"$f":"$Q30","v":2.2795809237256934E-3},{"$f":"$Q31","v":1.1825846906701526E-3},{"$f":"$Q32","v":1.2787650980046086E-3},{"$f":"$Q33","v":2.3742502943832934E-3},{"$f":"$Q34","v":3.8332301419552407E-4}]
[{"$f":"'Corr. Matrix'!B22","v":"KR"},{"$f":"'Corr. Matrix'!C22*'Corr. Matrix'!B$40*'Corr. Matrix'!B56","v":4.1345058662408934E-3},{"$f":"'Corr. Matrix'!D22*'Corr. Matrix'!B$41*'Corr. Matrix'!B56","v":1.3659191502441922E-3},{"$f":"'Corr. Matrix'!E22*'Corr. Matrix'!B$42*'Corr. Matrix'!B56","v":1.2500357486973752E-3},{"$f":"'Corr. Matrix'!F22*'Corr. Matrix'!B$43*'Corr. Matrix'!B56","v":1.6078877072358908E-3},{"$f":"'Corr. Matrix'!G22*'Corr. Matrix'!B$44*'Corr. Matrix'!B56","v":1.9604458226483963E-3},{"$f":"'Corr. Matrix'!H22*'Corr. Matrix'!B$45*'Corr. Matrix'!B56","v":1.2694096061330296E-3},{"$f":"'Corr. Matrix'!I22*'Corr. Matrix'!B$46*'Corr. Matrix'!B56","v":1.3584965482078657E-3},{"$f":"'Corr. Matrix'!J22*'Corr. Matrix'!B$47*'Corr. Matrix'!B56","v":1.3359446821152303E-3},{"$f":"'Corr. Matrix'!K22*'Corr. Matrix'!B$48*'Corr. Matrix'!B56","v":6.4658871697283182E-4},{"$f":"'Corr. Matrix'!L22*'Corr. Matrix'!B$49*'Corr. Matrix'!B56","v":1.6083598195602837E-3},{"$f":"'Corr. Matrix'!M22*'Corr. Matrix'!B$50*'Corr. Matrix'!B56","v":1.0230741044185792E-3},{"$f":"'Corr. Matrix'!N22*'Corr. Matrix'!B$51*'Corr. Matrix'!B56","v":8.9214400943616462E-4},{"$f":"'Corr. Matrix'!O22*'Corr. Matrix'!B$52*'Corr. Matrix'!B56","v":1.186820084936976E-3},{"$f":"'Corr. Matrix'!P22*'Corr. Matrix'!B$53*'Corr. Matrix'!B56","v":1.3239185628493332E-3},{"$f":"'Corr. Matrix'!Q22*'Corr. Matrix'!B$54*'Corr. Matrix'!B56","v":1.0838556153224582E-3},{"$f":"'Corr. Matrix'!R22*'Corr. Matrix'!B$55*'Corr. Matrix'!B56","v":2.827224014391597E-4},{"$f":"'Corr. Matrix'!S22*'Corr. Matrix'!B$56*'Corr. Matrix'!B56","v":6.0134145092480057E-3},{"$f":"$R22","v":6.4316265841733483E-4},{"$f":"$R23","v":1.6079292566184851E-3},{"$f":"$R24","v":1.4963732029178109E-3},{"$f":"$R25","v":1.4450812604760248E-3},{"$f":"$R26","v":1.4971209076957623E-3},{"$f":"$R27","v":9.1123667279154118E-4},{"$f":"$R28","v":2.1387599212885884E-3},{"$f":"$R29","v":1.4859704564265978E-3},{"$f":"$R30","v":4.8602960188006241E-4},{"$f":"$R31","v":9.7100533129908782E-4},{"$f":"$R32","v":2.2938582381800739E-3},{"$f":"$R33","v":7.0717110762746275E-4},{"$f":"$R34","v":1.8201514472551146E-3}]
[{"$f":"'Corr. Matrix'!B23","v":"MCD"},{"$f":"'Corr. Matrix'!C23*'Corr. Matrix'!B$40*'Corr. Matrix'!B57","v":3.3856533307155732E-3},{"$f":"'Corr. Matrix'!D23*'Corr. Matrix'!B$41*'Corr. Matrix'!B57","v":3.2578184936941684E-3},{"$f":"'Corr. Matrix'!E23*'Corr. Matrix'!B$42*'Corr. Matrix'!B57","v":3.2717826974546392E-3},{"$f":"'Corr. Matrix'!F23*'Corr. Matrix'!B$43*'Corr. Matrix'!B57","v":1.6703793386055525E-3},{"$f":"'Corr. Matrix'!G23*'Corr. Matrix'!B$44*'Corr. Matrix'!B57","v":1.5843235290961401E-3},{"$f":"'Corr. Matrix'!H23*'Corr. Matrix'!B$45*'Corr. Matrix'!B57","v":2.6746815287407052E-3},{"$f":"'Corr. Matrix'!I23*'Corr. Matrix'!B$46*'Corr. Matrix'!B57","v":2.4148185002244461E-3},{"$f":"'Corr. Matrix'!J23*'Corr. Matrix'!B$47*'Corr. Matrix'!B57","v":3.44677186319852E-3},{"$f":"'Corr. Matrix'!K23*'Corr. Matrix'!B$48*'Corr. Matrix'!B57","v":1.564775765844633E-3},{"$f":"'Corr. Matrix'!L23*'Corr. Matrix'!B$49*'Corr. Matrix'!B57","v":1.5160135519366408E-3},{"$f":"'Corr. Matrix'!M23*'Corr. Matrix'!B$50*'Corr. Matrix'!B57","v":2.4064435116251666E-3},{"$f":"'Corr. Matrix'!N23*'Corr. Matrix'!B$51*'Corr. Matrix'!B57","v":2.2118851974605603E-3},{"$f":"'Corr. Matrix'!O23*'Corr. Matrix'!B$52*'Corr. Matrix'!B57","v":1.398932522423197E-3},{"$f":"'Corr. Matrix'!P23*'Corr. Matrix'!B$53*'Corr. Matrix'!B57","v":1.5090177279939976E-3},{"$f":"'Corr. Matrix'!Q23*'Corr. Matrix'!B$54*'Corr. Matrix'!B57","v":2.0210062473665063E-3},{"$f":"'Corr. Matrix'!R23*'Corr. Matrix'!B$55*'Corr. Matrix'!B57","v":2.1871077500126893E-3},{"$f":"'Corr. Matrix'!S23*'Corr. Matrix'!B$56*'Corr. Matrix'!B57","v":6.4316265841733483E-4},{"$f":"'Corr. Matrix'!T23*'Corr. Matrix'!B$57*'Corr. Matrix'!B57","v":3.1055887383374865E-3},{"$f":"$S23","v":1.8477734570944801E-3},{"$f":"$S24","v":1.3945218452632428E-3},{"$f":"$S25","v":8.7865788543528003E-4},{"$f":"$S26","v":1.5437829215966517E-3},{"$f":"$S27","v":1.5089764202967171E-3},{"$f":"$S28","v":1.9685339734398181E-3},{"$f":"$S29","v":3.2569235883100618E-3},{"$f":"$S30","v":2.1840592207404345E-3},{"$f":"$S31","v":1.1033225654051185E-3},{"$f":"$S32","v":1.4530764634093944E-3},{"$f":"$S33","v":2.5632747320625993E-3},{"$f":"$S34","v":1.2907856684693036E-3}]
[{"$f":"'Corr. Matrix'!B24","v":"MMM"},{"$f":"'Corr. Matrix'!C24*'Corr. Matrix'!B$40*'Corr. Matrix'!B58","v":4.1566128006092096E-3},{"$f":"'Corr. Matrix'!D24*'Corr. Matrix'!B$41*'Corr. Matrix'!B58","v":4.5618274297905236E-3},{"$f":"'Corr. Matrix'!E24*'Corr. Matrix'!B$42*'Corr. Matrix'!B58","v":3.7736347441403558E-3},{"$f":"'Corr. Matrix'!F24*'Corr. Matrix'!B$43*'Corr. Matrix'!B58","v":4.7387630213269411E-3},{"$f":"'Corr. Matrix'!G24*'Corr. Matrix'!B$44*'Corr. Matrix'!B58","v":2.8852413601632614E-3},{"$f":"'Corr. Matrix'!H24*'Corr. Matrix'!B$45*'Corr. Matrix'!B58","v":3.6846435460963882E-3},{"$f":"'Corr. Matrix'!I24*'Corr. Matrix'!B$46*'Corr. Matrix'!B58","v":2.9096795025239219E-3},{"$f":"'Corr. Matrix'!J24*'Corr. Matrix'!B$47*'Corr. Matrix'!B58","v":3.9375138612671784E-3},{"$f":"'Corr. Matrix'!K24*'Corr. Matrix'!B$48*'Corr. Matrix'!B58","v":3.4047899135495525E-3},{"$f":"'Corr. Matrix'!L24*'Corr. Matrix'!B$49*'Corr. Matrix'!B58","v":2.817360749252098E-3},{"$f":"'Corr. Matrix'!M24*'Corr. Matrix'!B$50*'Corr. Matrix'!B58","v":2.8700411593117004E-3},{"$f":"'Corr. Matrix'!N24*'Corr. Matrix'!B$51*'Corr. Matrix'!B58","v":3.1686810827865975E-3},{"$f":"'Corr. Matrix'!O24*'Corr. Matrix'!B$52*'Corr. Matrix'!B58","v":3.1068440542665315E-3},{"$f":"'Corr. Matrix'!P24*'Corr. Matrix'!B$53*'Corr. Matrix'!B58","v":2.1198599691237231E-3},{"$f":"'Corr. Matrix'!Q24*'Corr. Matrix'!B$54*'Corr. Matrix'!B58","v":3.3245608202130037E-3},{"$f":"'Corr. Matrix'!R24*'Corr. Matrix'!B$55*'Corr. Matrix'!B58","v":1.6018328141977818E-3},{"$f":"'Corr. Matrix'!S24*'Corr. Matrix'!B$56*'Corr. Matrix'!B58","v":1.6079292566184851E-3},{"$f":"'Corr. Matrix'!T24*'Corr. Matrix'!B$57*'Corr. Matrix'!B58","v":1.8477734570944801E-3},{"$f":"'Corr. Matrix'!U24*'Corr. Matrix'!B$58*'Corr. Matrix'!B58","v":4.8259148954614747E-3},{"$f":"$T24","v":2.3570411425762683E-3},{"$f":"$T25","v":2.7123966664977508E-3},{"$f":"$T26","v":2.1628972922962059E-3},{"$f":"$T27","v":1.596744652742255E-3},{"$f":"$T28","v":3.1527505767718349E-3},{"$f":"$T29","v":4.1094017626491629E-3},{"$f":"$T30","v":2.8991662497536725E-3},{"$f":"$T31","v":1.1692946650988249E-3},{"$f":"$T32","v":1.4818314562731365E-3},{"$f":"$T33","v":3.6466754595752002E-3},{"$f":"$T34","v":2.5578645794076065E-3}]
[{"$f":"'Corr. Matrix'!B25","v":"MSFT"},{"$f":"'Corr. Matrix'!C25*'Corr. Matrix'!B$40*'Corr. Matrix'!B59","v":6.4961958656212029E-3},{"$f":"'Corr. Matrix'!D25*'Corr. Matrix'!B$41*'Corr. Matrix'!B59","v":2.7198683126413042E-3},{"$f":"'Corr. Matrix'!E25*'Corr. Matrix'!B$42*'Corr. Matrix'!B59","v":3.0469936988199845E-3},{"$f":"'Corr. Matrix'!F25*'Corr. Matrix'!B$43*'Corr. Matrix'!B59","v":2.3589131808523889E-3},{"$f":"'Corr. Matrix'!G25*'Corr. Matrix'!B$44*'Corr. Matrix'!B59","v":2.3962831394129542E-3},{"$f":"'Corr. Matrix'!H25*'Corr. Matrix'!B$45*'Corr. Matrix'!B59","v":2.0565755865978217E-3},{"$f":"'Corr. Matrix'!I25*'Corr. Matrix'!B$46*'Corr. Matrix'!B59","v":2.9148263832381753E-3},{"$f":"'Corr. Matrix'!J25*'Corr. Matrix'!B$47*'Corr. Matrix'!B59","v":3.5266805466741638E-3},{"$f":"'Corr. Matrix'!K25*'Corr. Matrix'!B$48*'Corr. Matrix'!B59","v":2.2388089658869816E-3},{"$f":"'Corr. Matrix'!L25*'Corr. Matrix'!B$49*'Corr. Matrix'!B59","v":3.3698688588322686E-3},{"$f":"'Corr. Matrix'!M25*'Corr. Matrix'!B$50*'Corr. Matrix'!B59","v":2.6383732480715068E-3},{"$f":"'Corr. Matrix'!N25*'Corr. Matrix'!B$51*'Corr. Matrix'!B59","v":1.525714703964183E-3},{"$f":"'Corr. Matrix'!O25*'Corr. Matrix'!B$52*'Corr. Matrix'!B59","v":2.2605692670028504E-3},{"$f":"'Corr. Matrix'!P25*'Corr. Matrix'!B$53*'Corr. Matrix'!B59","v":1.4035693146515109E-3},{"$f":"'Corr. Matrix'!Q25*'Corr. Matrix'!B$54*'Corr. Matrix'!B59","v":2.3245199843945088E-3},{"$f":"'Corr. Matrix'!R25*'Corr. Matrix'!B$55*'Corr. Matrix'!B59","v":1.1771407972150797E-3},{"$f":"'Corr. Matrix'!S25*'Corr. Matrix'!B$56*'Corr. Matrix'!B59","v":1.4963732029178109E-3},{"$f":"'Corr. Matrix'!T25*'Corr. Matrix'!B$57*'Corr. Matrix'!B59","v":1.3945218452632428E-3},{"$f":"'Corr. Matrix'!U25*'Corr. Matrix'!B$58*'Corr. Matrix'!B59","v":2.3570411425762683E-3},{"$f":"'Corr. Matrix'!V25*'Corr. Matrix'!B$59*'Corr. Matrix'!B59","v":3.7099751737923936E-3},{"$f":"$U25","v":4.1158142292542698E-3},{"$f":"$U26","v":1.4349030514802048E-3},{"$f":"$U27","v":1.0190324154470884E-3},{"$f":"$U28","v":3.9314514439079866E-3},{"$f":"$U29","v":2.887838499272898E-3},{"$f":"$U30","v":2.1966403576950911E-3},{"$f":"$U31","v":8.357463417699891E-4},{"$f":"$U32","v":1.3933102621305515E-3},{"$f":"$U33","v":1.8533348670209959E-3},{"$f":"$U34","v":4.2159887168749547E-3}]
[{"$f":"'Corr. Matrix'!B26","v":"NFLX"},{"$f":"'Corr. Matrix'!C26*'Corr. Matrix'!B$40*'Corr. Matrix'!B60","v":8.7912243707464494E-3},{"$f":"'Corr. Matrix'!D26*'Corr. Matrix'!B$41*'Corr. Matrix'!B60","v":4.7736094266650833E-3},{"$f":"'Corr. Matrix'!E26*'Corr. Matrix'!B$42*'Corr. Matrix'!B60","v":5.051938105148754E-3},{"$f":"'Corr. Matrix'!F26*'Corr. Matrix'!B$43*'Corr. Matrix'!B60","v":4.0186761015955971E-3},{"$f":"'Corr. Matrix'!G26*'Corr. Matrix'!B$44*'Corr. Matrix'!B60","v":4.3078194795867939E-3},{"$f":"'Corr. Matrix'!H26*'Corr. Matrix'!B$45*'Corr. Matrix'!B60","v":2.569646360468305E-3},{"$f":"'Corr. Matrix'!I26*'Corr. Matrix'!B$46*'Corr. Matrix'!B60","v":5.3692233691444678E-3},{"$f":"'Corr. Matrix'!J26*'Corr. Matrix'!B$47*'Corr. Matrix'!B60","v":5.9124093122997134E-3},{"$f":"'Corr. Matrix'!K26*'Corr. Matrix'!B$48*'Corr. Matrix'!B60","v":6.5134734563764476E-3},{"$f":"'Corr. Matrix'!L26*'Corr. Matrix'!B$49*'Corr. Matrix'!B60","v":4.2725190695201741E-3},{"$f":"'Corr. Matrix'!M26*'Corr. Matrix'!B$50*'Corr. Matrix'!B60","v":3.1564506012181459E-3},{"$f":"'Corr. Matrix'!N26*'Corr. Matrix'!B$51*'Corr. Matrix'!B60","v":1.5211786688859041E-3},{"$f":"'Corr. Matrix'!O26*'Corr. Matrix'!B$52*'Corr. Matrix'!B60","v":2.6928362840326816E-3},{"$f":"'Corr. Matrix'!P26*'Corr. Matrix'!B$53*'Corr. Matrix'!B60","v":5.1813387977337388E-4},{"$f":"'Corr. Matrix'!Q26*'Corr. Matrix'!B$54*'Corr. Matrix'!B60","v":4.1126336675610465E-3},{"$f":"'Corr. Matrix'!R26*'Corr. Matrix'!B$55*'Corr. Matrix'!B60","v":-7.7047255699297813E-4},{"$f":"'Corr. Matrix'!S26*'Corr. Matrix'!B$56*'Corr. Matrix'!B60","v":1.4450812604760248E-3},{"$f":"'Corr. Matrix'!T26*'Corr. Matrix'!B$57*'Corr. Matrix'!B60","v":8.7865788543528003E-4},{"$f":"'Corr. Matrix'!U26*'Corr. Matrix'!B$58*'Corr. Matrix'!B60","v":2.7123966664977508E-3},{"$f":"'Corr. Matrix'!V26*'Corr. Matrix'!B$59*'Corr. Matrix'!B60","v":4.1158142292542698E-3},{"$f":"'Corr. Matrix'!W26*'Corr. Matrix'!B$60*'Corr. Matrix'!B60","v":1.8157183860566167E-2},{"$f":"$V26","v":1.6056583004439699E-3},{"$f":"$V27","v":-4.9879416449240363E-4},{"$f":"$V28","v":5.2263669007225674E-3},{"$f":"$V29","v":3.3630950484129863E-3},{"$f":"$V30","v":3.1628039284149019E-3},{"$f":"$V31","v":3.0628096156333571E-4},{"$f":"$V32","v":6.0008350622581795E-4},{"$f":"$V33","v":1.6572225464424526E-3},{"$f":"$V34","v":8.0507780526607939E-3}]
[{"$f":"'Corr. Matrix'!B27","v":"PFE"},{"$f":"'Corr. Matrix'!C27*'Corr. Matrix'!B$40*'Corr. Matrix'!B61","v":2.3771434055545023E-3},{"$f":"'Corr. Matrix'!D27*'Corr. Matrix'!B$41*'Corr. Matrix'!B61","v":1.5261167127371183E-3},{"$f":"'Corr. Matrix'!E27*'Corr. Matrix'!B$42*'Corr. Matrix'!B61","v":7.9907834666464528E-4},{"$f":"'Corr. Matrix'!F27*'Corr. Matrix'!B$43*'Corr. Matrix'!B61","v":2.1162206117239088E-3},{"$f":"'Corr. Matrix'!G27*'Corr. Matrix'!B$44*'Corr. Matrix'!B61","v":2.6691432440389632E-3},{"$f":"'Corr. Matrix'!H27*'Corr. Matrix'!B$45*'Corr. Matrix'!B61","v":2.0118824843842623E-3},{"$f":"'Corr. Matrix'!I27*'Corr. Matrix'!B$46*'Corr. Matrix'!B61","v":1.0906570973872578E-3},{"$f":"'Corr. Matrix'!J27*'Corr. Matrix'!B$47*'Corr. Matrix'!B61","v":1.5209736472732347E-3},{"$f":"'Corr. Matrix'!K27*'Corr. Matrix'!B$48*'Corr. Matrix'!B61","v":1.497558988797582E-4},{"$f":"'Corr. Matrix'!L27*'Corr. Matrix'!B$49*'Corr. Matrix'!B61","v":1.6347741113180072E-3},{"$f":"'Corr. Matrix'!M27*'Corr. Matrix'!B$50*'Corr. Matrix'!B61","v":2.2369828807728221E-3},{"$f":"'Corr. Matrix'!N27*'Corr. Matrix'!B$51*'Corr. Matrix'!B61","v":2.1849664615802922E-3},{"$f":"'Corr. Matrix'!O27*'Corr. Matrix'!B$52*'Corr. Matrix'!B61","v":1.1939928497240728E-3},{"$f":"'Corr. Matrix'!P27*'Corr. Matrix'!B$53*'Corr. Matrix'!B61","v":2.0904536839296993E-3},{"$f":"'Corr. Matrix'!Q27*'Corr. Matrix'!B$54*'Corr. Matrix'!B61","v":1.8334414916323903E-3},{"$f":"'Corr. Matrix'!R27*'Corr. Matrix'!B$55*'Corr. Matrix'!B61","v":1.1442783079279317E-3},{"$f":"'Corr. Matrix'!S27*'Corr. Matrix'!B$56*'Corr. Matrix'!B61","v":1.4971209076957623E-3},{"$f":"'Corr. Matrix'!T27*'Corr. Matrix'!B$57*'Corr. Matrix'!B61","v":1.5437829215966517E-3},{"$f":"'Corr. Matrix'!U27*'Corr. Matrix'!B$58*'Corr. Matrix'!B61","v":2.1628972922962059E-3},{"$f":"'Corr. Matrix'!V27*'Corr. Matrix'!B$59*'Corr. Matrix'!B61","v":1.4349030514802048E-3},{"$f":"'Corr. Matrix'!W27*'Corr. Matrix'!B$60*'Corr. Matrix'!B61","v":1.6056583004439699E-3},{"$f":"'Corr. Matrix'!X27*'Corr. Matrix'!B$61*'Corr. Matrix'!B61","v":5.394958412993347E-3},{"$f":"$W27","v":1.2431731508824443E-3},{"$f":"$W28","v":1.9305089793526669E-3},{"$f":"$W29","v":2.5160359664350941E-3},{"$f":"$W30","v":9.0173268401854746E-4},{"$f":"$W31","v":1.4869204171620422E-3},{"$f":"$W32","v":1.2463921176659775E-3},{"$f":"$W33","v":1.0943611470378772E-3},{"$f":"$W34","v":1.8785914397300215E-3}]
[{"$f":"'Corr. Matrix'!B28","v":"PG"},{"$f":"'Corr. Matrix'!C28*'Corr. Matrix'!B$40*'Corr. Matrix'!B62","v":1.2583465178222554E-3},{"$f":"'Corr. Matrix'!D28*'Corr. Matrix'!B$41*'Corr. Matrix'!B62","v":1.5541695488443851E-3},{"$f":"'Corr. Matrix'!E28*'Corr. Matrix'!B$42*'Corr. Matrix'!B62","v":1.9502439779994253E-3},{"$f":"'Corr. Matrix'!F28*'Corr. Matrix'!B$43*'Corr. Matrix'!B62","v":1.1359313345029535E-3},{"$f":"'Corr. Matrix'!G28*'Corr. Matrix'!B$44*'Corr. Matrix'!B62","v":1.536684867937706E-3},{"$f":"'Corr. Matrix'!H28*'Corr. Matrix'!B$45*'Corr. Matrix'!B62","v":9.5098531731455972E-4},{"$f":"'Corr. Matrix'!I28*'Corr. Matrix'!B$46*'Corr. Matrix'!B62","v":1.2506074553270145E-3},{"$f":"'Corr. Matrix'!J28*'Corr. Matrix'!B$47*'Corr. Matrix'!B62","v":1.5614072017752229E-3},{"$f":"'Corr. Matrix'!K28*'Corr. Matrix'!B$48*'Corr. Matrix'!B62","v":5.2070621279610811E-4},{"$f":"'Corr. Matrix'!L28*'Corr. Matrix'!B$49*'Corr. Matrix'!B62","v":1.0401368682131948E-3},{"$f":"'Corr. Matrix'!M28*'Corr. Matrix'!B$50*'Corr. Matrix'!B62","v":1.5961077074057117E-3},{"$f":"'Corr. Matrix'!N28*'Corr. Matrix'!B$51*'Corr. Matrix'!B62","v":1.7549856566407881E-3},{"$f":"'Corr. Matrix'!O28*'Corr. Matrix'!B$52*'Corr. Matrix'!B62","v":9.0715727375012003E-4},{"$f":"'Corr. Matrix'!P28*'Corr. Matrix'!B$53*'Corr. Matrix'!B62","v":1.2174196560031129E-3},{"$f":"'Corr. Matrix'!Q28*'Corr. Matrix'!B$54*'Corr. Matrix'!B62","v":1.1264874510573137E-3},{"$f":"'Corr. Matrix'!R28*'Corr. Matrix'!B$55*'Corr. Matrix'!B62","v":1.8559022950912862E-3},{"$f":"'Corr. Matrix'!S28*'Corr. Matrix'!B$56*'Corr. Matrix'!B62","v":9.1123667279154118E-4},{"$f":"'Corr. Matrix'!T28*'Corr. Matrix'!B$57*'Corr. Matrix'!B62","v":1.5089764202967171E-3},{"$f":"'Corr. Matrix'!U28*'Corr. Matrix'!B$58*'Corr. Matrix'!B62","v":1.596744652742255E-3},{"$f":"'Corr. Matrix'!V28*'Corr. Matrix'!B$59*'Corr. Matrix'!B62","v":1.0190324154470884E-3},{"$f":"'Corr. Matrix'!W28*'Corr. Matrix'!B$60*'Corr. Matrix'!B62","v":-4.9879416449240363E-4},{"$f":"'Corr. Matrix'!X28*'Corr. Matrix'!B$61*'Corr. Matrix'!B62","v":1.2431731508824443E-3},{"$f":"'Corr. Matrix'!Y28*'Corr. Matrix'!B$62*'Corr. Matrix'!B62","v":2.4717916839683747E-3},{"$f":"$X28","v":1.549303688732158E-3},{"$f":"$X29","v":1.7443277150532995E-3},{"$f":"$X30","v":1.020510411043277E-3},{"$f":"$X31","v":1.1684970782546164E-3},{"$f":"$X32","v":1.5862475777738546E-3},{"$f":"$X33","v":8.6758749583553492E-4},{"$f":"$X34","v":3.8140893530585552E-4}]
[{"$f":"'Corr. Matrix'!B29","v":"AAPL"},{"$f":"'Corr. Matrix'!C29*'Corr. Matrix'!B$40*'Corr. Matrix'!B63","v":1.1061598002892638E-2},{"$f":"'Corr. Matrix'!D29*'Corr. Matrix'!B$41*'Corr. Matrix'!B63","v":4.7246308140210169E-3},{"$f":"'Corr. Matrix'!E29*'Corr. Matrix'!B$42*'Corr. Matrix'!B63","v":3.8449964824655409E-3},{"$f":"'Corr. Matrix'!F29*'Corr. Matrix'!B$43*'Corr. Matrix'!B63","v":2.7677576326007466E-3},{"$f":"'Corr. Matrix'!G29*'Corr. Matrix'!B$44*'Corr. Matrix'!B63","v":3.322856553708784E-3},{"$f":"'Corr. Matrix'!H29*'Corr. Matrix'!B$45*'Corr. Matrix'!B63","v":2.4542735573314387E-3},{"$f":"'Corr. Matrix'!I29*'Corr. Matrix'!B$46*'Corr. Matrix'!B63","v":4.3129372130770718E-3},{"$f":"'Corr. Matrix'!J29*'Corr. Matrix'!B$47*'Corr. Matrix'!B63","v":5.1776884060422647E-3},{"$f":"'Corr. Matrix'!K29*'Corr. Matrix'!B$48*'Corr. Matrix'!B63","v":4.116186377319175E-3},{"$f":"'Corr. Matrix'!L29*'Corr. Matrix'!B$49*'Corr. Matrix'!B63","v":3.8581616657688274E-3},{"$f":"'Corr. Matrix'!M29*'Corr. Matrix'!B$50*'Corr. Matrix'!B63","v":3.0847956199325211E-3},{"$f":"'Corr. Matrix'!N29*'Corr. Matrix'!B$51*'Corr. Matrix'!B63","v":2.2238176018500406E-3},{"$f":"'Corr. Matrix'!O29*'Corr. Matrix'!B$52*'Corr. Matrix'!B63","v":2.8704477233456776E-3},{"$f":"'Corr. Matrix'!P29*'Corr. Matrix'!B$53*'Corr. Matrix'!B63","v":1.8455379270500396E-3},{"$f":"'Corr. Matrix'!Q29*'Corr. Matrix'!B$54*'Corr. Matrix'!B63","v":2.9650931987521105E-3},{"$f":"'Corr. Matrix'!R29*'Corr. Matrix'!B$55*'Corr. Matrix'!B63","v":1.4008854331865408E-3},{"$f":"'Corr. Matrix'!S29*'Corr. Matrix'!B$56*'Corr. Matrix'!B63","v":2.1387599212885884E-3},{"$f":"'Corr. Matrix'!T29*'Corr. Matrix'!B$57*'Corr. Matrix'!B63","v":1.9685339734398181E-3},{"$f":"'Corr. Matrix'!U29*'Corr. Matrix'!B$58*'Corr. Matrix'!B63","v":3.1527505767718349E-3},{"$f":"'Corr. Matrix'!V29*'Corr. Matrix'!B$59*'Corr. Matrix'!B63","v":3.9314514439079866E-3},{"$f":"'Corr. Matrix'!W29*'Corr. Matrix'!B$60*'Corr. Matrix'!B63","v":5.2263669007225674E-3},{"$f":"'Corr. Matrix'!X29*'Corr. Matrix'!B$61*'Corr. Matrix'!B63","v":1.9305089793526669E-3},{"$f":"'Corr. Matrix'!Y29*'Corr. Matrix'!B$62*'Corr. Matrix'!B63","v":1.549303688732158E-3},{"$f":"'Corr. Matrix'!Z29*'Corr. Matrix'!B$63*'Corr. Matrix'!B63","v":8.6151937346273556E-3},{"$f":"$Y29","v":4.1682142489049894E-3},{"$f":"$Y30","v":2.7240340935124267E-3},{"$f":"$Y31","v":6.2000612332088376E-4},{"$f":"$Y32","v":2.0847565768600243E-3},{"$f":"$Y33","v":2.8363720727911934E-3},{"$f":"$Y34","v":5.7830843237343822E-3}]
[{"$f":"'Corr. Matrix'!B30","v":"PRU"},{"$f":"'Corr. Matrix'!C30*'Corr. Matrix'!B$40*'Corr. Matrix'!B64","v":6.2159296754424288E-3},{"$f":"'Corr. Matrix'!D30*'Corr. Matrix'!B$41*'Corr. Matrix'!B64","v":7.0353389816085526E-3},{"$f":"'Corr. Matrix'!E30*'Corr. Matrix'!B$42*'Corr. Matrix'!B64","v":7.9934118463098492E-3},{"$f":"'Corr. Matrix'!F30*'Corr. Matrix'!B$43*'Corr. Matrix'!B64","v":5.635053530840148E-3},{"$f":"'Corr. Matrix'!G30*'Corr. Matrix'!B$44*'Corr. Matrix'!B64","v":4.1744528896378291E-3},{"$f":"'Corr. Matrix'!H30*'Corr. Matrix'!B$45*'Corr. Matrix'!B64","v":6.6807421798840772E-3},{"$f":"'Corr. Matrix'!I30*'Corr. Matrix'!B$46*'Corr. Matrix'!B64","v":5.9899045960305052E-3},{"$f":"'Corr. Matrix'!J30*'Corr. Matrix'!B$47*'Corr. Matrix'!B64","v":7.6234702429727854E-3},{"$f":"'Corr. Matrix'!K30*'Corr. Matrix'!B$48*'Corr. Matrix'!B64","v":7.9674370056858953E-3},{"$f":"'Corr. Matrix'!L30*'Corr. Matrix'!B$49*'Corr. Matrix'!B64","v":4.2511496159903196E-3},{"$f":"'Corr. Matrix'!M30*'Corr. Matrix'!B$50*'Corr. Matrix'!B64","v":3.3702494457609382E-3},{"$f":"'Corr. Matrix'!N30*'Corr. Matrix'!B$51*'Corr. Matrix'!B64","v":4.928770225802165E-3},{"$f":"'Corr. Matrix'!O30*'Corr. Matrix'!B$52*'Corr. Matrix'!B64","v":3.3394837384893086E-3},{"$f":"'Corr. Matrix'!P30*'Corr. Matrix'!B$53*'Corr. Matrix'!B64","v":2.7613348569150778E-3},{"$f":"'Corr. Matrix'!Q30*'Corr. Matrix'!B$54*'Corr. Matrix'!B64","v":6.360525498805422E-3},{"$f":"'Corr. Matrix'!R30*'Corr. Matrix'!B$55*'Corr. Matrix'!B64","v":3.155260751471062E-3},{"$f":"'Corr. Matrix'!S30*'Corr. Matrix'!B$56*'Corr. Matrix'!B64","v":1.4859704564265978E-3},{"$f":"'Corr. Matrix'!T30*'Corr. Matrix'!B$57*'Corr. Matrix'!B64","v":3.2569235883100618E-3},{"$f":"'Corr. Matrix'!U30*'Corr. Matrix'!B$58*'Corr. Matrix'!B64","v":4.1094017626491629E-3},{"$f":"'Corr. Matrix'!V30*'Corr. Matrix'!B$59*'Corr. Matrix'!B64","v":2.887838499272898E-3},{"$f":"'Corr. Matrix'!W30*'Corr. Matrix'!B$60*'Corr. Matrix'!B64","v":3.3630950484129863E-3},{"$f":"'Corr. Matrix'!X30*'Corr. Matrix'!B$61*'Corr. Matrix'!B64","v":2.5160359664350941E-3},{"$f":"'Corr. Matrix'!Y30*'Corr. Matrix'!B$62*'Corr. Matrix'!B64","v":1.7443277150532995E-3},{"$f":"'Corr. Matrix'!Z30*'Corr. Matrix'!B$63*'Corr. Matrix'!B64","v":4.1682142489049894E-3},{"$f":"'Corr. Matrix'!AA30*'Corr. Matrix'!B$64*'Corr. Matrix'!B64","v":9.5560117478564049E-3},{"$f":"$Z30","v":6.9718528686790737E-3},{"$f":"$Z31","v":1.2993419222763207E-3},{"$f":"$Z32","v":2.1823830537013597E-3},{"$f":"$Z33","v":7.2567687963031964E-3},{"$f":"$Z34","v":3.2677381101316326E-3}]
[{"$f":"'Corr. Matrix'!B31","v":"TFC"},{"$f":"'Corr. Matrix'!C31*'Corr. Matrix'!B$40*'Corr. Matrix'!B65","v":5.4510288019304918E-3},{"$f":"'Corr. Matrix'!D31*'Corr. Matrix'!B$41*'Corr. Matrix'!B65","v":6.677958239422895E-3},{"$f":"'Corr. Matrix'!E31*'Corr. Matrix'!B$42*'Corr. Matrix'!B65","v":7.5376949457660169E-3},{"$f":"'Corr. Matrix'!F31*'Corr. Matrix'!B$43*'Corr. Matrix'!B65","v":3.5391416700613311E-3},{"$f":"'Corr. Matrix'!G31*'Corr. Matrix'!B$44*'Corr. Matrix'!B65","v":2.6155371428548181E-3},{"$f":"'Corr. Matrix'!H31*'Corr. Matrix'!B$45*'Corr. Matrix'!B65","v":5.013313237556067E-3},{"$f":"'Corr. Matrix'!I31*'Corr. Matrix'!B$46*'Corr. Matrix'!B65","v":4.7533677931199088E-3},{"$f":"'Corr. Matrix'!J31*'Corr. Matrix'!B$47*'Corr. Matrix'!B65","v":7.2068281907943762E-3},{"$f":"'Corr. Matrix'!K31*'Corr. Matrix'!B$48*'Corr. Matrix'!B65","v":6.2562791679060432E-3},{"$f":"'Corr. Matrix'!L31*'Corr. Matrix'!B$49*'Corr. Matrix'!B65","v":3.9019269001107104E-3},{"$f":"'Corr. Matrix'!M31*'Corr. Matrix'!B$50*'Corr. Matrix'!B65","v":2.4181645223778736E-3},{"$f":"'Corr. Matrix'!N31*'Corr. Matrix'!B$51*'Corr. Matrix'!B65","v":2.6252222708082898E-3},{"$f":"'Corr. Matrix'!O31*'Corr. Matrix'!B$52*'Corr. Matrix'!B65","v":2.4692097955290575E-3},{"$f":"'Corr. Matrix'!P31*'Corr. Matrix'!B$53*'Corr. Matrix'!B65","v":1.3853887344733274E-3},{"$f":"'Corr. Matrix'!Q31*'Corr. Matrix'!B$54*'Corr. Matrix'!B65","v":5.6116970901953275E-3},{"$f":"'Corr. Matrix'!R31*'Corr. Matrix'!B$55*'Corr. Matrix'!B65","v":2.2795809237256934E-3},{"$f":"'Corr. Matrix'!S31*'Corr. Matrix'!B$56*'Corr. Matrix'!B65","v":4.8602960188006241E-4},{"$f":"'Corr. Matrix'!T31*'Corr. Matrix'!B$57*'Corr. Matrix'!B65","v":2.1840592207404345E-3},{"$f":"'Corr. Matrix'!U31*'Corr. Matrix'!B$58*'Corr. Matrix'!B65","v":2.8991662497536725E-3},{"$f":"'Corr. Matrix'!V31*'Corr. Matrix'!B$59*'Corr. Matrix'!B65","v":2.1966403576950911E-3},{"$f":"'Corr. Matrix'!W31*'Corr. Matrix'!B$60*'Corr. Matrix'!B65","v":3.1628039284149019E-3},{"$f":"'Corr. Matrix'!X31*'Corr. Matrix'!B$61*'Corr. Matrix'!B65","v":9.0173268401854746E-4},{"$f":"'Corr. Matrix'!Y31*'Corr. Matrix'!B$62*'Corr. Matrix'!B65","v":1.020510411043277E-3},{"$f":"'Corr. Matrix'!Z31*'Corr. Matrix'!B$63*'Corr. Matrix'!B65","v":2.7240340935124267E-3},{"$f":"'Corr. Matrix'!AA31*'Corr. Matrix'!B$64*'Corr. Matrix'!B65","v":6.9718528686790737E-3},{"$f":"'Corr. Matrix'!AB31*'Corr. Matrix'!B$65*'Corr. Matrix'!B65","v":7.8801976725208396E-3},{"$f":"$AA31","v":1.4360028895789275E-3},{"$f":"$AA32","v":6.9422958876358149E-4},{"$f":"$AA33","v":5.6716410343620478E-3},{"$f":"$AA34","v":2.4469027413684162E-3}]
[{"$f":"'Corr. Matrix'!B32","v":"VZ"},{"$f":"'Corr. Matrix'!C32*'Corr. Matrix'!B$40*'Corr. Matrix'!B66","v":1.1376866729976207E-3},{"$f":"'Corr. Matrix'!D32*'Corr. Matrix'!B$41*'Corr. Matrix'!B66","v":9.5956904360706757E-4},{"$f":"'Corr. Matrix'!E32*'Corr. Matrix'!B$42*'Corr. Matrix'!B66","v":1.6288483384669017E-3},{"$f":"'Corr. Matrix'!F32*'Corr. Matrix'!B$43*'Corr. Matrix'!B66","v":6.8007567253126162E-4},{"$f":"'Corr. Matrix'!G32*'Corr. Matrix'!B$44*'Corr. Matrix'!B66","v":1.0684258462039661E-3},{"$f":"'Corr. Matrix'!H32*'Corr. Matrix'!B$45*'Corr. Matrix'!B66","v":1.5770600490231609E-3},{"$f":"'Corr. Matrix'!I32*'Corr. Matrix'!B$46*'Corr. Matrix'!B66","v":1.3623232645243201E-3},{"$f":"'Corr. Matrix'!J32*'Corr. Matrix'!B$47*'Corr. Matrix'!B66","v":6.9738020147193879E-4},{"$f":"'Corr. Matrix'!K32*'Corr. Matrix'!B$48*'Corr. Matrix'!B66","v":5.2943658281156072E-4},{"$f":"'Corr. Matrix'!L32*'Corr. Matrix'!B$49*'Corr. Matrix'!B66","v":1.0331409590380511E-3},{"$f":"'Corr. Matrix'!M32*'Corr. Matrix'!B$50*'Corr. Matrix'!B66","v":7.893730400144914E-4},{"$f":"'Corr. Matrix'!N32*'Corr. Matrix'!B$51*'Corr. Matrix'!B66","v":1.0240909517789103E-3},{"$f":"'Corr. Matrix'!O32*'Corr. Matrix'!B$52*'Corr. Matrix'!B66","v":1.4392595472565808E-3},{"$f":"'Corr. Matrix'!P32*'Corr. Matrix'!B$53*'Corr. Matrix'!B66","v":1.1632494274204546E-3},{"$f":"'Corr. Matrix'!Q32*'Corr. Matrix'!B$54*'Corr. Matrix'!B66","v":1.4330743667947119E-3},{"$f":"'Corr. Matrix'!R32*'Corr. Matrix'!B$55*'Corr. Matrix'!B66","v":1.1825846906701526E-3},{"$f":"'Corr. Matrix'!S32*'Corr. Matrix'!B$56*'Corr. Matrix'!B66","v":9.7100533129908782E-4},{"$f":"'Corr. Matrix'!T32*'Corr. Matrix'!B$57*'Corr. Matrix'!B66","v":1.1033225654051185E-3},{"$f":"'Corr. Matrix'!U32*'Corr. Matrix'!B$58*'Corr. Matrix'!B66","v":1.1692946650988249E-3},{"$f":"'Corr. Matrix'!V32*'Corr. Matrix'!B$59*'Corr. Matrix'!B66","v":8.357463417699891E-4},{"$f":"'Corr. Matrix'!W32*'Corr. Matrix'!B$60*'Corr. Matrix'!B66","v":3.0628096156333571E-4},{"$f":"'Corr. Matrix'!X32*'Corr. Matrix'!B$61*'Corr. Matrix'!B66","v":1.4869204171620422E-3},{"$f":"'Corr. Matrix'!Y32*'Corr. Matrix'!B$62*'Corr. Matrix'!B66","v":1.1684970782546164E-3},{"$f":"'Corr. Matrix'!Z32*'Corr. Matrix'!B$63*'Corr. Matrix'!B66","v":6.2000612332088376E-4},{"$f":"'Corr. Matrix'!AA32*'Corr. Matrix'!B$64*'Corr. Matrix'!B66","v":1.2993419222763207E-3},{"$f":"'Corr. Matrix'!AB32*'Corr. Matrix'!B$65*'Corr. Matrix'!B66","v":1.4360028895789275E-3},{"$f":"'Corr. Matrix'!AC32*'Corr. Matrix'!B$66*'Corr. Matrix'!B66","v":2.4784591678226821E-3},{"$f":"$AB32","v":7.0048242068741101E-4},{"$f":"$AB33","v":1.3961945644929137E-3},{"$f":"$AB34","v":6.322197029629571E-4}]
[{"$f":"'Corr. Matrix'!B33","v":"WMT"},{"$f":"'Corr. Matrix'!C33*'Corr. Matrix'!B$40*'Corr. Matrix'!B67","v":3.8165965611608663E-3},{"$f":"'Corr. Matrix'!D33*'Corr. Matrix'!B$41*'Corr. Matrix'!B67","v":1.796042173015878E-3},{"$f":"'Corr. Matrix'!E33*'Corr. Matrix'!B$42*'Corr. Matrix'!B67","v":1.1247638600756858E-3},{"$f":"'Corr. Matrix'!F33*'Corr. Matrix'!B$43*'Corr. Matrix'!B67","v":1.4966565378114751E-3},{"$f":"'Corr. Matrix'!G33*'Corr. Matrix'!B$44*'Corr. Matrix'!B67","v":1.6558274426433978E-3},{"$f":"'Corr. Matrix'!H33*'Corr. Matrix'!B$45*'Corr. Matrix'!B67","v":1.3213002322521809E-3},{"$f":"'Corr. Matrix'!I33*'Corr. Matrix'!B$46*'Corr. Matrix'!B67","v":1.6827305959491946E-3},{"$f":"'Corr. Matrix'!J33*'Corr. Matrix'!B$47*'Corr. Matrix'!B67","v":1.9169581848622261E-3},{"$f":"'Corr. Matrix'!K33*'Corr. Matrix'!B$48*'Corr. Matrix'!B67","v":1.2872806610752599E-3},{"$f":"'Corr. Matrix'!L33*'Corr. Matrix'!B$49*'Corr. Matrix'!B67","v":1.1614487725894438E-3},{"$f":"'Corr. Matrix'!M33*'Corr. Matrix'!B$50*'Corr. Matrix'!B67","v":1.6410952217857282E-3},{"$f":"'Corr. Matrix'!N33*'Corr. Matrix'!B$51*'Corr. Matrix'!B67","v":8.8455420152279928E-4},{"$f":"'Corr. Matrix'!O33*'Corr. Matrix'!B$52*'Corr. Matrix'!B67","v":4.4523661857966547E-4},{"$f":"'Corr. Matrix'!P33*'Corr. Matrix'!B$53*'Corr. Matrix'!B67","v":1.4640331714311559E-3},{"$f":"'Corr. Matrix'!Q33*'Corr. Matrix'!B$54*'Corr. Matrix'!B67","v":9.9411050140777216E-4},{"$f":"'Corr. Matrix'!R33*'Corr. Matrix'!B$55*'Corr. Matrix'!B67","v":1.2787650980046086E-3},{"$f":"'Corr. Matrix'!S33*'Corr. Matrix'!B$56*'Corr. Matrix'!B67","v":2.2938582381800739E-3},{"$f":"'Corr. Matrix'!T33*'Corr. Matrix'!B$57*'Corr. Matrix'!B67","v":1.4530764634093944E-3},{"$f":"'Corr. Matrix'!U33*'Corr. Matrix'!B$58*'Corr. Matrix'!B67","v":1.4818314562731365E-3},{"$f":"'Corr. Matrix'!V33*'Corr. Matrix'!B$59*'Corr. Matrix'!B67","v":1.3933102621305515E-3},{"$f":"'Corr. Matrix'!W33*'Corr. Matrix'!B$60*'Corr. Matrix'!B67","v":6.0008350622581795E-4},{"$f":"'Corr. Matrix'!X33*'Corr. Matrix'!B$61*'Corr. Matrix'!B67","v":1.2463921176659775E-3},{"$f":"'Corr. Matrix'!Y33*'Corr. Matrix'!B$62*'Corr. Matrix'!B67","v":1.5862475777738546E-3},{"$f":"'Corr. Matrix'!Z33*'Corr. Matrix'!B$63*'Corr. Matrix'!B67","v":2.0847565768600243E-3},{"$f":"'Corr. Matrix'!AA33*'Corr. Matrix'!B$64*'Corr. Matrix'!B67","v":2.1823830537013597E-3},{"$f":"'Corr. Matrix'!AB33*'Corr. Matrix'!B$65*'Corr. Matrix'!B67","v":6.9422958876358149E-4},{"$f":"'Corr. Matrix'!AC33*'Corr. Matrix'!B$66*'Corr. Matrix'!B67","v":7.0048242068741101E-4},{"$f":"'Corr. Matrix'!AD33*'Corr. Matrix'!B$67*'Corr. Matrix'!B67","v":3.4163731493341235E-3},{"$f":"AC33","v":9.3014128518560072E-4},{"$f":"AC34","v":1.3023760822380615E-3}]
[{"$f":"'Corr. Matrix'!B34","v":"XOM"},{"$f":"'Corr. Matrix'!C34*'Corr. Matrix'!B$40*'Corr. Matrix'!B68","v":3.0134050554888178E-3},{"$f":"'Corr. Matrix'!D34*'Corr. Matrix'!B$41*'Corr. Matrix'!B68","v":6.0143585429351925E-3},{"$f":"'Corr. Matrix'!E34*'Corr. Matrix'!B$42*'Corr. Matrix'!B68","v":6.8907325259325936E-3},{"$f":"'Corr. Matrix'!F34*'Corr. Matrix'!B$43*'Corr. Matrix'!B68","v":4.6864022906924112E-3},{"$f":"'Corr. Matrix'!G34*'Corr. Matrix'!B$44*'Corr. Matrix'!B68","v":2.842841844748673E-3},{"$f":"'Corr. Matrix'!H34*'Corr. Matrix'!B$45*'Corr. Matrix'!B68","v":8.4057053349203964E-3},{"$f":"'Corr. Matrix'!I34*'Corr. Matrix'!B$46*'Corr. Matrix'!B68","v":4.4541590414033183E-3},{"$f":"'Corr. Matrix'!J34*'Corr. Matrix'!B$47*'Corr. Matrix'!B68","v":7.0295673010156243E-3},{"$f":"'Corr. Matrix'!K34*'Corr. Matrix'!B$48*'Corr. Matrix'!B68","v":6.1240192767765414E-3},{"$f":"'Corr. Matrix'!L34*'Corr. Matrix'!B$49*'Corr. Matrix'!B68","v":2.5934204808576509E-3},{"$f":"'Corr. Matrix'!M34*'Corr. Matrix'!B$50*'Corr. Matrix'!B68","v":2.4798884398778589E-3},{"$f":"'Corr. Matrix'!N34*'Corr. Matrix'!B$51*'Corr. Matrix'!B68","v":3.9185409210718038E-3},{"$f":"'Corr. Matrix'!O34*'Corr. Matrix'!B$52*'Corr. Matrix'!B68","v":3.2982093922601144E-3},{"$f":"'Corr. Matrix'!P34*'Corr. Matrix'!B$53*'Corr. Matrix'!B68","v":2.2403981285832038E-3},{"$f":"'Corr. Matrix'!Q34*'Corr. Matrix'!B$54*'Corr. Matrix'!B68","v":4.9966889425069189E-3},{"$f":"'Corr. Matrix'!R34*'Corr. Matrix'!B$55*'Corr. Matrix'!B68","v":2.3742502943832934E-3},{"$f":"'Corr. Matrix'!S34*'Corr. Matrix'!B$56*'Corr. Matrix'!B68","v":7.0717110762746275E-4},{"$f":"'Corr. Matrix'!T34*'Corr. Matrix'!B$57*'Corr. Matrix'!B68","v":2.5632747320625993E-3},{"$f":"'Corr. Matrix'!U34*'Corr. Matrix'!B$58*'Corr. Matrix'!B68","v":3.6466754595752002E-3},{"$f":"'Corr. Matrix'!V34*'Corr. Matrix'!B$59*'Corr. Matrix'!B68","v":1.8533348670209959E-3},{"$f":"'Corr. Matrix'!W34*'Corr. Matrix'!B$60*'Corr. Matrix'!B68","v":1.6572225464424526E-3},{"$f":"'Corr. Matrix'!X34*'Corr. Matrix'!B$61*'Corr. Matrix'!B68","v":1.0943611470378772E-3},{"$f":"'Corr. Matrix'!Y34*'Corr. Matrix'!B$62*'Corr. Matrix'!B68","v":8.6758749583553492E-4},{"$f":"'Corr. Matrix'!Z34*'Corr. Matrix'!B$63*'Corr. Matrix'!B68","v":2.8363720727911934E-3},{"$f":"'Corr. Matrix'!AA34*'Corr. Matrix'!B$64*'Corr. Matrix'!B68","v":7.2567687963031964E-3},{"$f":"'Corr. Matrix'!AB34*'Corr. Matrix'!B$65*'Corr. Matrix'!B68","v":5.6716410343620478E-3},{"$f":"'Corr. Matrix'!AC34*'Corr. Matrix'!B$66*'Corr. Matrix'!B68","v":1.3961945644929137E-3},{"$f":"'Corr. Matrix'!AD34*'Corr. Matrix'!B$67*'Corr. Matrix'!B68","v":9.3014128518560072E-4},{"$f":"'Corr. Matrix'!AE34*'Corr. Matrix'!B$68*'Corr. Matrix'!B68","v":1.0029837257060244E-2},{"$f":"AD34","v":1.6877417193310736E-3}]
[{"$f":"'Corr. Matrix'!B35","v":"AMZN"},{"$f":"'Corr. Matrix'!C35*'Corr. Matrix'!B$40*'Corr. Matrix'!B69","v":9.7192239456534765E-3},{"$f":"'Corr. Matrix'!D35*'Corr. Matrix'!B$41*'Corr. Matrix'!B69","v":2.8109052366091605E-3},{"$f":"'Corr. Matrix'!E35*'Corr. Matrix'!B$42*'Corr. Matrix'!B69","v":2.0719237704766623E-3},{"$f":"'Corr. Matrix'!F35*'Corr. Matrix'!B$43*'Corr. Matrix'!B69","v":2.4933548879493071E-3},{"$f":"'Corr. Matrix'!G35*'Corr. Matrix'!B$44*'Corr. Matrix'!B69","v":3.0336363874644027E-3},{"$f":"'Corr. Matrix'!H35*'Corr. Matrix'!B$45*'Corr. Matrix'!B69","v":2.4579143447748036E-3},{"$f":"'Corr. Matrix'!I35*'Corr. Matrix'!B$46*'Corr. Matrix'!B69","v":3.9647612155882831E-3},{"$f":"'Corr. Matrix'!J35*'Corr. Matrix'!B$47*'Corr. Matrix'!B69","v":3.9345314906726681E-3},{"$f":"'Corr. Matrix'!K35*'Corr. Matrix'!B$48*'Corr. Matrix'!B69","v":2.2256264174205023E-3},{"$f":"'Corr. Matrix'!L35*'Corr. Matrix'!B$49*'Corr. Matrix'!B69","v":4.408548527042172E-3},{"$f":"'Corr. Matrix'!M35*'Corr. Matrix'!B$50*'Corr. Matrix'!B69","v":3.1099512778933578E-3},{"$f":"'Corr. Matrix'!N35*'Corr. Matrix'!B$51*'Corr. Matrix'!B69","v":2.0845843454307717E-3},{"$f":"'Corr. Matrix'!O35*'Corr. Matrix'!B$52*'Corr. Matrix'!B69","v":1.831947199936618E-3},{"$f":"'Corr. Matrix'!P35*'Corr. Matrix'!B$53*'Corr. Matrix'!B69","v":1.1901909966969589E-3},{"$f":"'Corr. Matrix'!Q35*'Corr. Matrix'!B$54*'Corr. Matrix'!B69","v":2.1289530114598724E-3},{"$f":"'Corr. Matrix'!R35*'Corr. Matrix'!B$55*'Corr. Matrix'!B69","v":3.8332301419552407E-4},{"$f":"'Corr. Matrix'!S35*'Corr. Matrix'!B$56*'Corr. Matrix'!B69","v":1.8201514472551146E-3},{"$f":"'Corr. Matrix'!T35*'Corr. Matrix'!B$57*'Corr. Matrix'!B69","v":1.2907856684693036E-3},{"$f":"'Corr. Matrix'!U35*'Corr. Matrix'!B$58*'Corr. Matrix'!B69","v":2.5578645794076065E-3},{"$f":"'Corr. Matrix'!V35*'Corr. Matrix'!B$59*'Corr. Matrix'!B69","v":4.2159887168749547E-3},{"$f":"'Corr. Matrix'!W35*'Corr. Matrix'!B$60*'Corr. Matrix'!B69","v":8.0507780526607939E-3},{"$f":"'Corr. Matrix'!X35*'Corr. Matrix'!B$61*'Corr. Matrix'!B69","v":1.8785914397300215E-3},{"$f":"'Corr. Matrix'!Y35*'Corr. Matrix'!B$62*'Corr. Matrix'!B69","v":3.8140893530585552E-4},{"$f":"'Corr. Matrix'!Z35*'Corr. Matrix'!B$63*'Corr. Matrix'!B69","v":5.7830843237343822E-3},{"$f":"'Corr. Matrix'!AA35*'Corr. Matrix'!B$64*'Corr. Matrix'!B69","v":3.2677381101316326E-3},{"$f":"'Corr. Matrix'!AB35*'Corr. Matrix'!B$65*'Corr. Matrix'!B69","v":2.4469027413684162E-3},{"$f":"'Corr. Matrix'!AC35*'Corr. Matrix'!B$66*'Corr. Matrix'!B69","v":6.322197029629571E-4},{"$f":"'Corr. Matrix'!AD35*'Corr. Matrix'!B$67*'Corr. Matrix'!B69","v":1.3023760822380615E-3},{"$f":"'Corr. Matrix'!AE35*'Corr. Matrix'!B$68*'Corr. Matrix'!B69","v":1.6877417193310736E-3},{"$f":"'Corr. Matrix'!AF35*'Corr. Matrix'!B69*'Corr. Matrix'!B69","v":8.9261481776837914E-3}]
[]
["Portfolio Standard Deviation"]
["N","1/N","(1/N)^2","Sum","Variance","Stand Dev"]
[1,{"$f":"1/A38","v":1},{"$f":"B38^2","v":1},{"$f":"SUM(B5)","v":3.8918971809673283E-2},{"$f":"C38*D38","v":3.8918971809673283E-2},{"$f":"SQRT(E38)","v":0.19727891881717438}]
[2,0.5,0.25,{"$f":"SUM(B5:C6)","v":7.0747550592556108E-2},1.7686887648139027E-2,0.13299205859050015]
[3,0.33333333333333331,0.1111111111111111,{"$f":"SUM(B5:D7)","v":0.11814547016400137},1.3127274462666818E-2,0.11457431851277501]
[4,0.25,6.25E-2,{"$f":"SUM(B5:E8)","v":0.15037973437783797},9.3987333986148731E-3,9.6947064930377719E-2]
[5,0.2,4.0000000000000008E-2,{"$f":"SUM(B5:F9)","v":0.18515721895609333},7.4062887582437347E-3,8.6059797572639776E-2]
[6,0.16666666666666666,2.7777777777777776E-2,{"$f":"SUM(B5:G10)","v":0.24328526339596121},6.7579239832211441E-3,8.2206593307478343E-2]
[7,0.14285714285714285,2.0408163265306121E-2,{"$f":"SUM(B5:H11)","v":0.31273466141018191},6.3823400287792223E-3,7.9889548933381904E-2]
[8,0.125,1.5625E-2,{"$f":"SUM(B5:I12)","v":0.43102282730012131},6.7347316765643955E-3,8.2065410963233443E-2]
[9,0.1111111111111111,1.2345679012345678E-2,{"$f":"SUM(B5:J13)","v":0.55407771958546015},6.8404656738945691E-3,8.2707107759216011E-2]
[10,0.1,1.0000000000000002E-2,{"$f":"SUM(B5:K14)","v":0.6317964269684071},6.3179642696840725E-3,7.9485623037654246E-2]
[11,9.0909090909090912E-2,8.2644628099173556E-3,{"$f":"SUM(B5:L15)","v":0.70161387089225113},5.7984617429111662E-3,7.6147631236376398E-2]
[12,8.3333333333333329E-2,6.9444444444444441E-3,{"$f":"SUM(B5:M16)","v":0.77148158464504535},5.3575110044794816E-3,7.3195020353023207E-2]
[13,7.6923076923076927E-2,5.9171597633136102E-3,{"$f":"SUM(B5:N17)","v":0.85808731547457795},5.0774397365359646E-3,7.1256155779946234E-2]
[14,7.1428571428571425E-2,5.1020408163265302E-3,{"$f":"SUM(B5:O18)","v":0.90286941028991197},4.6064765831117958E-3,6.7871029041202818E-2]
[15,6.6666666666666666E-2,4.4444444444444444E-3,{"$f":"SUM(B5:P19)","v":1.0349822308854246},4.5999210261574424E-3,6.7822717625862228E-2]
[16,6.25E-2,3.90625E-3,{"$f":"SUM(B5:Q20)","v":1.099870234869744},4.2963681049599375E-3,6.5546686452939304E-2]
[17,5.8823529411764705E-2,3.4602076124567475E-3,{"$f":"SUM(B5:R21)","v":1.1505439062719092},3.9811207829477824E-3,6.3096123359108067E-2]
[18,5.5555555555555552E-2,3.0864197530864196E-3,{"$f":"SUM(B5:S22)","v":1.227978643439867},3.7900575414810708E-3,6.1563443223077371E-2]
[19,5.2631578947368418E-2,2.7700831024930744E-3,{"$f":"SUM(B5:T23)","v":1.3458397374199924},3.7280879152908372E-3,6.1058070025925622E-2]
[20,0.05,2.5000000000000005E-3,{"$f":"SUM(B5:U24)","v":1.4449553886830524},3.6123884717076315E-3,6.0103148600615192E-2]
[21,4.7619047619047616E-2,2.2675736961451243E-3,{"$f":"SUM(B5:V25)","v":1.6070390718190044},3.6440795279342499E-3,6.0366211807055196E-2]
[22,4.5454545454545456E-2,2.0661157024793389E-3,{"$f":"SUM(B5:W26)","v":1.6820824776500809},3.4753770199381839E-3,5.8952328367403641E-2]
[23,4.3478260869565216E-2,1.8903591682419658E-3,{"$f":"SUM(B5:X27)","v":1.738549566314346},3.2864831121254177E-3,5.7327856336386915E-2]
[24,4.1666666666666664E-2,1.736111111111111E-3,{"$f":"SUM(B5:Y28)","v":1.9070234394360934},3.3108045823543285E-3,5.7539591433675721E-2]
[25,0.04,1.6000000000000001E-3,{"$f":"SUM(B5:Z29)","v":2.1386080959181712},3.4217729534690741E-3,5.8495922537122824E-2]
[26,3.8461538461538464E-2,1.4792899408284025E-3,{"$f":"SUM(B5:AA30)","v":2.3310666312754313},3.4483234190464964E-3,5.8722426883146585E-2]
[27,3.7037037037037035E-2,1.3717421124828531E-3,{"$f":"SUM(B5:AB31)","v":2.3897490843439364},3.2781194572619153E-3,5.7254864048934005E-2]
[28,3.5714285714285712E-2,1.2755102040816326E-3,{"$f":"SUM(B5:AC32)","v":2.4725335596849507},3.1537417853124369E-3,5.6158185381228597E-2]
[29,3.4482758620689655E-2,1.1890606420927466E-3,{"$f":"SUM(B5:AD33)","v":2.6862500627863937},3.1941142244784702E-3,5.6516495153879368E-2]
[30,3.3333333333333333E-2,1.1111111111111111E-3,{"$f":"SUM(B5:AE34)","v":2.8615062261415454},3.1794513623794947E-3,5.6386623966854892E-2]

{"sheet":"Graph","index":5,"n_rows":32,"n_cols":19,"rows_kept":32,"cut":false,"hidden":false,"merged":[[1,13,1,14]]}
[null,null,null,null,null,null,null,null,null,null,null,null,null,null,null,"Stock",null,"Average","Portfolio"]
[null,null,null,null,null,null,null,null,null,null,null,null,null,"Stocks",null,"Stand Dev","Ave Corr","Stand Dev","Stand Dev"]
[null,null,null,null,null,null,null,null,null,null,null,null,null,1,{"$f":"'Var-Cov Matrix'!A5","v":"TSLA"},{"$f":"'Corr. Matrix'!B40","v":0.19727891881717438},{"$f":"(AVERAGE('Corr. Matrix'!C6:AF6)-(1/30))*(30/29)","v":0.28088112301665913},{"$f":"AVERAGE($P$3:P3)","v":0.19727891881717438},{"$f":"'Var-Cov Matrix'!F38","v":0.19727891881717438}]
[null,null,null,null,null,null,null,null,null,null,null,null,null,2,{"$f":"'Var-Cov Matrix'!A6","v":"GM"},{"$f":"'Corr. Matrix'!B41","v":0.11563378459015487},{"$f":"(AVERAGE('Corr. Matrix'!C7:AF7)-(1/30))*(30/29)","v":0.43676065965979499},{"$f":"AVERAGE($P$3:P4)","v":0.15645635170366462},{"$f":"'Var-Cov Matrix'!F39","v":0.13299205859050015}]
[null,null,null,null,null,null,null,null,null,null,null,null,null,3,{"$f":"'Var-Cov Matrix'!A7","v":"BA"},{"$f":"'Corr. Matrix'!B42","v":0.13980861241499859},{"$f":"(AVERAGE('Corr. Matrix'!C8:AF8)-(1/30))*(30/29)","v":0.37554241506786601},{"$f":"AVERAGE($P$3:P5)","v":0.15090710527410928},{"$f":"'Var-Cov Matrix'!F40","v":0.11457431851277501}]
[null,null,null,null,null,null,null,null,null,null,null,null,null,4,{"$f":"'Var-Cov Matrix'!A8","v":"CAT"},{"$f":"'Corr. Matrix'!B43","v":9.0907707779219221E-2},{"$f":"(AVERAGE('Corr. Matrix'!C9:AF9)-(1/30))*(30/29)","v":0.41278862183902598},{"$f":"AVERAGE($P$3:P6)","v":0.13590725590038677},{"$f":"'Var-Cov Matrix'!F41","v":9.6947064930377719E-2}]
[null,null,null,null,null,null,null,null,null,null,null,null,null,5,{"$f":"'Var-Cov Matrix'!A9","v":"CSCO"},{"$f":"'Corr. Matrix'!B44","v":7.8288569200460567E-2},{"$f":"(AVERAGE('Corr. Matrix'!C10:AF10)-(1/30))*(30/29)","v":0.41866515481786631},{"$f":"AVERAGE($P$3:P7)","v":0.12438351856040153},{"$f":"'Var-Cov Matrix'!F42","v":8.6059797572639776E-2}]
[null,null,null,null,null,null,null,null,null,null,null,null,null,6,{"$f":"'Var-Cov Matrix'!A10","v":"CVX"},{"$f":"'Corr. Matrix'!B45","v":9.3420111768909436E-2},{"$f":"(AVERAGE('Corr. Matrix'!C11:AF11)-(1/30))*(30/29)","v":0.44318182746359175},{"$f":"AVERAGE($P$3:P8)","v":0.1192229507618195},{"$f":"'Var-Cov Matrix'!F43","v":8.2206593307478343E-2}]
[null,null,null,null,null,null,null,null,null,null,null,null,null,7,{"$f":"'Var-Cov Matrix'!A11","v":"DIS"},{"$f":"'Corr. Matrix'!B46","v":9.3456681309705664E-2},{"$f":"(AVERAGE('Corr. Matrix'!C12:AF12)-(1/30))*(30/29)","v":0.44122346578653465},{"$f":"AVERAGE($P$3:P9)","v":0.11554205512580325},{"$f":"'Var-Cov Matrix'!F44","v":7.9889548933381904E-2}]
[null,null,null,null,null,null,null,null,null,null,null,null,null,8,{"$f":"'Var-Cov Matrix'!A12","v":"F"},{"$f":"'Corr. Matrix'!B47","v":0.12444811788404476},{"$f":"(AVERAGE('Corr. Matrix'!C13:AF13)-(1/30))*(30/29)","v":0.42846078241714308},{"$f":"AVERAGE($P$3:P10)","v":0.11665531297058343},{"$f":"'Var-Cov Matrix'!F45","v":8.2065410963233443E-2}]
[null,null,null,null,null,null,null,null,null,null,null,null,null,9,{"$f":"'Var-Cov Matrix'!A13","v":"GE"},{"$f":"'Corr. Matrix'!B48","v":0.12444872243413523},{"$f":"(AVERAGE('Corr. Matrix'!C14:AF14)-(1/30))*(30/29)","v":0.35627232670259118},{"$f":"AVERAGE($P$3:P11)","v":0.11752124735542252},{"$f":"'Var-Cov Matrix'!F46","v":8.2707107759216011E-2}]
[null,null,null,null,null,null,null,null,null,null,null,null,null,10,{"$f":"'Var-Cov Matrix'!A14","v":"GOOGL"},{"$f":"'Corr. Matrix'!B49","v":7.4161285035401148E-2},{"$f":"(AVERAGE('Corr. Matrix'!C15:AF15)-(1/30))*(30/29)","v":0.44576299041201006},{"$f":"AVERAGE($P$3:P12)","v":0.1131852511234204},{"$f":"'Var-Cov Matrix'!F47","v":7.9485623037654246E-2}]
[null,null,null,null,null,null,null,null,null,null,null,null,null,11,{"$f":"'Var-Cov Matrix'!A15","v":"HD"},{"$f":"'Corr. Matrix'!B50","v":7.1417927313172133E-2},{"$f":"(AVERAGE('Corr. Matrix'!C16:AF16)-(1/30))*(30/29)","v":0.41579183421386312},{"$f":"AVERAGE($P$3:P13)","v":0.1093882216861251},{"$f":"'Var-Cov Matrix'!F48","v":7.6147631236376398E-2}]
[null,null,null,null,null,null,null,null,null,null,null,null,null,12,{"$f":"'Var-Cov Matrix'!A16","v":"IBM"},{"$f":"'Corr. Matrix'!B51","v":7.8408755418173798E-2},{"$f":"(AVERAGE('Corr. Matrix'!C17:AF17)-(1/30))*(30/29)","v":0.37983078153603161},{"$f":"AVERAGE($P$3:P14)","v":0.10680659949712916},{"$f":"'Var-Cov Matrix'!F49","v":7.3195020353023207E-2}]
[null,null,null,null,null,null,null,null,null,null,null,null,null,13,{"$f":"'Var-Cov Matrix'!A17","v":"INTC"},{"$f":"'Corr. Matrix'!B52","v":8.3393393339336999E-2},{"$f":"(AVERAGE('Corr. Matrix'!C18:AF18)-(1/30))*(30/29)","v":0.34023062075770538},{"$f":"AVERAGE($P$3:P15)","v":0.10500558363883744},{"$f":"'Var-Cov Matrix'!F50","v":7.1256155779946234E-2}]
[null,null,null,null,null,null,null,null,null,null,null,null,null,14,{"$f":"'Var-Cov Matrix'!A18","v":"JNJ"},{"$f":"'Corr. Matrix'!B53","v":5.1570989912158999E-2},{"$f":"(AVERAGE('Corr. Matrix'!C19:AF19)-(1/30))*(30/29)","v":0.37742535672904998},{"$f":"AVERAGE($P$3:P16)","v":0.1011888269440747},{"$f":"'Var-Cov Matrix'!F51","v":6.7871029041202818E-2}]
[null,null,null,null,null,null,null,null,null,null,null,null,null,15,{"$f":"'Var-Cov Matrix'!A19","v":"JPM"},{"$f":"'Corr. Matrix'!B54","v":8.0374876905036613E-2},{"$f":"(AVERAGE('Corr. Matrix'!C20:AF20)-(1/30))*(30/29)","v":0.49864706914369739},{"$f":"AVERAGE($P$3:P17)","v":9.9801230274805489E-2},{"$f":"'Var-Cov Matrix'!F52","v":6.7822717625862228E-2}]
[null,null,null,null,null,null,null,null,null,null,null,null,null,16,{"$f":"'Var-Cov Matrix'!A20","v":"KO"},{"$f":"'Corr. Matrix'!B55","v":5.7408020670265014E-2},{"$f":"(AVERAGE('Corr. Matrix'!C21:AF21)-(1/30))*(30/29)","v":0.36217805263239344},{"$f":"AVERAGE($P$3:P18)","v":9.7151654674521706E-2},{"$f":"'Var-Cov Matrix'!F53","v":6.5546686452939304E-2}]
[null,null,null,null,null,null,null,null,null,null,null,null,null,17,{"$f":"'Var-Cov Matrix'!A21","v":"KR"},{"$f":"'Corr. Matrix'!B56","v":7.7546208864444216E-2},{"$f":"(AVERAGE('Corr. Matrix'!C22:AF22)-(1/30))*(30/29)","v":0.20974469504386128},{"$f":"AVERAGE($P$3:P19)","v":9.5998393156281864E-2},{"$f":"'Var-Cov Matrix'!F54","v":6.3096123359108067E-2}]
[null,null,null,null,null,null,null,null,null,null,null,null,null,18,{"$f":"'Var-Cov Matrix'!A22","v":"MCD"},{"$f":"'Corr. Matrix'!B57","v":5.5727809380393616E-2},{"$f":"(AVERAGE('Corr. Matrix'!C23:AF23)-(1/30))*(30/29)","v":0.4175465900434191},{"$f":"AVERAGE($P$3:P20)","v":9.3761138502065855E-2},{"$f":"'Var-Cov Matrix'!F55","v":6.1563443223077371E-2}]
[null,null,null,null,null,null,null,null,null,null,null,null,null,19,{"$f":"'Var-Cov Matrix'!A23","v":"MMM"},{"$f":"'Corr. Matrix'!B58","v":6.9468805196731834E-2},{"$f":"(AVERAGE('Corr. Matrix'!C24:AF24)-(1/30))*(30/29)","v":0.48027248332332223},{"$f":"AVERAGE($P$3:P21)","v":9.2482594643890373E-2},{"$f":"'Var-Cov Matrix'!F56","v":6.1058070025925622E-2}]
[null,null,null,null,null,null,null,null,null,null,null,null,null,20,{"$f":"'Var-Cov Matrix'!A24","v":"MSFT"},{"$f":"'Corr. Matrix'!B59","v":6.0909565536066614E-2},{"$f":"(AVERAGE('Corr. Matrix'!C25:AF25)-(1/30))*(30/29)","v":0.44676060755474351},{"$f":"AVERAGE($P$3:P22)","v":9.0903943188499176E-2},{"$f":"'Var-Cov Matrix'!F57","v":6.0103148600615192E-2}]
[null,null,null,null,null,null,null,null,null,null,null,null,null,21,{"$f":"'Var-Cov Matrix'!A25","v":"NFLX"},{"$f":"'Corr. Matrix'!B60","v":0.13474859502260558},{"$f":"(AVERAGE('Corr. Matrix'!C26:AF26)-(1/30))*(30/29)","v":0.25710098505231443},{"$f":"AVERAGE($P$3:P23)","v":9.2991783752028059E-2},{"$f":"'Var-Cov Matrix'!F58","v":6.0366211807055196E-2}]
[null,null,null,null,null,null,null,null,null,null,null,null,null,22,{"$f":"'Var-Cov Matrix'!A26","v":"PFE"},{"$f":"'Corr. Matrix'!B61","v":7.3450380618437547E-2},{"$f":"(AVERAGE('Corr. Matrix'!C27:AF27)-(1/30))*(30/29)","v":0.27751092890962592},{"$f":"AVERAGE($P$3:P24)","v":9.2103538155046669E-2},{"$f":"'Var-Cov Matrix'!F59","v":5.8952328367403641E-2}]
[null,null,null,null,null,null,null,null,null,null,null,null,null,23,{"$f":"'Var-Cov Matrix'!A27","v":"PG"},{"$f":"'Corr. Matrix'!B62","v":4.9717116609557868E-2},{"$f":"(AVERAGE('Corr. Matrix'!C28:AF28)-(1/30))*(30/29)","v":0.3099457362226723},{"$f":"AVERAGE($P$3:P25)","v":9.0260650261764552E-2},{"$f":"'Var-Cov Matrix'!F60","v":5.7327856336386915E-2}]
[null,null,null,null,null,null,null,null,null,null,null,null,null,24,{"$f":"'Var-Cov Matrix'!A28","v":"AAPL"},{"$f":"'Corr. Matrix'!B63","v":9.281806793198917E-2},{"$f":"(AVERAGE('Corr. Matrix'!C29:AF29)-(1/30))*(30/29)","v":0.40106117663287166},{"$f":"AVERAGE($P$3:P26)","v":9.0367209331357237E-2},{"$f":"'Var-Cov Matrix'!F61","v":5.7539591433675721E-2}]
[null,null,null,null,null,null,null,null,null,null,null,null,null,25,{"$f":"'Var-Cov Matrix'!A29","v":"PRU"},{"$f":"'Corr. Matrix'!B64","v":9.7754855367170407E-2},{"$f":"(AVERAGE('Corr. Matrix'!C30:AF30)-(1/30))*(30/29)","v":0.52671452076949021},{"$f":"AVERAGE($P$3:P27)","v":9.0662715172789773E-2},{"$f":"'Var-Cov Matrix'!F62","v":5.8495922537122824E-2}]
[null,null,null,null,null,null,null,null,null,null,null,null,null,26,{"$f":"'Var-Cov Matrix'!A30","v":"TFC"},{"$f":"'Corr. Matrix'!B65","v":8.8770477482780497E-2},{"$f":"(AVERAGE('Corr. Matrix'!C31:AF31)-(1/30))*(30/29)","v":0.43263528977409554},{"$f":"AVERAGE($P$3:P28)","v":9.0589936800097109E-2},{"$f":"'Var-Cov Matrix'!F63","v":5.8722426883146585E-2}]
[null,null,null,null,null,null,null,null,null,null,null,null,null,27,{"$f":"'Var-Cov Matrix'!A31","v":"VZ"},{"$f":"'Corr. Matrix'!B66","v":4.9784125660924106E-2},{"$f":"(AVERAGE('Corr. Matrix'!C32:AF32)-(1/30))*(30/29)","v":0.26466548703547366},{"$f":"AVERAGE($P$3:P29)","v":8.9078610461609226E-2},{"$f":"'Var-Cov Matrix'!F64","v":5.7254864048934005E-2}]
[null,null,null,null,null,null,null,null,null,null,null,null,null,28,{"$f":"'Var-Cov Matrix'!A32","v":"WMT"},{"$f":"'Corr. Matrix'!B67","v":5.8449748924474632E-2},{"$f":"(AVERAGE('Corr. Matrix'!C33:AF33)-(1/30))*(30/29)","v":0.29477974715398331},{"$f":"AVERAGE($P$3:P30)","v":8.7984722549568711E-2},{"$f":"'Var-Cov Matrix'!F65","v":5.6158185381228597E-2}]
[null,null,null,null,null,null,null,null,null,null,null,null,null,29,{"$f":"'Var-Cov Matrix'!A33","v":"XOM"},{"$f":"'Corr. Matrix'!B68","v":0.10014907516827225},{"$f":"(AVERAGE('Corr. Matrix'!C34:AF34)-(1/30))*(30/29)","v":0.40186606925743396},{"$f":"AVERAGE($P$3:P31)","v":8.8404182984696419E-2},{"$f":"'Var-Cov Matrix'!F66","v":5.6516495153879368E-2}]
[null,null,null,null,null,null,null,null,null,null,null,null,null,30,{"$f":"'Var-Cov Matrix'!A34","v":"AMZN"},{"$f":"'Corr. Matrix'!B69","v":9.4478294743733551E-2},{"$f":"(AVERAGE('Corr. Matrix'!C35:AF35)-(1/30))*(30/29)","v":0.32899044839887293},{"$f":"AVERAGE($P$3:P32)","v":8.8606653376664318E-2},{"$f":"'Var-Cov Matrix'!F67","v":5.6386623966854892E-2}]